PDS_VERSION_ID = PDS3
/* FILE DATA ELEMENTS */
RECORD_TYPE = UNDEFINED
/* POINTERS TO DATA OBJECTS */
^IMAGE = ("H5275_0000_BL4.TIF")
/* IDENTIFICATION DATA ELEMENTS */
DATA_SET_ID = "MEX-M-HRSC-4-REFDR-MAPPROJECT-EXT2-V4.0"
DATA_SET_NAME = "MARS EXPRESS HRSC MAP PROJECTED REFDR EXTENSION2 V4.0"
DETECTOR_ID = MEX_HRSC_BLUE
EVENT_TYPE = "MARS-REGIONAL-MAPPING-Vo-Te"
INSTRUMENT_HOST_ID = MEX
INSTRUMENT_HOST_NAME = "MARS EXPRESS"
INSTRUMENT_ID = HRSC
INSTRUMENT_NAME = "HIGH RESOLUTION STEREO CAMERA"
MISSION_NAME = "MARS EXPRESS"
MISSION_PHASE_NAME = ME_Phase_11
PROCESSING_LEVEL_ID = 4
PRODUCT_CREATION_TIME = 2023-02-01T12:09:47.000Z
PRODUCT_ID = "H5275_0000_BL4.TIF"
RELEASE_ID = 0001
REVISION_ID = 0000
/* QUALITY DATA ELEMENTS */
DATA_QUALITY_ID = 1
DATA_QUALITY_DESC = "Data calculated based on original SPICE kernels"
/* TIME DATA ELEMENTS */
SPACECRAFT_CLOCK_START_COUNT = "1/0150675241.07290"
SPACECRAFT_CLOCK_STOP_COUNT = "1/0150675551.63147"
START_TIME = 2008-02-09T22:15:01.457Z
STOP_TIME = 2008-02-09T22:18:47.296Z
/* ORBITAL DATA ELEMENTS */
ASCENDING_NODE_LONGITUDE = 118.42
MAXIMUM_RESOLUTION = 0.1146
FOOTPRINT_POINT_LATITUDE = (54.3162,54.2944,54.2717,54.2442, 54.2432,54.2598,53.9385,53.4579,53.1415 ,52.8252,52.5122,52.2026,51.7379, 51.4312,51.1283,50.8249,50.3713,50.0745 ,49.7774,49.4795,49.1859,48.8954, 48.6065,48.3153,47.8828,47.598,47.3127, 46.8852,46.6,46.3144,46.0283,45.742, 45.4558,45.1688,44.882,44.5946,44.3071, 44.0194,43.7318,43.2991,43.0106,42.722, 42.4328,42.0006,41.3948,40.9083,40.4223 ,40.0573,39.9356,39.9322,39.9452, 39.9536,39.9606,39.9608,39.9626,40.3285 ,40.8159,41.1813,41.668,42.0327,42.4655 ,42.7552,43.0447,43.4784,43.7673, 44.0559,44.3444,44.6326,44.9204,45.2082 ,45.4956,45.7829,46.0699,46.3566, 46.6431,46.9293,47.2153,47.501,47.7864, 48.072,48.5073,48.7994,49.0912,49.3837, 49.8315,50.1297,50.4278,50.8824,51.1874 ,51.4918,51.956,52.2666,52.577,52.8926, 53.2099,53.5269,53.8483,54.1715,54.333, 54.3162)
FOOTPRINT_POINT_LONGITUDE = (298.663,297.607,296.798,296.001, 295.976,295.961,296.003,296.065,296.103 ,296.141,296.178,296.213,296.265, 296.297,296.329,296.36,296.405,296.434, 296.461,296.489,296.515,296.54,296.566, 296.59,296.624,296.647,296.668,296.7, 296.721,296.741,296.761,296.781,296.8, 296.818,296.836,296.854,296.871,296.888 ,296.904,296.928,296.944,296.959, 296.974,296.995,297.024,297.046,297.067 ,297.082,297.087,297.087,297.689, 298.168,298.702,298.718,298.729,298.73, 298.732,298.735,298.737,298.739,298.742 ,298.743,298.744,298.746,298.747, 298.748,298.749,298.75,298.75,298.751, 298.751,298.752,298.752,298.753,298.754 ,298.754,298.754,298.755,298.755, 298.759,298.757,298.758,298.759,298.764 ,298.765,298.765,298.766,298.764, 298.766,298.767,298.77,298.768,298.768, 298.769,298.77,298.771,298.771,298.771, 298.771,298.663)
ORBIT_NUMBER = 5275
ORBITAL_ECCENTRICITY = 0.572
ORBITAL_INCLINATION = 86.73
ORBITAL_SEMIMAJOR_AXIS = 8706.88
PERIAPSIS_ALTITUDE = 333.1
PERIAPSIS_ARGUMENT_ANGLE = 150.34
PERIAPSIS_TIME = 2008-02-09T22:21:20.000Z
SPACECRAFT_ORIENTATION = (0.0,-1.0,0.0)
^MEX_ORIENTATION_DESC = "MEX_ORIENTATION_DESC.TXT"
SPACECRAFT_POINTING_MODE = ACROSSTRACK
^MEX_POINTING_DESC = "MEX_POINTING_DESC.TXT"
RIGHT_ASCENSION = -1e+32
DECLINATION = -1e+32
OFFSET_ANGLE = 0.75
SPACECRAFT_SOLAR_DISTANCE = 2.42983e+08
TARGET_NAME = MARS
/* CAMERA DATA ELEMENTS */
DETECTOR_TEMPERATURE = 18.1666
FOCAL_PLANE_TEMPERATURE = 8.1755
INST_CMPRS_NAME = "DISCRETE COSINE TRANSFORMATION (DCT)"
INST_CMPRS_RATIO = 16.5484
INST_CMPRS_QUALITY = 0
INST_CMPRS_QUANTZ_TBL_ID = 0
INSTRUMENT_TEMPERATURE = 11.234
LENS_TEMPERATURE = 8.5833
MACROPIXEL_SIZE = 8
MISSING_FRAMES = 0
PIXEL_SUBSAMPLING_FLAG = N
SIGNAL_CHAIN_ID = 2
/* RADIOMETRIC DATA ELEMENTS */
BANDWIDTH = 76.0
CENTER_FILTER_WAVELENGTH = 444.0
RADIANCE_OFFSET = 0.524384
RADIANCE_SCALING_FACTOR = 0.00209925
REFLECTANCE_SCALING_FACTOR = 0.000127341
MEX:REFLECTANCE_OFFSET = 0.0318092
/* IMAGE OBJECT DEFINITIONS */
OBJECT = IMAGE
  INTERCHANGE_FORMAT = BINARY
  LINES = 8535
  LINE_SAMPLES = 1057
  SAMPLE_TYPE = UNSIGNED_INTEGER
  SAMPLE_BITS = 8
  BANDS = 1
  BAND_STORAGE_TYPE = BAND_SEQUENTIAL
  MAXIMUM = 255
  MEAN = 124.846
  MINIMUM = 1
  STANDARD_DEVIATION = 46.2928
END_OBJECT = IMAGE
/* MAP OBJECT DEFINITIONS */
OBJECT = IMAGE_MAP_PROJECTION
  ^DATA_SET_MAP_PROJECTION_CATALOG= "DSMAP.CAT"
  A_AXIS_RADIUS = 3396.0
  B_AXIS_RADIUS = 3396.0
  C_AXIS_RADIUS = 3396.0
  CENTER_LATITUDE = 0.0
  CENTER_LONGITUDE = 298.0
  COORDINATE_SYSTEM_NAME = PLANETOGRAPHIC
  COORDINATE_SYSTEM_TYPE = "BODY-FIXED ROTATING"
  EASTERNMOST_LONGITUDE = 298.771
  FIRST_STANDARD_PARALLEL = "N/A"
  LINE_FIRST_PIXEL = 1
  LINE_LAST_PIXEL = 8535
  LINE_PROJECTION_OFFSET = 32206.8125
  MAP_PROJECTION_ROTATION = 0.0
  MAP_PROJECTION_TYPE = SINUSOIDAL
  MAP_RESOLUTION = 592.713803866667
  MAP_SCALE = 0.1
  MAXIMUM_LATITUDE = 54.333
  MINIMUM_LATITUDE = 39.9322
  POSITIVE_LONGITUDE_DIRECTION = EAST
  REFERENCE_LATITUDE = "N/A"
  REFERENCE_LONGITUDE = "N/A"
  SAMPLE_FIRST_PIXEL = 1
  SAMPLE_LAST_PIXEL = 1057
  SAMPLE_PROJECTION_OFFSET = 722.5625
  SECOND_STANDARD_PARALLEL = "N/A"
  WESTERNMOST_LONGITUDE = 295.961
END_OBJECT = IMAGE_MAP_PROJECTION
END
