PDS_VERSION_ID = PDS3
/* FILE DATA ELEMENTS */
RECORD_TYPE = UNDEFINED
/* POINTERS TO DATA OBJECTS */
^IMAGE = ("H5273_0000_S24.TIF")
/* IDENTIFICATION DATA ELEMENTS */
DATA_SET_ID = "MEX-M-HRSC-4-REFDR-MAPPROJECT-EXT2-V4.0"
DATA_SET_NAME = "MARS EXPRESS HRSC MAP PROJECTED REFDR EXTENSION2 V4.0"
DETECTOR_ID = MEX_HRSC_S2
EVENT_TYPE = "MARS-LOCAL-STEREO-Lc-La-Tc"
INSTRUMENT_HOST_ID = MEX
INSTRUMENT_HOST_NAME = "MARS EXPRESS"
INSTRUMENT_ID = HRSC
INSTRUMENT_NAME = "HIGH RESOLUTION STEREO CAMERA"
MISSION_NAME = "MARS EXPRESS"
MISSION_PHASE_NAME = ME_Phase_11
PROCESSING_LEVEL_ID = 4
PRODUCT_CREATION_TIME = 2023-02-01T12:09:47.000Z
PRODUCT_ID = "H5273_0000_S24.TIF"
RELEASE_ID = 0001
REVISION_ID = 0000
/* QUALITY DATA ELEMENTS */
DATA_QUALITY_ID = 1
DATA_QUALITY_DESC = "Data calculated based on original SPICE kernels"
/* TIME DATA ELEMENTS */
SPACECRAFT_CLOCK_START_COUNT = "1/0150626858.09054"
SPACECRAFT_CLOCK_STOP_COUNT = "1/0150627097.07723"
START_TIME = 2008-02-09T08:49:31.072Z
STOP_TIME = 2008-02-09T08:51:38.941Z
/* ORBITAL DATA ELEMENTS */
ASCENDING_NODE_LONGITUDE = 118.46
MAXIMUM_RESOLUTION = 0.0254
FOOTPRINT_POINT_LATITUDE = (-2.10212,-2.10127,-2.09981,-2.09858, -2.09634,-2.09468,-2.09259,-2.09024, -2.08766,-2.08486,-2.08187,-2.07865, -2.07435,-2.0739,-2.05385,-2.40924, -2.6469,-2.88617,-3.12766,-3.30832, -3.55329,-3.73744,-3.98586,-4.17485, -4.48605,-4.67272,-4.92296,-5.0494, -5.17449,-5.3008,-5.42852,-5.55564, -5.68239,-5.81037,-5.9391,-6.13179, -6.32649,-6.45545,-6.58524,-6.71683, -6.84717,-7.04007,-7.17248,-7.30751, -7.43765,-7.57116,-7.70412,-7.90351, -8.03679,-8.17174,-8.30845,-8.37726, -8.40625,-8.41335,-8.41961,-8.42316, -8.42693,-8.43423,-8.43889,-8.44271, -8.44622,-8.44716,-8.44876,-8.449, -8.44959,-8.31262,-8.10825,-7.97356, -7.83816,-7.63784,-7.50388,-7.37178, -7.23856,-7.10574,-6.97496,-6.84554, -6.71775,-6.58112,-6.44816,-6.24603, -6.04928,-5.91931,-5.72591,-5.41531, -5.16469,-5.03075,-4.89911,-4.77142, -4.52501,-4.35031,-4.10094,-3.85199, -3.60832,-3.36656,-3.0668,-2.82109, -2.46464,-2.16843,-2.10912,-2.10212)
FOOTPRINT_POINT_LONGITUDE = (138.234,138.09,137.884,137.74,137.513, 137.369,137.205,137.04,136.876,136.711, 136.547,136.382,136.175,136.155,136.139 ,136.124,136.113,136.102,136.091, 136.083,136.072,136.063,136.053,136.044 ,136.03,136.021,136.008,136.002,135.996 ,135.99,135.983,135.977,135.971,135.964 ,135.957,135.948,135.938,135.931, 135.924,135.917,135.91,135.899,135.892, 135.886,135.878,135.871,135.864,135.852 ,135.845,135.837,135.83,135.827,135.825 ,136.052,136.304,136.506,136.807, 137.084,137.285,137.587,137.788,138.04, 138.342,138.367,138.379,138.376,138.371 ,138.368,138.365,138.36,138.357,138.353 ,138.35,138.347,138.344,138.34,138.336, 138.335,138.332,138.33,138.327,138.324, 138.32,138.31,138.304,138.303,138.302, 138.3,138.294,138.286,138.281,138.276, 138.271,138.265,138.258,138.254,138.247 ,138.241,138.24,138.234)
ORBIT_NUMBER = 5273
ORBITAL_ECCENTRICITY = 0.572
ORBITAL_INCLINATION = 86.72
ORBITAL_SEMIMAJOR_AXIS = 8708.21
PERIAPSIS_ALTITUDE = 333.16
PERIAPSIS_ARGUMENT_ANGLE = 150.69
PERIAPSIS_TIME = 2008-02-09T08:40:12.000Z
SPACECRAFT_ORIENTATION = (0.0,-1.0,0.0)
^MEX_ORIENTATION_DESC = "MEX_ORIENTATION_DESC.TXT"
SPACECRAFT_POINTING_MODE = NADIR
^MEX_POINTING_DESC = "MEX_POINTING_DESC.TXT"
RIGHT_ASCENSION = -1e+32
DECLINATION = -1e+32
OFFSET_ANGLE = -1e+32
SPACECRAFT_SOLAR_DISTANCE = 2.42909e+08
TARGET_NAME = MARS
/* CAMERA DATA ELEMENTS */
DETECTOR_TEMPERATURE = 18.5744
FOCAL_PLANE_TEMPERATURE = 8.5833
INST_CMPRS_NAME = "DISCRETE COSINE TRANSFORMATION (DCT)"
INST_CMPRS_RATIO = 8.41287
INST_CMPRS_QUALITY = 0
INST_CMPRS_QUANTZ_TBL_ID = 0
INSTRUMENT_TEMPERATURE = 11.234
LENS_TEMPERATURE = 8.9911
MACROPIXEL_SIZE = 1
MISSING_FRAMES = 1
PIXEL_SUBSAMPLING_FLAG = N
SIGNAL_CHAIN_ID = 1
/* RADIOMETRIC DATA ELEMENTS */
BANDWIDTH = 178.0
CENTER_FILTER_WAVELENGTH = 679.0
RADIANCE_OFFSET = 2.84926
RADIANCE_SCALING_FACTOR = 0.0236121
REFLECTANCE_SCALING_FACTOR = 0.000737825
MEX:REFLECTANCE_OFFSET = 0.0890331
/* IMAGE OBJECT DEFINITIONS */
OBJECT = IMAGE
  INTERCHANGE_FORMAT = BINARY
  LINES = 15080
  LINE_SAMPLES = 5268
  SAMPLE_TYPE = UNSIGNED_INTEGER
  SAMPLE_BITS = 8
  BANDS = 1
  BAND_STORAGE_TYPE = BAND_SEQUENTIAL
  MAXIMUM = 255
  MEAN = 126.629
  MINIMUM = 1
  STANDARD_DEVIATION = 46.3639
END_OBJECT = IMAGE
/* MAP OBJECT DEFINITIONS */
OBJECT = IMAGE_MAP_PROJECTION
  ^DATA_SET_MAP_PROJECTION_CATALOG= "DSMAP.CAT"
  A_AXIS_RADIUS = 3396.0
  B_AXIS_RADIUS = 3396.0
  C_AXIS_RADIUS = 3396.0
  CENTER_LATITUDE = 0.0
  CENTER_LONGITUDE = 137.0
  COORDINATE_SYSTEM_NAME = PLANETOGRAPHIC
  COORDINATE_SYSTEM_TYPE = "BODY-FIXED ROTATING"
  EASTERNMOST_LONGITUDE = 138.379
  FIRST_STANDARD_PARALLEL = "N/A"
  LINE_FIRST_PIXEL = 1
  LINE_LAST_PIXEL = 15080
  LINE_PROJECTION_OFFSET = -4936.0
  MAP_PROJECTION_ROTATION = 0.0
  MAP_PROJECTION_TYPE = SINUSOIDAL
  MAP_RESOLUTION = 2370.85521546667
  MAP_SCALE = 0.025
  MAXIMUM_LATITUDE = -2.05385
  MINIMUM_LATITUDE = -8.449590000000001
  POSITIVE_LONGITUDE_DIRECTION = EAST
  REFERENCE_LATITUDE = "N/A"
  REFERENCE_LONGITUDE = "N/A"
  SAMPLE_FIRST_PIXEL = 1
  SAMPLE_LAST_PIXEL = 5268
  SAMPLE_PROJECTION_OFFSET = 2379.0
  SECOND_STANDARD_PARALLEL = "N/A"
  WESTERNMOST_LONGITUDE = 135.825
END_OBJECT = IMAGE_MAP_PROJECTION
END
