PDS_VERSION_ID = PDS3
/* FILE DATA ELEMENTS */
RECORD_TYPE = UNDEFINED
/* POINTERS TO DATA OBJECTS */
^IMAGE = ("H5254_0000_S14.TIF")
/* IDENTIFICATION DATA ELEMENTS */
DATA_SET_ID = "MEX-M-HRSC-4-REFDR-MAPPROJECT-EXT2-V4.0"
DATA_SET_NAME = "MARS EXPRESS HRSC MAP PROJECTED REFDR EXTENSION2 V4.0"
DETECTOR_ID = MEX_HRSC_S1
EVENT_TYPE = "MARS-REGIONAL-MAPPING-Vo-Te"
INSTRUMENT_HOST_ID = MEX
INSTRUMENT_HOST_NAME = "MARS EXPRESS"
INSTRUMENT_ID = HRSC
INSTRUMENT_NAME = "HIGH RESOLUTION STEREO CAMERA"
MISSION_NAME = "MARS EXPRESS"
MISSION_PHASE_NAME = ME_Phase_11
PROCESSING_LEVEL_ID = 4
PRODUCT_CREATION_TIME = 2023-02-01T12:09:47.000Z
PRODUCT_ID = "H5254_0000_S14.TIF"
RELEASE_ID = 0001
REVISION_ID = 0000
/* QUALITY DATA ELEMENTS */
DATA_QUALITY_ID = 1
DATA_QUALITY_DESC = "Data calculated based on original SPICE kernels"
/* TIME DATA ELEMENTS */
SPACECRAFT_CLOCK_START_COUNT = "1/0150158330.09059"
SPACECRAFT_CLOCK_STOP_COUNT = "1/0150158597.17595"
START_TIME = 2008-02-03T22:38:53.972Z
STOP_TIME = 2008-02-03T22:42:14.702Z
/* ORBITAL DATA ELEMENTS */
ASCENDING_NODE_LONGITUDE = 118.85
MAXIMUM_RESOLUTION = 0.0278
FOOTPRINT_POINT_LATITUDE = (28.3287,28.3185,28.3063,28.2891, 28.2886,28.2741,27.8895,27.3756,26.8606 ,26.2154,25.9573,25.6989,25.3114, 25.0524,24.7934,24.5341,24.1447,23.8851 ,23.6254,23.3652,23.1048,22.7141, 22.4535,22.1933,21.9326,21.5417,21.1504 ,20.7588,20.4977,20.2363,19.9748,19.713 ,19.3205,19.0587,18.7969,18.4041, 18.1422,17.8801,17.6179,17.3547,17.0835 ,16.8132,16.5442,16.2737,15.732,15.3253 ,15.1898,15.1505,15.1577,15.1696, 15.1755,15.1757,15.1762,15.4478,15.7188 ,15.9913,16.2636,16.5336,16.8049, 17.0739,17.4782,17.8708,18.1333,18.5266 ,18.7888,19.05,19.3126,19.5747,19.8369, 20.0989,20.4916,20.7533,21.0144,21.2759 ,21.6679,21.9293,22.1903,22.4513, 22.7119,22.973,23.2337,23.4946,23.7548, 24.0149,24.2749,24.5347,24.794,25.0534, 25.4422,25.7012,25.9598,26.2183,26.4768 ,26.7351,26.9932,27.2511,27.6317, 28.1518,28.2801,28.3287)
FOOTPRINT_POINT_LONGITUDE = (238.908,238.504,238.097,237.609, 237.596,237.584,237.594,237.606,237.617 ,237.63,237.635,237.64,237.647,237.651, 237.656,237.66,237.665,237.669,237.673, 237.676,237.679,237.684,237.686,237.689 ,237.692,237.696,237.699,237.702, 237.704,237.706,237.708,237.709,237.711 ,237.712,237.713,237.715,237.716, 237.716,237.717,237.717,237.717,237.718 ,237.719,237.719,237.718,237.718, 237.717,237.717,238.02,238.561,238.942, 238.953,238.958,238.957,238.956,238.955 ,238.954,238.954,238.953,238.952, 238.951,238.95,238.949,238.948,238.947, 238.946,238.946,238.945,238.944,238.943 ,238.942,238.941,238.94,238.939,238.938 ,238.937,238.936,238.935,238.934, 238.933,238.932,238.931,238.93,238.929, 238.928,238.927,238.926,238.925,238.923 ,238.922,238.921,238.92,238.919,238.918 ,238.916,238.915,238.914,238.911,238.91 ,238.908)
ORBIT_NUMBER = 5254
ORBITAL_ECCENTRICITY = 0.573
ORBITAL_INCLINATION = 86.73
ORBITAL_SEMIMAJOR_AXIS = 8721.07
PERIAPSIS_ALTITUDE = 330.39
PERIAPSIS_ARGUMENT_ANGLE = 154.0
PERIAPSIS_TIME = 2008-02-03T22:39:59.000Z
SPACECRAFT_ORIENTATION = (0.0,-1.0,0.0)
^MEX_ORIENTATION_DESC = "MEX_ORIENTATION_DESC.TXT"
SPACECRAFT_POINTING_MODE = ACROSSTRACK
^MEX_POINTING_DESC = "MEX_POINTING_DESC.TXT"
RIGHT_ASCENSION = -1e+32
DECLINATION = -1e+32
OFFSET_ANGLE = -0.3
SPACECRAFT_SOLAR_DISTANCE = 2.42189e+08
TARGET_NAME = MARS
/* CAMERA DATA ELEMENTS */
DETECTOR_TEMPERATURE = 17.351
FOCAL_PLANE_TEMPERATURE = 8.1755
INST_CMPRS_NAME = "DISCRETE COSINE TRANSFORMATION (DCT)"
INST_CMPRS_RATIO = 7.75015
INST_CMPRS_QUALITY = 0
INST_CMPRS_QUANTZ_TBL_ID = 0
INSTRUMENT_TEMPERATURE = 11.234
LENS_TEMPERATURE = 8.3794
MACROPIXEL_SIZE = 2
MISSING_FRAMES = 0
PIXEL_SUBSAMPLING_FLAG = N
SIGNAL_CHAIN_ID = 1
/* RADIOMETRIC DATA ELEMENTS */
BANDWIDTH = 180.0
CENTER_FILTER_WAVELENGTH = 677.0
RADIANCE_OFFSET = 4.26956
RADIANCE_SCALING_FACTOR = 0.0245918
REFLECTANCE_SCALING_FACTOR = 0.000752557
MEX:REFLECTANCE_OFFSET = 0.130657
/* IMAGE OBJECT DEFINITIONS */
OBJECT = IMAGE
  INTERCHANGE_FORMAT = BINARY
  LINES = 31185
  LINE_SAMPLES = 3081
  SAMPLE_TYPE = UNSIGNED_INTEGER
  SAMPLE_BITS = 8
  BANDS = 1
  BAND_STORAGE_TYPE = BAND_SEQUENTIAL
  MAXIMUM = 255
  MEAN = 151.658
  MINIMUM = 1
  STANDARD_DEVIATION = 15.7521
END_OBJECT = IMAGE
/* MAP OBJECT DEFINITIONS */
OBJECT = IMAGE_MAP_PROJECTION
  ^DATA_SET_MAP_PROJECTION_CATALOG= "DSMAP.CAT"
  A_AXIS_RADIUS = 3396.0
  B_AXIS_RADIUS = 3396.0
  C_AXIS_RADIUS = 3396.0
  CENTER_LATITUDE = 0.0
  CENTER_LONGITUDE = 238.0
  COORDINATE_SYSTEM_NAME = PLANETOGRAPHIC
  COORDINATE_SYSTEM_TYPE = "BODY-FIXED ROTATING"
  EASTERNMOST_LONGITUDE = 238.958
  FIRST_STANDARD_PARALLEL = "N/A"
  LINE_FIRST_PIXEL = 1
  LINE_LAST_PIXEL = 31185
  LINE_PROJECTION_OFFSET = 67067.75
  MAP_PROJECTION_ROTATION = 0.0
  MAP_PROJECTION_TYPE = SINUSOIDAL
  MAP_RESOLUTION = 2370.85521546667
  MAP_SCALE = 0.025
  MAXIMUM_LATITUDE = 28.3287
  MINIMUM_LATITUDE = 15.1505
  POSITIVE_LONGITUDE_DIRECTION = EAST
  REFERENCE_LATITUDE = "N/A"
  REFERENCE_LONGITUDE = "N/A"
  SAMPLE_FIRST_PIXEL = 1
  SAMPLE_LAST_PIXEL = 3081
  SAMPLE_PROJECTION_OFFSET = 856.75
  SECOND_STANDARD_PARALLEL = "N/A"
  WESTERNMOST_LONGITUDE = 237.584
END_OBJECT = IMAGE_MAP_PROJECTION
END
