PDS_VERSION_ID = PDS3
/* FILE DATA ELEMENTS */
RECORD_TYPE = UNDEFINED
/* POINTERS TO DATA OBJECTS */
^IMAGE = ("H5254_0000_GR4.TIF")
/* IDENTIFICATION DATA ELEMENTS */
DATA_SET_ID = "MEX-M-HRSC-4-REFDR-MAPPROJECT-EXT2-V4.0"
DATA_SET_NAME = "MARS EXPRESS HRSC MAP PROJECTED REFDR EXTENSION2 V4.0"
DETECTOR_ID = MEX_HRSC_GREEN
EVENT_TYPE = "MARS-REGIONAL-MAPPING-Vo-Te"
INSTRUMENT_HOST_ID = MEX
INSTRUMENT_HOST_NAME = "MARS EXPRESS"
INSTRUMENT_ID = HRSC
INSTRUMENT_NAME = "HIGH RESOLUTION STEREO CAMERA"
MISSION_NAME = "MARS EXPRESS"
MISSION_PHASE_NAME = ME_Phase_11
PROCESSING_LEVEL_ID = 4
PRODUCT_CREATION_TIME = 2023-02-01T12:09:47.000Z
PRODUCT_ID = "H5254_0000_GR4.TIF"
RELEASE_ID = 0001
REVISION_ID = 0000
/* QUALITY DATA ELEMENTS */
DATA_QUALITY_ID = 1
DATA_QUALITY_DESC = "Data calculated based on original SPICE kernels"
/* TIME DATA ELEMENTS */
SPACECRAFT_CLOCK_START_COUNT = "1/0150158330.09059"
SPACECRAFT_CLOCK_STOP_COUNT = "1/0150158597.17595"
START_TIME = 2008-02-03T22:39:19.000Z
STOP_TIME = 2008-02-03T22:42:40.598Z
/* ORBITAL DATA ELEMENTS */
ASCENDING_NODE_LONGITUDE = 118.85
MAXIMUM_RESOLUTION = 0.1051
FOOTPRINT_POINT_LATITUDE = (28.281,28.2739,28.2641,28.2639,28.2601 ,27.7397,27.2189,26.6979,26.4373, 26.1768,25.9161,25.6555,25.3948,25.1341 ,24.8734,24.6126,24.3519,24.0911, 23.8303,23.5695,23.3088,23.0479,22.7872 ,22.396,22.1354,21.8747,21.6141,21.3535 ,20.9627,20.7022,20.1814,19.6607, 19.1404,18.8758,18.6072,18.3386,18.0701 ,17.8017,17.5334,17.2653,16.9972, 16.7294,16.4618,16.1941,15.9266,15.6591 ,15.3918,15.2582,15.128,15.1293,15.1305 ,15.1304,15.1303,15.132,15.3995,15.667, 15.9349,16.2029,16.4708,16.7389,17.0068 ,17.2751,17.8119,18.215,18.4838,18.7527 ,19.0215,19.5424,19.803,20.0636,20.3243 ,20.585,20.9761,21.2369,21.4978,21.8893 ,22.1502,22.4112,22.6722,22.9334,23.325 ,23.5861,23.8472,24.1083,24.3694, 24.6305,24.8915,25.1526,25.4136,25.6746 ,25.9356,26.327,26.5879,26.8488,27.1096 ,27.3705,27.7615,28.0222,28.1525, 28.281)
FOOTPRINT_POINT_LONGITUDE = (238.902,238.252,237.631,237.618, 237.605,237.617,237.628,237.638,237.643 ,237.648,237.653,237.657,237.662, 237.666,237.67,237.673,237.677,237.681, 237.684,237.687,237.69,237.693,237.695, 237.699,237.702,237.704,237.706,237.708 ,237.711,237.713,237.716,237.718,237.72 ,237.721,237.722,237.722,237.723, 237.723,237.723,237.723,237.723,237.723 ,237.724,237.723,237.723,237.722, 237.722,237.721,237.721,238.05,238.6, 238.948,238.96,238.968,238.967,238.966, 238.964,238.963,238.962,238.961,238.96, 238.959,238.957,238.955,238.954,238.953 ,238.952,238.949,238.948,238.947, 238.946,238.945,238.943,238.942,238.94, 238.938,238.937,238.936,238.935,238.933 ,238.931,238.93,238.929,238.927,238.926 ,238.924,238.923,238.922,238.92,238.919 ,238.917,238.915,238.914,238.912, 238.911,238.909,238.907,238.905,238.904 ,238.902)
ORBIT_NUMBER = 5254
ORBITAL_ECCENTRICITY = 0.573
ORBITAL_INCLINATION = 86.73
ORBITAL_SEMIMAJOR_AXIS = 8721.07
PERIAPSIS_ALTITUDE = 330.39
PERIAPSIS_ARGUMENT_ANGLE = 154.0
PERIAPSIS_TIME = 2008-02-03T22:39:59.000Z
SPACECRAFT_ORIENTATION = (0.0,-1.0,0.0)
^MEX_ORIENTATION_DESC = "MEX_ORIENTATION_DESC.TXT"
SPACECRAFT_POINTING_MODE = ACROSSTRACK
^MEX_POINTING_DESC = "MEX_POINTING_DESC.TXT"
RIGHT_ASCENSION = -1e+32
DECLINATION = -1e+32
OFFSET_ANGLE = -0.3
SPACECRAFT_SOLAR_DISTANCE = 2.42189e+08
TARGET_NAME = MARS
/* CAMERA DATA ELEMENTS */
DETECTOR_TEMPERATURE = 17.9627
FOCAL_PLANE_TEMPERATURE = 8.1755
INST_CMPRS_NAME = "DISCRETE COSINE TRANSFORMATION (DCT)"
INST_CMPRS_RATIO = 13.265
INST_CMPRS_QUALITY = 0
INST_CMPRS_QUANTZ_TBL_ID = 0
INSTRUMENT_TEMPERATURE = 11.234
LENS_TEMPERATURE = 8.3794
MACROPIXEL_SIZE = 8
MISSING_FRAMES = 0
PIXEL_SUBSAMPLING_FLAG = N
SIGNAL_CHAIN_ID = 2
/* RADIOMETRIC DATA ELEMENTS */
BANDWIDTH = 88.0
CENTER_FILTER_WAVELENGTH = 538.0
RADIANCE_OFFSET = 1.19167
RADIANCE_SCALING_FACTOR = 0.00639493
REFLECTANCE_SCALING_FACTOR = 0.000322948
MEX:REFLECTANCE_OFFSET = 0.06018
/* IMAGE OBJECT DEFINITIONS */
OBJECT = IMAGE
  INTERCHANGE_FORMAT = BINARY
  LINES = 7797
  LINE_SAMPLES = 771
  SAMPLE_TYPE = UNSIGNED_INTEGER
  SAMPLE_BITS = 8
  BANDS = 1
  BAND_STORAGE_TYPE = BAND_SEQUENTIAL
  MAXIMUM = 255
  MEAN = 147.204
  MINIMUM = 1
  STANDARD_DEVIATION = 15.7955
END_OBJECT = IMAGE
/* MAP OBJECT DEFINITIONS */
OBJECT = IMAGE_MAP_PROJECTION
  ^DATA_SET_MAP_PROJECTION_CATALOG= "DSMAP.CAT"
  A_AXIS_RADIUS = 3396.0
  B_AXIS_RADIUS = 3396.0
  C_AXIS_RADIUS = 3396.0
  CENTER_LATITUDE = 0.0
  CENTER_LONGITUDE = 238.0
  COORDINATE_SYSTEM_NAME = PLANETOGRAPHIC
  COORDINATE_SYSTEM_TYPE = "BODY-FIXED ROTATING"
  EASTERNMOST_LONGITUDE = 238.968
  FIRST_STANDARD_PARALLEL = "N/A"
  LINE_FIRST_PIXEL = 1
  LINE_LAST_PIXEL = 7797
  LINE_PROJECTION_OFFSET = 16766.5625
  MAP_PROJECTION_ROTATION = 0.0
  MAP_PROJECTION_TYPE = SINUSOIDAL
  MAP_RESOLUTION = 592.713803866667
  MAP_SCALE = 0.1
  MAXIMUM_LATITUDE = 28.281
  MINIMUM_LATITUDE = 15.128
  POSITIVE_LONGITUDE_DIRECTION = EAST
  REFERENCE_LATITUDE = "N/A"
  REFERENCE_LONGITUDE = "N/A"
  SAMPLE_FIRST_PIXEL = 1
  SAMPLE_LAST_PIXEL = 771
  SAMPLE_PROJECTION_OFFSET = 213.8125
  SECOND_STANDARD_PARALLEL = "N/A"
  WESTERNMOST_LONGITUDE = 237.605
END_OBJECT = IMAGE_MAP_PROJECTION
END
