PDS_VERSION_ID = PDS3
/* FILE DATA ELEMENTS */
RECORD_TYPE = UNDEFINED
/* POINTERS TO DATA OBJECTS */
^IMAGE = ("H5252_0000_IR4.TIF")
/* IDENTIFICATION DATA ELEMENTS */
DATA_SET_ID = "MEX-M-HRSC-4-REFDR-MAPPROJECT-EXT2-V4.0"
DATA_SET_NAME = "MARS EXPRESS HRSC MAP PROJECTED REFDR EXTENSION2 V4.0"
DETECTOR_ID = MEX_HRSC_IR
EVENT_TYPE = "MARS-REGIONAL-MAPPING-Vo-Im-Eo"
INSTRUMENT_HOST_ID = MEX
INSTRUMENT_HOST_NAME = "MARS EXPRESS"
INSTRUMENT_ID = HRSC
INSTRUMENT_NAME = "HIGH RESOLUTION STEREO CAMERA"
MISSION_NAME = "MARS EXPRESS"
MISSION_PHASE_NAME = ME_Phase_11
PROCESSING_LEVEL_ID = 4
PRODUCT_CREATION_TIME = 2023-02-01T12:09:47.000Z
PRODUCT_ID = "H5252_0000_IR4.TIF"
RELEASE_ID = 0001
REVISION_ID = 0000
/* QUALITY DATA ELEMENTS */
DATA_QUALITY_ID = 1
DATA_QUALITY_DESC = "Data calculated based on original SPICE kernels"
/* TIME DATA ELEMENTS */
SPACECRAFT_CLOCK_START_COUNT = "1/0150109156.08242"
SPACECRAFT_CLOCK_STOP_COUNT = "1/0150109497.58061"
START_TIME = 2008-02-03T08:59:24.955Z
STOP_TIME = 2008-02-03T09:03:47.354Z
/* ORBITAL DATA ELEMENTS */
ASCENDING_NODE_LONGITUDE = 118.89
MAXIMUM_RESOLUTION = 0.1102
FOOTPRINT_POINT_LATITUDE = (22.4073,22.4084,22.4056,22.4055, 22.3877,22.0503,21.7147,21.3836,21.0462 ,20.7086,20.3718,19.8659,19.5292,19.19, 18.6839,18.0183,17.6723,17.3341,16.9951 ,16.6484,16.1277,15.7805,15.4308, 14.9084,14.5602,14.0388,13.6911,13.3435 ,12.8226,12.4743,12.1265,11.6052, 11.2567,10.9095,10.3888,10.0418,9.5212, 9.00147,8.65452,8.30927,7.96324,7.44386 ,7.09747,6.75379,6.40832,5.89417, 5.37672,5.20423,5.16637,5.16017,5.15021 ,5.15005,5.15165,5.49594,6.01199,6.3568 ,6.69942,7.04457,7.39006,7.73444, 8.08138,8.4275,8.77427,9.12084,9.46819, 9.81489,10.1627,10.6845,11.0335,11.3819 ,11.7292,12.0779,12.4258,12.9478, 13.2965,13.6443,14.1659,14.5146,14.8633 ,15.3862,15.7354,16.0836,16.4323,16.955 ,17.2923,17.6301,17.9674,18.3056, 18.6439,18.9818,19.4859,19.8228,20.1601 ,20.4991,21.0069,21.3452,21.6798, 22.1846,22.3536,22.4073)
FOOTPRINT_POINT_LONGITUDE = (79.431,78.8786,78.224,78.2126,78.2011, 78.2027,78.2047,78.2082,78.2093,78.2101 ,78.2111,78.212,78.2126,78.2122,78.2121 ,78.2148,78.2112,78.2102,78.2087, 78.2077,78.2065,78.2054,78.2033,78.2005 ,78.1984,78.1953,78.1929,78.1903, 78.1863,78.183,78.1797,78.1745,78.1704, 78.1666,78.1604,78.1561,78.1493,78.1422 ,78.1371,78.1323,78.1271,78.1187, 78.1127,78.1075,78.1014,78.0933,78.0835 ,78.0801,78.0793,78.7917,79.4434, 79.4564,79.4651,79.4641,79.463,79.4622, 79.4623,79.4615,79.4608,79.4606,79.4595 ,79.4589,79.4581,79.4574,79.4566, 79.4561,79.4553,79.4541,79.453,79.4522, 79.4519,79.4512,79.4508,79.4502,79.4497 ,79.4495,79.4494,79.4489,79.4485,79.448 ,79.4475,79.4473,79.447,79.4465,79.4462 ,79.4457,79.4455,79.4448,79.4441, 79.4435,79.4438,79.4436,79.4431,79.4419 ,79.4402,79.4391,79.4397,79.439,79.4384 ,79.431)
ORBIT_NUMBER = 5252
ORBITAL_ECCENTRICITY = 0.573
ORBITAL_INCLINATION = 86.74
ORBITAL_SEMIMAJOR_AXIS = 8716.63
PERIAPSIS_ALTITUDE = 329.96
PERIAPSIS_ARGUMENT_ANGLE = 154.37
PERIAPSIS_TIME = 2008-02-03T08:58:59.000Z
SPACECRAFT_ORIENTATION = (0.0,-1.0,0.0)
^MEX_ORIENTATION_DESC = "MEX_ORIENTATION_DESC.TXT"
SPACECRAFT_POINTING_MODE = ACROSSTRACK
^MEX_POINTING_DESC = "MEX_POINTING_DESC.TXT"
RIGHT_ASCENSION = -1e+32
DECLINATION = -1e+32
OFFSET_ANGLE = 0.05
SPACECRAFT_SOLAR_DISTANCE = 2.42111e+08
TARGET_NAME = MARS
/* CAMERA DATA ELEMENTS */
DETECTOR_TEMPERATURE = 17.351
FOCAL_PLANE_TEMPERATURE = 8.1755
INST_CMPRS_NAME = "DISCRETE COSINE TRANSFORMATION (DCT)"
INST_CMPRS_RATIO = 13.6393
INST_CMPRS_QUALITY = 0
INST_CMPRS_QUANTZ_TBL_ID = 0
INSTRUMENT_TEMPERATURE = 11.0301
LENS_TEMPERATURE = 8.7872
MACROPIXEL_SIZE = 8
MISSING_FRAMES = 0
PIXEL_SUBSAMPLING_FLAG = N
SIGNAL_CHAIN_ID = 2
/* RADIOMETRIC DATA ELEMENTS */
BANDWIDTH = 81.0
CENTER_FILTER_WAVELENGTH = 955.5
RADIANCE_OFFSET = 0.611334
RADIANCE_SCALING_FACTOR = 0.00578193
REFLECTANCE_SCALING_FACTOR = 0.000731189
MEX:REFLECTANCE_OFFSET = 0.0773099
/* IMAGE OBJECT DEFINITIONS */
OBJECT = IMAGE
  INTERCHANGE_FORMAT = BINARY
  LINES = 10229
  LINE_SAMPLES = 859
  SAMPLE_TYPE = UNSIGNED_INTEGER
  SAMPLE_BITS = 8
  BANDS = 1
  BAND_STORAGE_TYPE = BAND_SEQUENTIAL
  MAXIMUM = 255
  MEAN = 111.594
  MINIMUM = 1
  STANDARD_DEVIATION = 49.515
END_OBJECT = IMAGE
/* MAP OBJECT DEFINITIONS */
OBJECT = IMAGE_MAP_PROJECTION
  ^DATA_SET_MAP_PROJECTION_CATALOG= "DSMAP.CAT"
  A_AXIS_RADIUS = 3396.0
  B_AXIS_RADIUS = 3396.0
  C_AXIS_RADIUS = 3396.0
  CENTER_LATITUDE = 0.0
  CENTER_LONGITUDE = 79.0
  COORDINATE_SYSTEM_NAME = PLANETOGRAPHIC
  COORDINATE_SYSTEM_TYPE = "BODY-FIXED ROTATING"
  EASTERNMOST_LONGITUDE = 79.46510000000001
  FIRST_STANDARD_PARALLEL = "N/A"
  LINE_FIRST_PIXEL = 1
  LINE_LAST_PIXEL = 10229
  LINE_PROJECTION_OFFSET = 13278.8125
  MAP_PROJECTION_ROTATION = 0.0
  MAP_PROJECTION_TYPE = SINUSOIDAL
  MAP_RESOLUTION = 592.713803866667
  MAP_SCALE = 0.1
  MAXIMUM_LATITUDE = 22.4084
  MINIMUM_LATITUDE = 5.15005
  POSITIVE_LONGITUDE_DIRECTION = EAST
  REFERENCE_LATITUDE = "N/A"
  REFERENCE_LONGITUDE = "N/A"
  SAMPLE_FIRST_PIXEL = 1
  SAMPLE_LAST_PIXEL = 859
  SAMPLE_PROJECTION_OFFSET = 567.8125
  SECOND_STANDARD_PARALLEL = "N/A"
  WESTERNMOST_LONGITUDE = 78.0793
END_OBJECT = IMAGE_MAP_PROJECTION
END
