PDS_VERSION_ID = PDS3
/* FILE DATA ELEMENTS */
RECORD_TYPE = UNDEFINED
/* POINTERS TO DATA OBJECTS */
^IMAGE = ("H5250_0000_S24.TIF")
/* IDENTIFICATION DATA ELEMENTS */
DATA_SET_ID = "MEX-M-HRSC-4-REFDR-MAPPROJECT-EXT2-V4.0"
DATA_SET_NAME = "MARS EXPRESS HRSC MAP PROJECTED REFDR EXTENSION2 V4.0"
DETECTOR_ID = MEX_HRSC_S2
EVENT_TYPE = "MARS-REGIONAL-MAPPING-Vo-Fl-Gl"
INSTRUMENT_HOST_ID = MEX
INSTRUMENT_HOST_NAME = "MARS EXPRESS"
INSTRUMENT_ID = HRSC
INSTRUMENT_NAME = "HIGH RESOLUTION STEREO CAMERA"
MISSION_NAME = "MARS EXPRESS"
MISSION_PHASE_NAME = ME_Phase_11
PROCESSING_LEVEL_ID = 4
PRODUCT_CREATION_TIME = 2023-02-01T12:09:47.000Z
PRODUCT_ID = "H5250_0000_S24.TIF"
RELEASE_ID = 0001
REVISION_ID = 0000
/* QUALITY DATA ELEMENTS */
DATA_QUALITY_ID = 1
DATA_QUALITY_DESC = "Data calculated based on original SPICE kernels"
/* TIME DATA ELEMENTS */
SPACECRAFT_CLOCK_START_COUNT = "1/0150059914.09079"
SPACECRAFT_CLOCK_STOP_COUNT = "1/0150060198.24087"
START_TIME = 2008-02-02T19:19:37.677Z
STOP_TIME = 2008-02-02T19:23:20.193Z
/* ORBITAL DATA ELEMENTS */
ASCENDING_NODE_LONGITUDE = 118.93
MAXIMUM_RESOLUTION = 0.0288
FOOTPRINT_POINT_LATITUDE = (20.9215,20.921,20.9207,20.9204,20.9204 ,20.9335,20.6583,20.3834,19.9603, 19.6768,19.2522,18.9698,18.6871,18.4049 ,18.1232,17.8418,17.5612,17.1405, 16.8607,16.5813,16.3023,16.024,15.7456, 15.4677,15.0512,14.7746,14.4982,14.2223 ,13.9471,13.6722,13.2606,12.9867, 12.7135,12.4405,12.168,11.76,11.4888, 11.2184,10.9479,10.6781,10.4087,10.14, 9.87183,9.60402,9.06978,8.53826,8.00866 ,7.34936,7.21801,7.18129,7.17651, 7.17472,7.17438,7.17431,7.17468,7.70075 ,8.36228,9.02808,9.42692,9.96231, 10.3653,10.6344,10.9047,11.1749,11.4461 ,11.7171,11.9892,12.2615,12.534,12.807, 13.0807,13.355,13.6296,13.9047,14.1802, 14.4563,14.7326,15.0095,15.2869,15.5646 ,15.8429,16.1216,16.4007,16.6803, 16.9602,17.2423,17.5211,17.8023,18.0836 ,18.3655,18.6477,18.9303,19.2133, 19.4966,19.7802,20.0642,20.4845,20.7598 ,20.8976,20.9215)
FOOTPRINT_POINT_LONGITUDE = (279.503,279.026,278.683,278.255, 278.242,278.234,278.235,278.235,278.236 ,278.236,278.236,278.236,278.236, 278.235,278.234,278.234,278.233,278.231 ,278.23,278.228,278.227,278.225,278.223 ,278.221,278.218,278.216,278.214, 278.211,278.208,278.206,278.201,278.198 ,278.195,278.191,278.188,278.183, 278.179,278.175,278.171,278.167,278.163 ,278.158,278.154,278.149,278.14,278.13, 278.12,278.106,278.104,278.103,278.674, 279.16,279.561,279.575,279.581,279.576, 279.571,279.567,279.563,279.56,279.557, 279.555,279.553,279.552,279.55,279.548, 279.547,279.545,279.544,279.542,279.541 ,279.539,279.538,279.536,279.535, 279.534,279.532,279.531,279.53,279.528, 279.527,279.526,279.525,279.524,279.523 ,279.522,279.52,279.519,279.518,279.517 ,279.516,279.515,279.514,279.513, 279.512,279.511,279.509,279.508,279.508 ,279.503)
ORBIT_NUMBER = 5250
ORBITAL_ECCENTRICITY = 0.573
ORBITAL_INCLINATION = 86.72
ORBITAL_SEMIMAJOR_AXIS = 8718.55
PERIAPSIS_ALTITUDE = 330.17
PERIAPSIS_ARGUMENT_ANGLE = 154.74
PERIAPSIS_TIME = 2008-02-02T19:18:01.000Z
SPACECRAFT_ORIENTATION = (0.0,-1.0,0.0)
^MEX_ORIENTATION_DESC = "MEX_ORIENTATION_DESC.TXT"
SPACECRAFT_POINTING_MODE = NADIR
^MEX_POINTING_DESC = "MEX_POINTING_DESC.TXT"
RIGHT_ASCENSION = -1e+32
DECLINATION = -1e+32
OFFSET_ANGLE = -1e+32
SPACECRAFT_SOLAR_DISTANCE = 2.42033e+08
TARGET_NAME = MARS
/* CAMERA DATA ELEMENTS */
DETECTOR_TEMPERATURE = 18.1666
FOCAL_PLANE_TEMPERATURE = 7.7677
INST_CMPRS_NAME = "DISCRETE COSINE TRANSFORMATION (DCT)"
INST_CMPRS_RATIO = 8.91217
INST_CMPRS_QUALITY = 0
INST_CMPRS_QUANTZ_TBL_ID = 0
INSTRUMENT_TEMPERATURE = 10.8262
LENS_TEMPERATURE = 8.1755
MACROPIXEL_SIZE = 2
MISSING_FRAMES = 0
PIXEL_SUBSAMPLING_FLAG = N
SIGNAL_CHAIN_ID = 1
/* RADIOMETRIC DATA ELEMENTS */
BANDWIDTH = 178.0
CENTER_FILTER_WAVELENGTH = 679.0
RADIANCE_OFFSET = 4.74287
RADIANCE_SCALING_FACTOR = 0.018869
REFLECTANCE_SCALING_FACTOR = 0.000585367
MEX:REFLECTANCE_OFFSET = 0.147136
/* IMAGE OBJECT DEFINITIONS */
OBJECT = IMAGE
  INTERCHANGE_FORMAT = BINARY
  LINES = 32636
  LINE_SAMPLES = 3275
  SAMPLE_TYPE = UNSIGNED_INTEGER
  SAMPLE_BITS = 8
  BANDS = 1
  BAND_STORAGE_TYPE = BAND_SEQUENTIAL
  MAXIMUM = 255
  MEAN = 162.298
  MINIMUM = 1
  STANDARD_DEVIATION = 10.2081
END_OBJECT = IMAGE
/* MAP OBJECT DEFINITIONS */
OBJECT = IMAGE_MAP_PROJECTION
  ^DATA_SET_MAP_PROJECTION_CATALOG= "DSMAP.CAT"
  A_AXIS_RADIUS = 3396.0
  B_AXIS_RADIUS = 3396.0
  C_AXIS_RADIUS = 3396.0
  CENTER_LATITUDE = 0.0
  CENTER_LONGITUDE = 279.0
  COORDINATE_SYSTEM_NAME = PLANETOGRAPHIC
  COORDINATE_SYSTEM_TYPE = "BODY-FIXED ROTATING"
  EASTERNMOST_LONGITUDE = 279.581
  FIRST_STANDARD_PARALLEL = "N/A"
  LINE_FIRST_PIXEL = 1
  LINE_LAST_PIXEL = 32636
  LINE_PROJECTION_OFFSET = 49646.25
  MAP_PROJECTION_ROTATION = 0.0
  MAP_PROJECTION_TYPE = SINUSOIDAL
  MAP_RESOLUTION = 2370.85521546667
  MAP_SCALE = 0.025
  MAXIMUM_LATITUDE = 20.9335
  MINIMUM_LATITUDE = 7.17431
  POSITIVE_LONGITUDE_DIRECTION = EAST
  REFERENCE_LATITUDE = "N/A"
  REFERENCE_LONGITUDE = "N/A"
  SAMPLE_FIRST_PIXEL = 1
  SAMPLE_LAST_PIXEL = 3275
  SAMPLE_PROJECTION_OFFSET = 2010.25
  SECOND_STANDARD_PARALLEL = "N/A"
  WESTERNMOST_LONGITUDE = 278.103
END_OBJECT = IMAGE_MAP_PROJECTION
END
