PDS_VERSION_ID = PDS3
/* FILE DATA ELEMENTS */
RECORD_TYPE = UNDEFINED
/* POINTERS TO DATA OBJECTS */
^IMAGE = ("H5250_0000_IR4.TIF")
/* IDENTIFICATION DATA ELEMENTS */
DATA_SET_ID = "MEX-M-HRSC-4-REFDR-MAPPROJECT-EXT2-V4.0"
DATA_SET_NAME = "MARS EXPRESS HRSC MAP PROJECTED REFDR EXTENSION2 V4.0"
DETECTOR_ID = MEX_HRSC_IR
EVENT_TYPE = "MARS-REGIONAL-MAPPING-Vo-Fl-Gl"
INSTRUMENT_HOST_ID = MEX
INSTRUMENT_HOST_NAME = "MARS EXPRESS"
INSTRUMENT_ID = HRSC
INSTRUMENT_NAME = "HIGH RESOLUTION STEREO CAMERA"
MISSION_NAME = "MARS EXPRESS"
MISSION_PHASE_NAME = ME_Phase_11
PROCESSING_LEVEL_ID = 4
PRODUCT_CREATION_TIME = 2023-02-01T12:09:47.000Z
PRODUCT_ID = "H5250_0000_IR4.TIF"
RELEASE_ID = 0001
REVISION_ID = 0000
/* QUALITY DATA ELEMENTS */
DATA_QUALITY_ID = 1
DATA_QUALITY_DESC = "Data calculated based on original SPICE kernels"
/* TIME DATA ELEMENTS */
SPACECRAFT_CLOCK_START_COUNT = "1/0150059914.09079"
SPACECRAFT_CLOCK_STOP_COUNT = "1/0150060198.24087"
START_TIME = 2008-02-02T19:18:42.931Z
STOP_TIME = 2008-02-02T19:22:11.963Z
/* ORBITAL DATA ELEMENTS */
ASCENDING_NODE_LONGITUDE = 118.93
MAXIMUM_RESOLUTION = 0.1103
FOOTPRINT_POINT_LATITUDE = (20.9499,20.9499,20.9456,20.9455, 20.9334,20.5353,20.2699,19.8718,19.6062 ,19.3407,19.0749,18.6764,18.4109, 18.1451,17.8792,17.6131,17.3471,17.0811 ,16.815,16.5443,16.2692,15.9939,15.7189 ,15.3066,14.894,14.4813,14.0685,13.7932 ,13.5183,13.243,12.968,12.6927,12.2803, 11.868,11.5932,11.3181,10.9061,10.4941, 10.2194,9.94476,9.67025,9.39597,8.98462 ,8.57304,8.2991,7.88806,7.61424,7.3405, 7.20367,7.19847,7.19672,7.1944,7.18755, 7.18742,7.18907,7.46328,7.73748,8.14871 ,8.42295,8.69758,8.97248,9.24696, 9.52184,9.93395,10.209,10.4838,10.8962, 11.1713,11.4462,11.7217,11.9967,12.272, 12.5476,12.9607,13.3737,13.6492,13.9245 ,14.2,14.6131,14.8886,15.1639,15.577, 15.99,16.4029,16.8115,17.0764,17.344, 17.7434,18.0095,18.4087,18.6748,19.0736 ,19.3395,19.6053,19.8711,20.1368, 20.5352,20.8008,20.9338,20.9499)
FOOTPRINT_POINT_LONGITUDE = (279.485,279.005,278.286,278.274, 278.264,278.266,278.268,278.269,278.27, 278.271,278.271,278.272,278.272,278.273 ,278.273,278.273,278.272,278.272, 278.272,278.271,278.271,278.27,278.269, 278.267,278.265,278.263,278.261,278.259 ,278.257,278.255,278.253,278.25,278.247 ,278.243,278.24,278.238,278.233,278.229 ,278.225,278.222,278.218,278.215, 278.209,278.203,278.199,278.193,278.189 ,278.184,278.182,278.182,278.605, 278.943,279.494,279.507,279.515,279.514 ,279.513,279.512,279.511,279.51,279.509 ,279.508,279.507,279.506,279.505, 279.505,279.504,279.503,279.503,279.502 ,279.501,279.501,279.5,279.499,279.498, 279.498,279.497,279.497,279.496,279.496 ,279.495,279.495,279.494,279.494, 279.493,279.494,279.493,279.492,279.492 ,279.492,279.491,279.491,279.491, 279.491,279.491,279.49,279.49,279.49, 279.489,279.485)
ORBIT_NUMBER = 5250
ORBITAL_ECCENTRICITY = 0.573
ORBITAL_INCLINATION = 86.72
ORBITAL_SEMIMAJOR_AXIS = 8718.55
PERIAPSIS_ALTITUDE = 330.17
PERIAPSIS_ARGUMENT_ANGLE = 154.74
PERIAPSIS_TIME = 2008-02-02T19:18:01.000Z
SPACECRAFT_ORIENTATION = (0.0,-1.0,0.0)
^MEX_ORIENTATION_DESC = "MEX_ORIENTATION_DESC.TXT"
SPACECRAFT_POINTING_MODE = NADIR
^MEX_POINTING_DESC = "MEX_POINTING_DESC.TXT"
RIGHT_ASCENSION = -1e+32
DECLINATION = -1e+32
OFFSET_ANGLE = -1e+32
SPACECRAFT_SOLAR_DISTANCE = 2.42033e+08
TARGET_NAME = MARS
/* CAMERA DATA ELEMENTS */
DETECTOR_TEMPERATURE = 17.1471
FOCAL_PLANE_TEMPERATURE = 7.7677
INST_CMPRS_NAME = "DISCRETE COSINE TRANSFORMATION (DCT)"
INST_CMPRS_RATIO = 19.2319
INST_CMPRS_QUALITY = 0
INST_CMPRS_QUANTZ_TBL_ID = 0
INSTRUMENT_TEMPERATURE = 10.8262
LENS_TEMPERATURE = 8.1755
MACROPIXEL_SIZE = 8
MISSING_FRAMES = 0
PIXEL_SUBSAMPLING_FLAG = N
SIGNAL_CHAIN_ID = 2
/* RADIOMETRIC DATA ELEMENTS */
BANDWIDTH = 81.0
CENTER_FILTER_WAVELENGTH = 955.5
RADIANCE_OFFSET = 1.27661
RADIANCE_SCALING_FACTOR = 0.00507682
REFLECTANCE_SCALING_FACTOR = 0.000641605
MEX:REFLECTANCE_OFFSET = 0.161337
/* IMAGE OBJECT DEFINITIONS */
OBJECT = IMAGE
  INTERCHANGE_FORMAT = BINARY
  LINES = 8159
  LINE_SAMPLES = 819
  SAMPLE_TYPE = UNSIGNED_INTEGER
  SAMPLE_BITS = 8
  BANDS = 1
  BAND_STORAGE_TYPE = BAND_SEQUENTIAL
  MAXIMUM = 255
  MEAN = 165.037
  MINIMUM = 1
  STANDARD_DEVIATION = 10.8624
END_OBJECT = IMAGE
/* MAP OBJECT DEFINITIONS */
OBJECT = IMAGE_MAP_PROJECTION
  ^DATA_SET_MAP_PROJECTION_CATALOG= "DSMAP.CAT"
  A_AXIS_RADIUS = 3396.0
  B_AXIS_RADIUS = 3396.0
  C_AXIS_RADIUS = 3396.0
  CENTER_LATITUDE = 0.0
  CENTER_LONGITUDE = 279.0
  COORDINATE_SYSTEM_NAME = PLANETOGRAPHIC
  COORDINATE_SYSTEM_TYPE = "BODY-FIXED ROTATING"
  EASTERNMOST_LONGITUDE = 279.515
  FIRST_STANDARD_PARALLEL = "N/A"
  LINE_FIRST_PIXEL = 1
  LINE_LAST_PIXEL = 8159
  LINE_PROJECTION_OFFSET = 12411.1875
  MAP_PROJECTION_ROTATION = 0.0
  MAP_PROJECTION_TYPE = SINUSOIDAL
  MAP_RESOLUTION = 592.713803866667
  MAP_SCALE = 0.1
  MAXIMUM_LATITUDE = 20.9499
  MINIMUM_LATITUDE = 7.18742
  POSITIVE_LONGITUDE_DIRECTION = EAST
  REFERENCE_LATITUDE = "N/A"
  REFERENCE_LONGITUDE = "N/A"
  SAMPLE_FIRST_PIXEL = 1
  SAMPLE_LAST_PIXEL = 819
  SAMPLE_PROJECTION_OFFSET = 502.1875
  SECOND_STANDARD_PARALLEL = "N/A"
  WESTERNMOST_LONGITUDE = 278.182
END_OBJECT = IMAGE_MAP_PROJECTION
END
