PDS_VERSION_ID = PDS3
/* FILE DATA ELEMENTS */
RECORD_TYPE = UNDEFINED
/* POINTERS TO DATA OBJECTS */
^IMAGE = ("H5250_0000_BL4.TIF")
/* IDENTIFICATION DATA ELEMENTS */
DATA_SET_ID = "MEX-M-HRSC-4-REFDR-MAPPROJECT-EXT2-V4.0"
DATA_SET_NAME = "MARS EXPRESS HRSC MAP PROJECTED REFDR EXTENSION2 V4.0"
DETECTOR_ID = MEX_HRSC_BLUE
EVENT_TYPE = "MARS-REGIONAL-MAPPING-Vo-Fl-Gl"
INSTRUMENT_HOST_ID = MEX
INSTRUMENT_HOST_NAME = "MARS EXPRESS"
INSTRUMENT_ID = HRSC
INSTRUMENT_NAME = "HIGH RESOLUTION STEREO CAMERA"
MISSION_NAME = "MARS EXPRESS"
MISSION_PHASE_NAME = ME_Phase_11
PROCESSING_LEVEL_ID = 4
PRODUCT_CREATION_TIME = 2023-02-01T12:09:47.000Z
PRODUCT_ID = "H5250_0000_BL4.TIF"
RELEASE_ID = 0001
REVISION_ID = 0000
/* QUALITY DATA ELEMENTS */
DATA_QUALITY_ID = 1
DATA_QUALITY_DESC = "Data calculated based on original SPICE kernels"
/* TIME DATA ELEMENTS */
SPACECRAFT_CLOCK_START_COUNT = "1/0150059914.09079"
SPACECRAFT_CLOCK_STOP_COUNT = "1/0150060198.24087"
START_TIME = 2008-02-02T19:19:12.629Z
STOP_TIME = 2008-02-02T19:22:47.730Z
/* ORBITAL DATA ELEMENTS */
ASCENDING_NODE_LONGITUDE = 118.93
MAXIMUM_RESOLUTION = 0.1068
FOOTPRINT_POINT_LATITUDE = (20.9198,20.9197,20.9186,20.9172, 20.9172,20.9181,20.6484,20.3789,19.8401 ,19.3019,18.7641,18.3516,18.0742,17.797 ,17.52,17.243,16.9663,16.6898,16.4135, 16.1374,15.8615,15.5857,15.3101,15.0347 ,14.7596,14.4847,14.21,13.9357,13.6614, 13.3875,13.1137,12.8402,12.567,12.2941, 12.0213,11.7488,11.4766,11.2048,10.933, 10.6617,10.3906,10.1198,9.84933,9.5791, 9.30917,9.03953,8.50133,7.96432,7.42857 ,7.29486,7.17276,7.16941,7.16649, 7.16418,7.16412,7.1657,7.70114,8.23801, 8.77612,9.31543,9.58546,9.85597,10.1267 ,10.3977,10.669,10.9407,11.2125,11.4847 ,11.7571,12.0299,12.3028,12.576,12.8494 ,13.1231,13.3971,13.6713,13.9458, 14.2204,14.4953,14.7705,15.0458,15.3214 ,15.5972,15.8732,16.1494,16.4258, 16.7024,16.9792,17.3947,17.6719,17.9493 ,18.2269,18.5046,18.9126,19.4511,19.99, 20.3946,20.6643,20.7993,20.9198)
FOOTPRINT_POINT_LONGITUDE = (279.489,279.076,278.605,278.283, 278.272,278.262,278.263,278.264,278.265 ,278.266,278.266,278.266,278.266, 278.266,278.265,278.265,278.264,278.263 ,278.262,278.261,278.259,278.258, 278.257,278.255,278.253,278.251,278.249 ,278.247,278.245,278.242,278.24,278.237 ,278.235,278.232,278.229,278.226, 278.223,278.219,278.216,278.212,278.209 ,278.205,278.201,278.197,278.193, 278.189,278.18,278.171,278.162,278.16, 278.157,278.714,279.169,279.521,279.534 ,279.543,279.54,279.537,279.534,279.531 ,279.53,279.529,279.527,279.526,279.525 ,279.524,279.523,279.522,279.52,279.519 ,279.518,279.517,279.516,279.515, 279.514,279.513,279.512,279.511,279.511 ,279.51,279.509,279.508,279.507,279.506 ,279.506,279.505,279.504,279.503, 279.502,279.502,279.501,279.5,279.5, 279.499,279.497,279.496,279.495,279.495 ,279.494,279.489)
ORBIT_NUMBER = 5250
ORBITAL_ECCENTRICITY = 0.573
ORBITAL_INCLINATION = 86.72
ORBITAL_SEMIMAJOR_AXIS = 8718.55
PERIAPSIS_ALTITUDE = 330.17
PERIAPSIS_ARGUMENT_ANGLE = 154.74
PERIAPSIS_TIME = 2008-02-02T19:18:01.000Z
SPACECRAFT_ORIENTATION = (0.0,-1.0,0.0)
^MEX_ORIENTATION_DESC = "MEX_ORIENTATION_DESC.TXT"
SPACECRAFT_POINTING_MODE = NADIR
^MEX_POINTING_DESC = "MEX_POINTING_DESC.TXT"
RIGHT_ASCENSION = -1e+32
DECLINATION = -1e+32
OFFSET_ANGLE = -1e+32
SPACECRAFT_SOLAR_DISTANCE = 2.42033e+08
TARGET_NAME = MARS
/* CAMERA DATA ELEMENTS */
DETECTOR_TEMPERATURE = 18.1666
FOCAL_PLANE_TEMPERATURE = 7.7677
INST_CMPRS_NAME = "DISCRETE COSINE TRANSFORMATION (DCT)"
INST_CMPRS_RATIO = 31.8836
INST_CMPRS_QUALITY = 0
INST_CMPRS_QUANTZ_TBL_ID = 0
INSTRUMENT_TEMPERATURE = 10.8262
LENS_TEMPERATURE = 8.1755
MACROPIXEL_SIZE = 8
MISSING_FRAMES = 0
PIXEL_SUBSAMPLING_FLAG = N
SIGNAL_CHAIN_ID = 2
/* RADIOMETRIC DATA ELEMENTS */
BANDWIDTH = 76.0
CENTER_FILTER_WAVELENGTH = 444.0
RADIANCE_OFFSET = 0.600554
RADIANCE_SCALING_FACTOR = 0.00190652
REFLECTANCE_SCALING_FACTOR = 0.000114748
MEX:REFLECTANCE_OFFSET = 0.0361457
/* IMAGE OBJECT DEFINITIONS */
OBJECT = IMAGE
  INTERCHANGE_FORMAT = BINARY
  LINES = 8159
  LINE_SAMPLES = 819
  SAMPLE_TYPE = UNSIGNED_INTEGER
  SAMPLE_BITS = 8
  BANDS = 1
  BAND_STORAGE_TYPE = BAND_SEQUENTIAL
  MAXIMUM = 255
  MEAN = 154.054
  MINIMUM = 1
  STANDARD_DEVIATION = 19.7963
END_OBJECT = IMAGE
/* MAP OBJECT DEFINITIONS */
OBJECT = IMAGE_MAP_PROJECTION
  ^DATA_SET_MAP_PROJECTION_CATALOG= "DSMAP.CAT"
  A_AXIS_RADIUS = 3396.0
  B_AXIS_RADIUS = 3396.0
  C_AXIS_RADIUS = 3396.0
  CENTER_LATITUDE = 0.0
  CENTER_LONGITUDE = 279.0
  COORDINATE_SYSTEM_NAME = PLANETOGRAPHIC
  COORDINATE_SYSTEM_TYPE = "BODY-FIXED ROTATING"
  EASTERNMOST_LONGITUDE = 279.543
  FIRST_STANDARD_PARALLEL = "N/A"
  LINE_FIRST_PIXEL = 1
  LINE_LAST_PIXEL = 8159
  LINE_PROJECTION_OFFSET = 12411.1875
  MAP_PROJECTION_ROTATION = 0.0
  MAP_PROJECTION_TYPE = SINUSOIDAL
  MAP_RESOLUTION = 592.713803866667
  MAP_SCALE = 0.1
  MAXIMUM_LATITUDE = 20.9198
  MINIMUM_LATITUDE = 7.16412
  POSITIVE_LONGITUDE_DIRECTION = EAST
  REFERENCE_LATITUDE = "N/A"
  REFERENCE_LONGITUDE = "N/A"
  SAMPLE_FIRST_PIXEL = 1
  SAMPLE_LAST_PIXEL = 819
  SAMPLE_PROJECTION_OFFSET = 502.1875
  SECOND_STANDARD_PARALLEL = "N/A"
  WESTERNMOST_LONGITUDE = 278.157
END_OBJECT = IMAGE_MAP_PROJECTION
END
