PDS_VERSION_ID = PDS3
/* FILE DATA ELEMENTS */
RECORD_TYPE = UNDEFINED
/* POINTERS TO DATA OBJECTS */
^IMAGE = ("H5244_0000_S14.TIF")
/* IDENTIFICATION DATA ELEMENTS */
DATA_SET_ID = "MEX-M-HRSC-4-REFDR-MAPPROJECT-EXT2-V4.0"
DATA_SET_NAME = "MARS EXPRESS HRSC MAP PROJECTED REFDR EXTENSION2 V4.0"
DETECTOR_ID = MEX_HRSC_S1
EVENT_TYPE = "MARS-REGIONAL-MAPPING-Vo-Eo"
INSTRUMENT_HOST_ID = MEX
INSTRUMENT_HOST_NAME = "MARS EXPRESS"
INSTRUMENT_ID = HRSC
INSTRUMENT_NAME = "HIGH RESOLUTION STEREO CAMERA"
MISSION_NAME = "MARS EXPRESS"
MISSION_PHASE_NAME = ME_Phase_11
PROCESSING_LEVEL_ID = 4
PRODUCT_CREATION_TIME = 2023-02-01T12:09:47.000Z
PRODUCT_ID = "H5244_0000_S14.TIF"
RELEASE_ID = 0001
REVISION_ID = 0000
/* QUALITY DATA ELEMENTS */
DATA_QUALITY_ID = 1
DATA_QUALITY_DESC = "Data calculated based on original SPICE kernels"
/* TIME DATA ELEMENTS */
SPACECRAFT_CLOCK_START_COUNT = "1/0149912028.08234"
SPACECRAFT_CLOCK_STOP_COUNT = "1/0149912290.56226"
START_TIME = 2008-02-01T02:13:51.944Z
STOP_TIME = 2008-02-01T02:17:08.559Z
/* ORBITAL DATA ELEMENTS */
ASCENDING_NODE_LONGITUDE = 119.04
MAXIMUM_RESOLUTION = 0.0282
FOOTPRINT_POINT_LATITUDE = (26.229,26.2255,26.2187,26.2185,26.1832 ,25.6798,25.1754,24.6701,24.417,24.164, 23.9107,23.6572,23.4035,23.1498,22.7686 ,22.5143,22.2599,22.0053,21.7508,21.368 ,20.9851,20.7298,20.474,20.0903,19.7065 ,19.4505,19.0661,18.8096,18.5529, 18.2961,18.0394,17.7827,17.5257,17.2686 ,17.0114,16.7538,16.4964,16.2391, 15.9817,15.5951,15.3373,14.9388,14.6726 ,14.4061,14.1396,13.8729,13.473,13.3397 ,13.3109,13.3112,13.3082,13.3081, 13.3085,13.5754,13.9756,14.2421,14.5087 ,14.7755,15.0422,15.3087,15.5664, 15.8243,16.0822,16.3401,16.5978,16.8553 ,17.2415,17.4988,17.756,18.0131,18.27, 18.5268,18.7834,19.04,19.2964,19.5529, 19.8093,20.0653,20.3214,20.5771,20.8331 ,21.0888,21.3442,21.5994,21.9822, 22.2374,22.4921,22.7466,23.0008,23.255, 23.5095,23.7634,24.0172,24.2707,24.5243 ,24.7773,25.4089,26.0395,26.1653, 26.229)
FOOTPRINT_POINT_LONGITUDE = (159.879,159.168,158.607,158.594, 158.579,158.588,158.596,158.603,158.607 ,158.61,158.614,158.617,158.62,158.623, 158.627,158.629,158.632,158.634,158.636 ,158.639,158.642,158.644,158.645, 158.647,158.649,158.65,158.651,158.652, 158.652,158.653,158.653,158.653,158.653 ,158.653,158.653,158.653,158.652, 158.652,158.651,158.65,158.649,158.648, 158.647,158.645,158.644,158.642,158.64, 158.639,158.639,159.28,159.872,159.884, 159.889,159.889,159.888,159.888,159.888 ,159.888,159.887,159.887,159.887, 159.887,159.887,159.887,159.887,159.887 ,159.886,159.886,159.886,159.886, 159.886,159.886,159.887,159.887,159.887 ,159.887,159.887,159.887,159.887, 159.887,159.887,159.887,159.887,159.888 ,159.888,159.888,159.888,159.888, 159.889,159.889,159.889,159.889,159.889 ,159.89,159.89,159.89,159.891,159.891, 159.891,159.879)
ORBIT_NUMBER = 5244
ORBITAL_ECCENTRICITY = 0.573
ORBITAL_INCLINATION = 86.73
ORBITAL_SEMIMAJOR_AXIS = 8710.52
PERIAPSIS_ALTITUDE = 330.3
PERIAPSIS_ARGUMENT_ANGLE = 155.81
PERIAPSIS_TIME = 2008-02-01T02:14:52.000Z
SPACECRAFT_ORIENTATION = (0.0,-1.0,0.0)
^MEX_ORIENTATION_DESC = "MEX_ORIENTATION_DESC.TXT"
SPACECRAFT_POINTING_MODE = NADIR
^MEX_POINTING_DESC = "MEX_POINTING_DESC.TXT"
RIGHT_ASCENSION = -1e+32
DECLINATION = -1e+32
OFFSET_ANGLE = -1e+32
SPACECRAFT_SOLAR_DISTANCE = 2.41796e+08
TARGET_NAME = MARS
/* CAMERA DATA ELEMENTS */
DETECTOR_TEMPERATURE = 16.9432
FOCAL_PLANE_TEMPERATURE = 8.9911
INST_CMPRS_NAME = "DISCRETE COSINE TRANSFORMATION (DCT)"
INST_CMPRS_RATIO = 9.76779
INST_CMPRS_QUALITY = 0
INST_CMPRS_QUANTZ_TBL_ID = 0
INSTRUMENT_TEMPERATURE = 11.6418
LENS_TEMPERATURE = 8.1755
MACROPIXEL_SIZE = 2
MISSING_FRAMES = 0
PIXEL_SUBSAMPLING_FLAG = N
SIGNAL_CHAIN_ID = 1
/* RADIOMETRIC DATA ELEMENTS */
BANDWIDTH = 180.0
CENTER_FILTER_WAVELENGTH = 677.0
RADIANCE_OFFSET = 3.53573
RADIANCE_SCALING_FACTOR = 0.020406
REFLECTANCE_SCALING_FACTOR = 0.00062244
MEX:REFLECTANCE_OFFSET = 0.10785
/* IMAGE OBJECT DEFINITIONS */
OBJECT = IMAGE
  INTERCHANGE_FORMAT = BINARY
  LINES = 30558
  LINE_SAMPLES = 2968
  SAMPLE_TYPE = UNSIGNED_INTEGER
  SAMPLE_BITS = 8
  BANDS = 1
  BAND_STORAGE_TYPE = BAND_SEQUENTIAL
  MAXIMUM = 255
  MEAN = 137.895
  MINIMUM = 1
  STANDARD_DEVIATION = 28.2132
END_OBJECT = IMAGE
/* MAP OBJECT DEFINITIONS */
OBJECT = IMAGE_MAP_PROJECTION
  ^DATA_SET_MAP_PROJECTION_CATALOG= "DSMAP.CAT"
  A_AXIS_RADIUS = 3396.0
  B_AXIS_RADIUS = 3396.0
  C_AXIS_RADIUS = 3396.0
  CENTER_LATITUDE = 0.0
  CENTER_LONGITUDE = 159.0
  COORDINATE_SYSTEM_NAME = PLANETOGRAPHIC
  COORDINATE_SYSTEM_TYPE = "BODY-FIXED ROTATING"
  EASTERNMOST_LONGITUDE = 159.891
  FIRST_STANDARD_PARALLEL = "N/A"
  LINE_FIRST_PIXEL = 1
  LINE_LAST_PIXEL = 30558
  LINE_PROJECTION_OFFSET = 62155.75
  MAP_PROJECTION_ROTATION = 0.0
  MAP_PROJECTION_TYPE = SINUSOIDAL
  MAP_RESOLUTION = 2370.85521546667
  MAP_SCALE = 0.025
  MAXIMUM_LATITUDE = 26.229
  MINIMUM_LATITUDE = 13.3081
  POSITIVE_LONGITUDE_DIRECTION = EAST
  REFERENCE_LATITUDE = "N/A"
  REFERENCE_LONGITUDE = "N/A"
  SAMPLE_FIRST_PIXEL = 1
  SAMPLE_LAST_PIXEL = 2968
  SAMPLE_PROJECTION_OFFSET = 898.25
  SECOND_STANDARD_PARALLEL = "N/A"
  WESTERNMOST_LONGITUDE = 158.579
END_OBJECT = IMAGE_MAP_PROJECTION
END
