PDS_VERSION_ID = PDS3
/* FILE DATA ELEMENTS */
RECORD_TYPE = UNDEFINED
/* POINTERS TO DATA OBJECTS */
^IMAGE = ("H5244_0000_P24.TIF")
/* IDENTIFICATION DATA ELEMENTS */
DATA_SET_ID = "MEX-M-HRSC-4-REFDR-MAPPROJECT-EXT2-V4.0"
DATA_SET_NAME = "MARS EXPRESS HRSC MAP PROJECTED REFDR EXTENSION2 V4.0"
DETECTOR_ID = MEX_HRSC_P2
EVENT_TYPE = "MARS-REGIONAL-MAPPING-Vo-Eo"
INSTRUMENT_HOST_ID = MEX
INSTRUMENT_HOST_NAME = "MARS EXPRESS"
INSTRUMENT_ID = HRSC
INSTRUMENT_NAME = "HIGH RESOLUTION STEREO CAMERA"
MISSION_NAME = "MARS EXPRESS"
MISSION_PHASE_NAME = ME_Phase_11
PROCESSING_LEVEL_ID = 4
PRODUCT_CREATION_TIME = 2023-02-01T12:09:47.000Z
PRODUCT_ID = "H5244_0000_P24.TIF"
RELEASE_ID = 0001
REVISION_ID = 0000
/* QUALITY DATA ELEMENTS */
DATA_QUALITY_ID = 1
DATA_QUALITY_DESC = "Data calculated based on original SPICE kernels"
/* TIME DATA ELEMENTS */
SPACECRAFT_CLOCK_START_COUNT = "1/0149912028.08234"
SPACECRAFT_CLOCK_STOP_COUNT = "1/0149912290.56226"
START_TIME = 2008-02-01T02:14:41.096Z
STOP_TIME = 2008-02-01T02:18:00.983Z
/* ORBITAL DATA ELEMENTS */
ASCENDING_NODE_LONGITUDE = 119.04
MAXIMUM_RESOLUTION = 0.0549
FOOTPRINT_POINT_LATITUDE = (26.1927,26.1915,26.1879,26.1853, 26.1852,26.2089,25.822,25.564,25.3063, 25.0488,24.7913,24.534,24.277,23.8912, 23.6344,23.3776,23.1208,22.8644,22.6081 ,22.3519,22.0959,21.5842,21.0734, 20.5634,20.0541,19.5455,19.1644,18.6574 ,18.3978,18.1363,17.875,17.614,17.3533, 17.0927,16.8326,16.5728,16.313,16.0534, 15.7943,15.5354,15.2768,15.0184,14.7602 ,14.5023,14.2448,13.9875,13.7307, 13.4739,13.3456,13.3406,13.3384,13.3376 ,13.3366,13.3366,13.3374,13.5941, 13.8512,14.1086,14.3664,14.6244,14.8825 ,15.1409,15.3996,15.6588,15.9181, 16.1775,16.4372,16.6973,16.9577,17.3487 ,17.6096,17.8708,18.1324,18.3941, 18.6543,19.1622,19.6706,20.0526,20.5625 ,21.0729,21.5844,21.8404,22.0962, 22.3525,22.6089,22.8656,23.1224,23.3791 ,23.636,23.8931,24.1504,24.4077,24.6654 ,24.9229,25.1809,25.4391,25.8262, 26.0844,26.2136,26.1927)
FOOTPRINT_POINT_LONGITUDE = (159.872,159.587,158.969,158.612,158.6, 158.584,158.59,158.594,158.597,158.601, 158.604,158.607,158.61,158.614,158.617, 158.619,158.621,158.623,158.625,158.627 ,158.629,158.632,158.634,158.636, 158.638,158.639,158.639,158.639,158.639 ,158.639,158.638,158.638,158.637, 158.636,158.635,158.634,158.633,158.632 ,158.631,158.629,158.628,158.626, 158.624,158.622,158.62,158.618,158.616, 158.614,158.612,158.612,159.292,159.571 ,159.899,159.912,159.916,159.915, 159.914,159.913,159.912,159.911,159.91, 159.909,159.908,159.908,159.907,159.906 ,159.905,159.904,159.904,159.903, 159.902,159.901,159.901,159.9,159.899, 159.898,159.897,159.896,159.895,159.894 ,159.893,159.893,159.892,159.892, 159.891,159.891,159.89,159.89,159.889, 159.889,159.888,159.888,159.887,159.887 ,159.887,159.886,159.886,159.885, 159.885,159.872)
ORBIT_NUMBER = 5244
ORBITAL_ECCENTRICITY = 0.573
ORBITAL_INCLINATION = 86.73
ORBITAL_SEMIMAJOR_AXIS = 8710.52
PERIAPSIS_ALTITUDE = 330.3
PERIAPSIS_ARGUMENT_ANGLE = 155.81
PERIAPSIS_TIME = 2008-02-01T02:14:52.000Z
SPACECRAFT_ORIENTATION = (0.0,-1.0,0.0)
^MEX_ORIENTATION_DESC = "MEX_ORIENTATION_DESC.TXT"
SPACECRAFT_POINTING_MODE = NADIR
^MEX_POINTING_DESC = "MEX_POINTING_DESC.TXT"
RIGHT_ASCENSION = -1e+32
DECLINATION = -1e+32
OFFSET_ANGLE = -1e+32
SPACECRAFT_SOLAR_DISTANCE = 2.41796e+08
TARGET_NAME = MARS
/* CAMERA DATA ELEMENTS */
DETECTOR_TEMPERATURE = 18.3705
FOCAL_PLANE_TEMPERATURE = 8.9911
INST_CMPRS_NAME = "DISCRETE COSINE TRANSFORMATION (DCT)"
INST_CMPRS_RATIO = 11.4021
INST_CMPRS_QUALITY = 0
INST_CMPRS_QUANTZ_TBL_ID = 0
INSTRUMENT_TEMPERATURE = 11.6418
LENS_TEMPERATURE = 8.1755
MACROPIXEL_SIZE = 4
MISSING_FRAMES = 0
PIXEL_SUBSAMPLING_FLAG = N
SIGNAL_CHAIN_ID = 3
/* RADIOMETRIC DATA ELEMENTS */
BANDWIDTH = 177.0
CENTER_FILTER_WAVELENGTH = 676.5
RADIANCE_OFFSET = 3.09141
RADIANCE_SCALING_FACTOR = 0.0197563
REFLECTANCE_SCALING_FACTOR = 0.000612439
MEX:REFLECTANCE_OFFSET = 0.0958327
/* IMAGE OBJECT DEFINITIONS */
OBJECT = IMAGE
  INTERCHANGE_FORMAT = BINARY
  LINES = 15279
  LINE_SAMPLES = 1484
  SAMPLE_TYPE = UNSIGNED_INTEGER
  SAMPLE_BITS = 8
  BANDS = 1
  BAND_STORAGE_TYPE = BAND_SEQUENTIAL
  MAXIMUM = 255
  MEAN = 132.662
  MINIMUM = 1
  STANDARD_DEVIATION = 25.5554
END_OBJECT = IMAGE
/* MAP OBJECT DEFINITIONS */
OBJECT = IMAGE_MAP_PROJECTION
  ^DATA_SET_MAP_PROJECTION_CATALOG= "DSMAP.CAT"
  A_AXIS_RADIUS = 3396.0
  B_AXIS_RADIUS = 3396.0
  C_AXIS_RADIUS = 3396.0
  CENTER_LATITUDE = 0.0
  CENTER_LONGITUDE = 159.0
  COORDINATE_SYSTEM_NAME = PLANETOGRAPHIC
  COORDINATE_SYSTEM_TYPE = "BODY-FIXED ROTATING"
  EASTERNMOST_LONGITUDE = 159.916
  FIRST_STANDARD_PARALLEL = "N/A"
  LINE_FIRST_PIXEL = 1
  LINE_LAST_PIXEL = 15279
  LINE_PROJECTION_OFFSET = 31077.625
  MAP_PROJECTION_ROTATION = 0.0
  MAP_PROJECTION_TYPE = SINUSOIDAL
  MAP_RESOLUTION = 1185.42760773333
  MAP_SCALE = 0.05
  MAXIMUM_LATITUDE = 26.2136
  MINIMUM_LATITUDE = 13.3366
  POSITIVE_LONGITUDE_DIRECTION = EAST
  REFERENCE_LATITUDE = "N/A"
  REFERENCE_LONGITUDE = "N/A"
  SAMPLE_FIRST_PIXEL = 1
  SAMPLE_LAST_PIXEL = 1484
  SAMPLE_PROJECTION_OFFSET = 448.875
  SECOND_STANDARD_PARALLEL = "N/A"
  WESTERNMOST_LONGITUDE = 158.584
END_OBJECT = IMAGE_MAP_PROJECTION
END
