PDS_VERSION_ID = PDS3
/* FILE DATA ELEMENTS */
RECORD_TYPE = UNDEFINED
/* POINTERS TO DATA OBJECTS */
^IMAGE = ("H5244_0000_GR4.TIF")
/* IDENTIFICATION DATA ELEMENTS */
DATA_SET_ID = "MEX-M-HRSC-4-REFDR-MAPPROJECT-EXT2-V4.0"
DATA_SET_NAME = "MARS EXPRESS HRSC MAP PROJECTED REFDR EXTENSION2 V4.0"
DETECTOR_ID = MEX_HRSC_GREEN
EVENT_TYPE = "MARS-REGIONAL-MAPPING-Vo-Eo"
INSTRUMENT_HOST_ID = MEX
INSTRUMENT_HOST_NAME = "MARS EXPRESS"
INSTRUMENT_ID = HRSC
INSTRUMENT_NAME = "HIGH RESOLUTION STEREO CAMERA"
MISSION_NAME = "MARS EXPRESS"
MISSION_PHASE_NAME = ME_Phase_11
PROCESSING_LEVEL_ID = 4
PRODUCT_CREATION_TIME = 2023-02-01T12:09:47.000Z
PRODUCT_ID = "H5244_0000_GR4.TIF"
RELEASE_ID = 0001
REVISION_ID = 0000
/* QUALITY DATA ELEMENTS */
DATA_QUALITY_ID = 1
DATA_QUALITY_DESC = "Data calculated based on original SPICE kernels"
/* TIME DATA ELEMENTS */
SPACECRAFT_CLOCK_START_COUNT = "1/0149912028.08234"
SPACECRAFT_CLOCK_STOP_COUNT = "1/0149912290.56226"
START_TIME = 2008-02-01T02:14:16.614Z
STOP_TIME = 2008-02-01T02:17:34.191Z
/* ORBITAL DATA ELEMENTS */
ASCENDING_NODE_LONGITUDE = 119.04
MAXIMUM_RESOLUTION = 0.1063
FOOTPRINT_POINT_LATITUDE = (26.2121,26.2104,26.208,26.2045,26.2044 ,26.1975,25.6902,25.1827,24.9288,24.675 ,24.294,24.0401,23.7861,23.5321,23.151, 22.8969,22.6428,22.2617,22.0076,21.6265 ,21.2453,20.9912,20.6101,20.356,20.102, 19.848,19.594,19.3401,19.0862,18.5785, 18.071,17.5638,17.0568,16.7984,16.5367, 16.275,16.0134,15.7519,15.4905,15.2292, 14.968,14.7069,14.4459,14.1851,13.9243, 13.5335,13.4032,13.3244,13.3233,13.3221 ,13.3201,13.32,13.3217,13.5823,13.8431, 14.104,14.3651,14.6262,14.8875,15.1489, 15.4104,15.672,15.9337,16.1955,16.4574, 16.7194,16.9804,17.4878,17.9954,18.2493 ,18.5033,18.7573,19.0114,19.2655, 19.5196,19.901,20.2823,20.5366,20.9181, 21.1724,21.4268,21.6811,21.9354,22.1899 ,22.4442,22.6985,23.0801,23.3344, 23.5887,23.843,24.0973,24.3516,24.6058, 24.8599,25.1141,25.3681,25.6221,26.0031 ,26.1301,26.2121)
FOOTPRINT_POINT_LONGITUDE = (159.871,159.361,159.006,158.626, 158.614,158.597,158.605,158.613,158.616 ,158.619,158.624,158.627,158.63,158.633 ,158.637,158.639,158.641,158.645, 158.647,158.649,158.652,158.653,158.655 ,158.656,158.657,158.658,158.659, 158.659,158.66,158.661,158.661,158.661, 158.66,158.659,158.659,158.658,158.657, 158.656,158.655,158.653,158.652,158.651 ,158.649,158.648,158.646,158.643, 158.642,158.641,159.217,159.512,159.878 ,159.889,159.897,159.897,159.896, 159.896,159.895,159.895,159.894,159.893 ,159.893,159.893,159.892,159.892, 159.891,159.891,159.89,159.89,159.889, 159.889,159.888,159.888,159.888,159.888 ,159.887,159.887,159.887,159.887, 159.886,159.886,159.886,159.886,159.885 ,159.885,159.885,159.885,159.885, 159.885,159.884,159.884,159.884,159.884 ,159.884,159.884,159.883,159.884, 159.883,159.883,159.883,159.871)
ORBIT_NUMBER = 5244
ORBITAL_ECCENTRICITY = 0.573
ORBITAL_INCLINATION = 86.73
ORBITAL_SEMIMAJOR_AXIS = 8710.52
PERIAPSIS_ALTITUDE = 330.3
PERIAPSIS_ARGUMENT_ANGLE = 155.81
PERIAPSIS_TIME = 2008-02-01T02:14:52.000Z
SPACECRAFT_ORIENTATION = (0.0,-1.0,0.0)
^MEX_ORIENTATION_DESC = "MEX_ORIENTATION_DESC.TXT"
SPACECRAFT_POINTING_MODE = NADIR
^MEX_POINTING_DESC = "MEX_POINTING_DESC.TXT"
RIGHT_ASCENSION = -1e+32
DECLINATION = -1e+32
OFFSET_ANGLE = -1e+32
SPACECRAFT_SOLAR_DISTANCE = 2.41796e+08
TARGET_NAME = MARS
/* CAMERA DATA ELEMENTS */
DETECTOR_TEMPERATURE = 18.1666
FOCAL_PLANE_TEMPERATURE = 8.9911
INST_CMPRS_NAME = "DISCRETE COSINE TRANSFORMATION (DCT)"
INST_CMPRS_RATIO = 27.4318
INST_CMPRS_QUALITY = 0
INST_CMPRS_QUANTZ_TBL_ID = 0
INSTRUMENT_TEMPERATURE = 11.6418
LENS_TEMPERATURE = 8.1755
MACROPIXEL_SIZE = 8
MISSING_FRAMES = 0
PIXEL_SUBSAMPLING_FLAG = N
SIGNAL_CHAIN_ID = 2
/* RADIOMETRIC DATA ELEMENTS */
BANDWIDTH = 88.0
CENTER_FILTER_WAVELENGTH = 538.0
RADIANCE_OFFSET = 1.10804
RADIANCE_SCALING_FACTOR = 0.00491918
REFLECTANCE_SCALING_FACTOR = 0.000247616
MEX:REFLECTANCE_OFFSET = 0.0557756
/* IMAGE OBJECT DEFINITIONS */
OBJECT = IMAGE
  INTERCHANGE_FORMAT = BINARY
  LINES = 7640
  LINE_SAMPLES = 742
  SAMPLE_TYPE = UNSIGNED_INTEGER
  SAMPLE_BITS = 8
  BANDS = 1
  BAND_STORAGE_TYPE = BAND_SEQUENTIAL
  MAXIMUM = 255
  MEAN = 137.889
  MINIMUM = 1
  STANDARD_DEVIATION = 13.0152
END_OBJECT = IMAGE
/* MAP OBJECT DEFINITIONS */
OBJECT = IMAGE_MAP_PROJECTION
  ^DATA_SET_MAP_PROJECTION_CATALOG= "DSMAP.CAT"
  A_AXIS_RADIUS = 3396.0
  B_AXIS_RADIUS = 3396.0
  C_AXIS_RADIUS = 3396.0
  CENTER_LATITUDE = 0.0
  CENTER_LONGITUDE = 159.0
  COORDINATE_SYSTEM_NAME = PLANETOGRAPHIC
  COORDINATE_SYSTEM_TYPE = "BODY-FIXED ROTATING"
  EASTERNMOST_LONGITUDE = 159.897
  FIRST_STANDARD_PARALLEL = "N/A"
  LINE_FIRST_PIXEL = 1
  LINE_LAST_PIXEL = 7640
  LINE_PROJECTION_OFFSET = 15538.5625
  MAP_PROJECTION_ROTATION = 0.0
  MAP_PROJECTION_TYPE = SINUSOIDAL
  MAP_RESOLUTION = 592.713803866667
  MAP_SCALE = 0.1
  MAXIMUM_LATITUDE = 26.2121
  MINIMUM_LATITUDE = 13.32
  POSITIVE_LONGITUDE_DIRECTION = EAST
  REFERENCE_LATITUDE = "N/A"
  REFERENCE_LONGITUDE = "N/A"
  SAMPLE_FIRST_PIXEL = 1
  SAMPLE_LAST_PIXEL = 742
  SAMPLE_PROJECTION_OFFSET = 224.1875
  SECOND_STANDARD_PARALLEL = "N/A"
  WESTERNMOST_LONGITUDE = 158.597
END_OBJECT = IMAGE_MAP_PROJECTION
END
