PDS_VERSION_ID = PDS3
/* FILE DATA ELEMENTS */
RECORD_TYPE = UNDEFINED
/* POINTERS TO DATA OBJECTS */
^IMAGE = ("H5226_0000_RE4.TIF")
/* IDENTIFICATION DATA ELEMENTS */
DATA_SET_ID = "MEX-M-HRSC-4-REFDR-MAPPROJECT-EXT2-V4.0"
DATA_SET_NAME = "MARS EXPRESS HRSC MAP PROJECTED REFDR EXTENSION2 V4.0"
DETECTOR_ID = MEX_HRSC_RED
EVENT_TYPE = "MARS-REGIONAL-MAPPING-Vo-Te-Eo"
INSTRUMENT_HOST_ID = MEX
INSTRUMENT_HOST_NAME = "MARS EXPRESS"
INSTRUMENT_ID = HRSC
INSTRUMENT_NAME = "HIGH RESOLUTION STEREO CAMERA"
MISSION_NAME = "MARS EXPRESS"
MISSION_PHASE_NAME = ME_Phase_11
PROCESSING_LEVEL_ID = 4
PRODUCT_CREATION_TIME = 2023-02-01T12:09:47.000Z
PRODUCT_ID = "H5226_0000_RE4.TIF"
RELEASE_ID = 0001
REVISION_ID = 0000
/* QUALITY DATA ELEMENTS */
DATA_QUALITY_ID = 1
DATA_QUALITY_DESC = "Data calculated based on original SPICE kernels"
/* TIME DATA ELEMENTS */
SPACECRAFT_CLOCK_START_COUNT = "1/0149468630.09066"
SPACECRAFT_CLOCK_STOP_COUNT = "1/0149468883.23775"
START_TIME = 2008-01-26T23:04:48.685Z
STOP_TIME = 2008-01-26T23:07:59.915Z
/* ORBITAL DATA ELEMENTS */
ASCENDING_NODE_LONGITUDE = 119.41
MAXIMUM_RESOLUTION = 0.1107
FOOTPRINT_POINT_LATITUDE = (25.5942,25.5929,25.5907,25.5878, 25.5877,25.6163,25.3656,25.1151,24.864, 24.614,24.2389,23.9889,23.6141,23.3645, 23.115,22.8655,22.4914,22.1176,21.8688, 21.6199,21.371,21.1225,20.8741,20.626, 20.3777,20.1299,19.8821,19.6346,19.3872 ,19.0162,18.7692,18.5224,18.1523, 17.9059,17.6598,17.4139,17.1681,16.9227 ,16.6773,16.4323,16.1875,15.943,15.5764 ,15.2103,14.9665,14.7231,14.4798, 14.1151,13.8723,13.3876,13.2666,13.2257 ,13.2235,13.2218,13.2219,13.2235, 13.7084,13.9512,14.316,14.6811,14.9247, 15.2897,15.6576,15.9022,16.3886,16.6371 ,17.005,17.374,17.7431,17.9891,18.2359, 18.4815,18.7302,18.9775,19.2248,19.4725 ,19.7202,19.9681,20.2162,20.4643, 20.7128,20.9614,21.2102,21.459,21.7081, 21.9573,22.3311,22.5804,22.8297,23.2045 ,23.4544,23.7046,23.9545,24.2049, 24.5803,24.8308,25.2067,25.4578,25.5832 ,25.5942)
FOOTPRINT_POINT_LONGITUDE = (161.024,160.704,160.266,159.78,159.768 ,159.75,159.754,159.758,159.762,159.765 ,159.77,159.773,159.778,159.781,159.783 ,159.786,159.789,159.793,159.795, 159.797,159.799,159.801,159.802,159.804 ,159.805,159.806,159.807,159.808, 159.809,159.81,159.811,159.812,159.812, 159.812,159.813,159.813,159.813,159.812 ,159.812,159.812,159.811,159.81,159.809 ,159.808,159.807,159.806,159.805, 159.803,159.802,159.798,159.798,159.797 ,160.367,161.021,161.033,161.041,161.04 ,161.039,161.039,161.038,161.038, 161.037,161.037,161.036,161.035,161.036 ,161.035,161.035,161.035,161.034, 161.034,161.034,161.034,161.034,161.034 ,161.034,161.034,161.034,161.034, 161.034,161.034,161.034,161.034,161.034 ,161.034,161.034,161.034,161.034, 161.034,161.035,161.035,161.035,161.035 ,161.035,161.035,161.036,161.036, 161.036,161.036,161.024)
ORBIT_NUMBER = 5226
ORBITAL_ECCENTRICITY = 0.573
ORBITAL_INCLINATION = 86.73
ORBITAL_SEMIMAJOR_AXIS = 8713.79
PERIAPSIS_ALTITUDE = 328.34
PERIAPSIS_ARGUMENT_ANGLE = 158.98
PERIAPSIS_TIME = 2008-01-26T23:05:35.000Z
SPACECRAFT_ORIENTATION = (0.0,-1.0,0.0)
^MEX_ORIENTATION_DESC = "MEX_ORIENTATION_DESC.TXT"
SPACECRAFT_POINTING_MODE = NADIR
^MEX_POINTING_DESC = "MEX_POINTING_DESC.TXT"
RIGHT_ASCENSION = -1e+32
DECLINATION = -1e+32
OFFSET_ANGLE = -1e+32
SPACECRAFT_SOLAR_DISTANCE = 2.41067e+08
TARGET_NAME = MARS
/* CAMERA DATA ELEMENTS */
DETECTOR_TEMPERATURE = 18.3705
FOCAL_PLANE_TEMPERATURE = 8.7872
INST_CMPRS_NAME = "DISCRETE COSINE TRANSFORMATION (DCT)"
INST_CMPRS_RATIO = 24.3397
INST_CMPRS_QUALITY = 0
INST_CMPRS_QUANTZ_TBL_ID = 0
INSTRUMENT_TEMPERATURE = 11.234
LENS_TEMPERATURE = 9.195
MACROPIXEL_SIZE = 8
MISSING_FRAMES = 0
PIXEL_SUBSAMPLING_FLAG = N
SIGNAL_CHAIN_ID = 2
/* RADIOMETRIC DATA ELEMENTS */
BANDWIDTH = 48.0
CENTER_FILTER_WAVELENGTH = 748.0
RADIANCE_OFFSET = 0.893519
RADIANCE_SCALING_FACTOR = 0.0055412
REFLECTANCE_SCALING_FACTOR = 0.000734864
MEX:REFLECTANCE_OFFSET = 0.118497
/* IMAGE OBJECT DEFINITIONS */
OBJECT = IMAGE
  INTERCHANGE_FORMAT = BINARY
  LINES = 7352
  LINE_SAMPLES = 736
  SAMPLE_TYPE = UNSIGNED_INTEGER
  SAMPLE_BITS = 8
  BANDS = 1
  BAND_STORAGE_TYPE = BAND_SEQUENTIAL
  MAXIMUM = 255
  MEAN = 132.085
  MINIMUM = 1
  STANDARD_DEVIATION = 19.2493
END_OBJECT = IMAGE
/* MAP OBJECT DEFINITIONS */
OBJECT = IMAGE_MAP_PROJECTION
  ^DATA_SET_MAP_PROJECTION_CATALOG= "DSMAP.CAT"
  A_AXIS_RADIUS = 3396.0
  B_AXIS_RADIUS = 3396.0
  C_AXIS_RADIUS = 3396.0
  CENTER_LATITUDE = 0.0
  CENTER_LONGITUDE = 160.0
  COORDINATE_SYSTEM_NAME = PLANETOGRAPHIC
  COORDINATE_SYSTEM_TYPE = "BODY-FIXED ROTATING"
  EASTERNMOST_LONGITUDE = 161.041
  FIRST_STANDARD_PARALLEL = "N/A"
  LINE_FIRST_PIXEL = 1
  LINE_LAST_PIXEL = 7352
  LINE_PROJECTION_OFFSET = 15185.5625
  MAP_PROJECTION_ROTATION = 0.0
  MAP_PROJECTION_TYPE = SINUSOIDAL
  MAP_RESOLUTION = 592.713803866667
  MAP_SCALE = 0.1
  MAXIMUM_LATITUDE = 25.6163
  MINIMUM_LATITUDE = 13.2218
  POSITIVE_LONGITUDE_DIRECTION = EAST
  REFERENCE_LATITUDE = "N/A"
  REFERENCE_LONGITUDE = "N/A"
  SAMPLE_FIRST_PIXEL = 1
  SAMPLE_LAST_PIXEL = 736
  SAMPLE_PROJECTION_OFFSET = 141.3125
  SECOND_STANDARD_PARALLEL = "N/A"
  WESTERNMOST_LONGITUDE = 159.75
END_OBJECT = IMAGE_MAP_PROJECTION
END
