PDS_VERSION_ID = PDS3
/* FILE DATA ELEMENTS */
RECORD_TYPE = UNDEFINED
/* POINTERS TO DATA OBJECTS */
^IMAGE = ("H5226_0000_BL4.TIF")
/* IDENTIFICATION DATA ELEMENTS */
DATA_SET_ID = "MEX-M-HRSC-4-REFDR-MAPPROJECT-EXT2-V4.0"
DATA_SET_NAME = "MARS EXPRESS HRSC MAP PROJECTED REFDR EXTENSION2 V4.0"
DETECTOR_ID = MEX_HRSC_BLUE
EVENT_TYPE = "MARS-REGIONAL-MAPPING-Vo-Te-Eo"
INSTRUMENT_HOST_ID = MEX
INSTRUMENT_HOST_NAME = "MARS EXPRESS"
INSTRUMENT_ID = HRSC
INSTRUMENT_NAME = "HIGH RESOLUTION STEREO CAMERA"
MISSION_NAME = "MARS EXPRESS"
MISSION_PHASE_NAME = ME_Phase_11
PROCESSING_LEVEL_ID = 4
PRODUCT_CREATION_TIME = 2023-02-01T12:09:47.000Z
PRODUCT_ID = "H5226_0000_BL4.TIF"
RELEASE_ID = 0001
REVISION_ID = 0000
/* QUALITY DATA ELEMENTS */
DATA_QUALITY_ID = 1
DATA_QUALITY_DESC = "Data calculated based on original SPICE kernels"
/* TIME DATA ELEMENTS */
SPACECRAFT_CLOCK_START_COUNT = "1/0149468630.09066"
SPACECRAFT_CLOCK_STOP_COUNT = "1/0149468883.23775"
START_TIME = 2008-01-26T23:04:29.282Z
STOP_TIME = 2008-01-26T23:07:39.522Z
/* ORBITAL DATA ELEMENTS */
ASCENDING_NODE_LONGITUDE = 119.41
MAXIMUM_RESOLUTION = 0.1059
FOOTPRINT_POINT_LATITUDE = (25.6035,25.602,25.5991,25.5961,25.596, 25.6006,25.3548,25.1089,24.8631,24.4944 ,24.2486,24.0027,23.7568,23.5109,23.265 ,23.0191,22.7732,22.4043,22.1584, 21.9126,21.6667,21.2979,20.9292,20.6835 ,20.4378,20.192,19.9463,19.7007,19.4552 ,19.2096,18.9641,18.7187,18.4733,18.228 ,17.9828,17.7376,17.4925,17.2475, 17.0026,16.7577,16.513,16.2683,16.0238, 15.7793,15.5349,15.2906,14.8024,14.3145 ,13.8271,13.3403,13.2187,13.2027, 13.2018,13.2008,13.1995,13.1995,13.201, 13.6881,14.1758,14.6638,14.908,15.3961, 15.6413,15.886,16.3748,16.6204,16.9878, 17.3556,17.6008,17.8461,18.0914,18.4594 ,18.7053,18.951,19.1967,19.4424,19.6882 ,20.057,20.3029,20.5489,20.7948,21.0409 ,21.2869,21.533,21.9022,22.1483,22.3943 ,22.6405,22.8865,23.1327,23.502,23.7482 ,24.1173,24.3635,24.6095,24.8556, 25.2247,25.4708,25.5938,25.6035)
FOOTPRINT_POINT_LONGITUDE = (161.026,160.6,160.115,159.783,159.771, 159.754,159.758,159.762,159.766,159.771 ,159.775,159.778,159.782,159.785, 159.788,159.79,159.793,159.797,159.8, 159.802,159.804,159.807,159.81,159.812, 159.813,159.815,159.816,159.817,159.818 ,159.82,159.821,159.821,159.822,159.823 ,159.823,159.824,159.824,159.824, 159.824,159.824,159.824,159.824,159.824 ,159.823,159.823,159.822,159.821, 159.819,159.817,159.814,159.813,159.813 ,160.337,160.68,161.012,161.023,161.031 ,161.03,161.03,161.03,161.029,161.028, 161.029,161.029,161.028,161.029,161.029 ,161.029,161.029,161.029,161.029, 161.029,161.03,161.03,161.03,161.03, 161.031,161.031,161.031,161.031,161.032 ,161.032,161.032,161.033,161.033, 161.033,161.034,161.034,161.034,161.035 ,161.035,161.035,161.036,161.036, 161.037,161.037,161.038,161.038,161.038 ,161.026)
ORBIT_NUMBER = 5226
ORBITAL_ECCENTRICITY = 0.573
ORBITAL_INCLINATION = 86.73
ORBITAL_SEMIMAJOR_AXIS = 8713.79
PERIAPSIS_ALTITUDE = 328.34
PERIAPSIS_ARGUMENT_ANGLE = 158.98
PERIAPSIS_TIME = 2008-01-26T23:05:35.000Z
SPACECRAFT_ORIENTATION = (0.0,-1.0,0.0)
^MEX_ORIENTATION_DESC = "MEX_ORIENTATION_DESC.TXT"
SPACECRAFT_POINTING_MODE = NADIR
^MEX_POINTING_DESC = "MEX_POINTING_DESC.TXT"
RIGHT_ASCENSION = -1e+32
DECLINATION = -1e+32
OFFSET_ANGLE = -1e+32
SPACECRAFT_SOLAR_DISTANCE = 2.41067e+08
TARGET_NAME = MARS
/* CAMERA DATA ELEMENTS */
DETECTOR_TEMPERATURE = 18.3705
FOCAL_PLANE_TEMPERATURE = 8.7872
INST_CMPRS_NAME = "DISCRETE COSINE TRANSFORMATION (DCT)"
INST_CMPRS_RATIO = 32.4461
INST_CMPRS_QUALITY = 0
INST_CMPRS_QUANTZ_TBL_ID = 0
INSTRUMENT_TEMPERATURE = 11.234
LENS_TEMPERATURE = 9.195
MACROPIXEL_SIZE = 8
MISSING_FRAMES = 0
PIXEL_SUBSAMPLING_FLAG = N
SIGNAL_CHAIN_ID = 2
/* RADIOMETRIC DATA ELEMENTS */
BANDWIDTH = 76.0
CENTER_FILTER_WAVELENGTH = 444.0
RADIANCE_OFFSET = 0.438166
RADIANCE_SCALING_FACTOR = 0.00179822
REFLECTANCE_SCALING_FACTOR = 0.000107368
MEX:REFLECTANCE_OFFSET = 0.0261621
/* IMAGE OBJECT DEFINITIONS */
OBJECT = IMAGE
  INTERCHANGE_FORMAT = BINARY
  LINES = 7352
  LINE_SAMPLES = 736
  SAMPLE_TYPE = UNSIGNED_INTEGER
  SAMPLE_BITS = 8
  BANDS = 1
  BAND_STORAGE_TYPE = BAND_SEQUENTIAL
  MAXIMUM = 255
  MEAN = 126.484
  MINIMUM = 1
  STANDARD_DEVIATION = 12.6056
END_OBJECT = IMAGE
/* MAP OBJECT DEFINITIONS */
OBJECT = IMAGE_MAP_PROJECTION
  ^DATA_SET_MAP_PROJECTION_CATALOG= "DSMAP.CAT"
  A_AXIS_RADIUS = 3396.0
  B_AXIS_RADIUS = 3396.0
  C_AXIS_RADIUS = 3396.0
  CENTER_LATITUDE = 0.0
  CENTER_LONGITUDE = 160.0
  COORDINATE_SYSTEM_NAME = PLANETOGRAPHIC
  COORDINATE_SYSTEM_TYPE = "BODY-FIXED ROTATING"
  EASTERNMOST_LONGITUDE = 161.038
  FIRST_STANDARD_PARALLEL = "N/A"
  LINE_FIRST_PIXEL = 1
  LINE_LAST_PIXEL = 7352
  LINE_PROJECTION_OFFSET = 15185.5625
  MAP_PROJECTION_ROTATION = 0.0
  MAP_PROJECTION_TYPE = SINUSOIDAL
  MAP_RESOLUTION = 592.713803866667
  MAP_SCALE = 0.1
  MAXIMUM_LATITUDE = 25.6035
  MINIMUM_LATITUDE = 13.1995
  POSITIVE_LONGITUDE_DIRECTION = EAST
  REFERENCE_LATITUDE = "N/A"
  REFERENCE_LONGITUDE = "N/A"
  SAMPLE_FIRST_PIXEL = 1
  SAMPLE_LAST_PIXEL = 736
  SAMPLE_PROJECTION_OFFSET = 141.3125
  SECOND_STANDARD_PARALLEL = "N/A"
  WESTERNMOST_LONGITUDE = 159.754
END_OBJECT = IMAGE_MAP_PROJECTION
END
