PDS_VERSION_ID = PDS3
/* FILE DATA ELEMENTS */
RECORD_TYPE = UNDEFINED
/* POINTERS TO DATA OBJECTS */
^IMAGE = ("H5216_0000_P24.TIF")
/* IDENTIFICATION DATA ELEMENTS */
DATA_SET_ID = "MEX-M-HRSC-4-REFDR-MAPPROJECT-EXT2-V4.0"
DATA_SET_NAME = "MARS EXPRESS HRSC MAP PROJECTED REFDR EXTENSION2 V4.0"
DETECTOR_ID = MEX_HRSC_P2
EVENT_TYPE = "MARS-REGIONAL-MAPPING-Vo-Im-Eo"
INSTRUMENT_HOST_ID = MEX
INSTRUMENT_HOST_NAME = "MARS EXPRESS"
INSTRUMENT_ID = HRSC
INSTRUMENT_NAME = "HIGH RESOLUTION STEREO CAMERA"
MISSION_NAME = "MARS EXPRESS"
MISSION_PHASE_NAME = ME_Phase_11
PROCESSING_LEVEL_ID = 4
PRODUCT_CREATION_TIME = 2023-02-01T12:09:47.000Z
PRODUCT_ID = "H5216_0000_P24.TIF"
RELEASE_ID = 0001
REVISION_ID = 0000
/* QUALITY DATA ELEMENTS */
DATA_QUALITY_ID = 1
DATA_QUALITY_DESC = "Data calculated based on original SPICE kernels"
/* TIME DATA ELEMENTS */
SPACECRAFT_CLOCK_START_COUNT = "1/0149222349.07288"
SPACECRAFT_CLOCK_STOP_COUNT = "1/0149222656.15441"
START_TIME = 2008-01-24T02:40:01.585Z
STOP_TIME = 2008-01-24T02:44:06.367Z
/* ORBITAL DATA ELEMENTS */
ASCENDING_NODE_LONGITUDE = 119.62
MAXIMUM_RESOLUTION = 0.0541
FOOTPRINT_POINT_LATITUDE = (21.9535,21.9503,21.9456,21.9455, 21.9621,21.4988,21.189,20.8809,20.4154, 19.954,19.6463,19.3375,19.0294,18.5674, 18.2581,17.6441,17.3365,17.0288,16.4152 ,15.9441,15.6274,15.3108,14.9943, 14.6786,14.2051,13.89,13.575,13.2602, 12.9461,12.6323,12.3183,12.0049,11.6819 ,11.1974,10.7139,10.3921,10.0706, 9.75007,9.26919,8.94914,8.62995,8.15129 ,7.83183,7.51448,7.19735,6.87973, 6.40216,6.24435,6.22288,6.22477,6.22506 ,6.22701,6.22701,6.22784,6.54355, 6.86011,7.17719,7.49442,7.81204,8.2898, 8.6088,8.92838,9.24843,9.56854,9.88921, 10.3715,10.6932,11.0156,11.3383,11.6612 ,12.1426,12.456,12.7698,13.0839,13.3987 ,13.8709,14.3444,14.6605,14.9764, 15.2929,15.6096,15.9267,16.3986,17.0133 ,17.3209,17.6287,17.9365,18.2446, 18.5531,19.0156,19.3245,19.787,20.0955, 20.4046,20.7142,21.0232,21.4832,21.7956 ,21.9501,21.9535)
FOOTPRINT_POINT_LONGITUDE = (81.7831,81.2459,80.5745,80.5632, 80.5533,80.5566,80.559,80.5606,80.5641, 80.5658,80.5668,80.5682,80.5692,80.5704 ,80.5716,80.5721,80.5724,80.5727, 80.5724,80.5719,80.5713,80.5706,80.5699 ,80.5688,80.567,80.5656,80.564,80.5624, 80.5606,80.5586,80.5566,80.5543,80.5517 ,80.5478,80.5436,80.5405,80.5374, 80.5339,80.5288,80.5252,80.5213,80.5155 ,80.5118,80.5074,80.5029,80.4987, 80.4929,80.4904,80.4901,80.9613,81.302, 81.7792,81.7914,81.7955,81.7943,81.7933 ,81.7925,81.7914,81.7904,81.7893, 81.7885,81.7879,81.7873,81.7866,81.786, 81.7855,81.785,81.7847,81.7844,81.7841, 81.784,81.7838,81.7837,81.7835,81.7837, 81.7836,81.7839,81.7842,81.7843,81.7845 ,81.7848,81.7852,81.7857,81.7867, 81.7872,81.7877,81.7881,81.7886,81.7892 ,81.7898,81.7905,81.7909,81.7911, 81.7916,81.7924,81.7927,81.7911,81.7932 ,81.7933,81.7831)
ORBIT_NUMBER = 5216
ORBITAL_ECCENTRICITY = 0.574
ORBITAL_INCLINATION = 86.74
ORBITAL_SEMIMAJOR_AXIS = 8723.92
PERIAPSIS_ALTITUDE = 326.27
PERIAPSIS_ARGUMENT_ANGLE = 160.71
PERIAPSIS_TIME = 2008-01-24T02:40:23.000Z
SPACECRAFT_ORIENTATION = (0.0,-1.0,0.0)
^MEX_ORIENTATION_DESC = "MEX_ORIENTATION_DESC.TXT"
SPACECRAFT_POINTING_MODE = ACROSSTRACK
^MEX_POINTING_DESC = "MEX_POINTING_DESC.TXT"
RIGHT_ASCENSION = -1e+32
DECLINATION = -1e+32
OFFSET_ANGLE = 0.1
SPACECRAFT_SOLAR_DISTANCE = 2.4065e+08
TARGET_NAME = MARS
/* CAMERA DATA ELEMENTS */
DETECTOR_TEMPERATURE = 18.5744
FOCAL_PLANE_TEMPERATURE = 8.1755
INST_CMPRS_NAME = "DISCRETE COSINE TRANSFORMATION (DCT)"
INST_CMPRS_RATIO = 9.80974
INST_CMPRS_QUALITY = 0
INST_CMPRS_QUANTZ_TBL_ID = 0
INSTRUMENT_TEMPERATURE = 11.234
LENS_TEMPERATURE = 8.7872
MACROPIXEL_SIZE = 4
MISSING_FRAMES = 0
PIXEL_SUBSAMPLING_FLAG = N
SIGNAL_CHAIN_ID = 3
/* RADIOMETRIC DATA ELEMENTS */
BANDWIDTH = 177.0
CENTER_FILTER_WAVELENGTH = 676.5
RADIANCE_OFFSET = 3.03417
RADIANCE_SCALING_FACTOR = 0.0181848
REFLECTANCE_SCALING_FACTOR = 0.000558389
MEX:REFLECTANCE_OFFSET = 0.0931682
/* IMAGE OBJECT DEFINITIONS */
OBJECT = IMAGE
  INTERCHANGE_FORMAT = BINARY
  LINES = 18679
  LINE_SAMPLES = 1505
  SAMPLE_TYPE = UNSIGNED_INTEGER
  SAMPLE_BITS = 8
  BANDS = 1
  BAND_STORAGE_TYPE = BAND_SEQUENTIAL
  MAXIMUM = 255
  MEAN = 133.444
  MINIMUM = 1
  STANDARD_DEVIATION = 38.2705
END_OBJECT = IMAGE
/* MAP OBJECT DEFINITIONS */
OBJECT = IMAGE_MAP_PROJECTION
  ^DATA_SET_MAP_PROJECTION_CATALOG= "DSMAP.CAT"
  A_AXIS_RADIUS = 3396.0
  B_AXIS_RADIUS = 3396.0
  C_AXIS_RADIUS = 3396.0
  CENTER_LATITUDE = 0.0
  CENTER_LONGITUDE = 81.0
  COORDINATE_SYSTEM_NAME = PLANETOGRAPHIC
  COORDINATE_SYSTEM_TYPE = "BODY-FIXED ROTATING"
  EASTERNMOST_LONGITUDE = 81.7955
  FIRST_STANDARD_PARALLEL = "N/A"
  LINE_FIRST_PIXEL = 1
  LINE_LAST_PIXEL = 18679
  LINE_PROJECTION_OFFSET = 26046.125
  MAP_PROJECTION_ROTATION = 0.0
  MAP_PROJECTION_TYPE = SINUSOIDAL
  MAP_RESOLUTION = 1185.42760773333
  MAP_SCALE = 0.05
  MAXIMUM_LATITUDE = 21.9621
  MINIMUM_LATITUDE = 6.22288
  POSITIVE_LONGITUDE_DIRECTION = EAST
  REFERENCE_LATITUDE = "N/A"
  REFERENCE_LONGITUDE = "N/A"
  SAMPLE_FIRST_PIXEL = 1
  SAMPLE_LAST_PIXEL = 1505
  SAMPLE_PROJECTION_OFFSET = 584.625
  SECOND_STANDARD_PARALLEL = "N/A"
  WESTERNMOST_LONGITUDE = 80.4901
END_OBJECT = IMAGE_MAP_PROJECTION
END
