PDS_VERSION_ID = PDS3
/* FILE DATA ELEMENTS */
RECORD_TYPE = UNDEFINED
/* POINTERS TO DATA OBJECTS */
^IMAGE = ("H5211_0001_ND4.TIF")
/* IDENTIFICATION DATA ELEMENTS */
DATA_SET_ID = "MEX-M-HRSC-4-REFDR-MAPPROJECT-EXT2-V4.0"
DATA_SET_NAME = "MARS EXPRESS HRSC MAP PROJECTED REFDR EXTENSION2 V4.0"
DETECTOR_ID = MEX_HRSC_NADIR
EVENT_TYPE = "MARS-REGIONAL-MAPPING-Vo-Eo"
INSTRUMENT_HOST_ID = MEX
INSTRUMENT_HOST_NAME = "MARS EXPRESS"
INSTRUMENT_ID = HRSC
INSTRUMENT_NAME = "HIGH RESOLUTION STEREO CAMERA"
MISSION_NAME = "MARS EXPRESS"
MISSION_PHASE_NAME = ME_Phase_11
PROCESSING_LEVEL_ID = 4
PRODUCT_CREATION_TIME = 2023-02-01T12:09:47.000Z
PRODUCT_ID = "H5211_0001_ND4.TIF"
RELEASE_ID = 0001
REVISION_ID = 0000
/* QUALITY DATA ELEMENTS */
DATA_QUALITY_ID = 1
DATA_QUALITY_DESC = "Data calculated based on original SPICE kernels"
/* TIME DATA ELEMENTS */
SPACECRAFT_CLOCK_START_COUNT = "1/0149099493.07318"
SPACECRAFT_CLOCK_STOP_COUNT = "1/0149099689.45002"
START_TIME = 2008-01-22T16:32:11.164Z
STOP_TIME = 2008-01-22T16:34:05.162Z
/* ORBITAL DATA ELEMENTS */
ASCENDING_NODE_LONGITUDE = 119.72
MAXIMUM_RESOLUTION = 0.0155
FOOTPRINT_POINT_LATITUDE = (1.13635,1.13818,1.13964,1.14105, 1.14242,1.14377,1.14508,1.14516,1.145, 1.00616,0.867381,0.728675,0.590057, 0.313046,0.0363504,-0.240008,-0.516051, -0.791777,-1.06718,-1.34226,-1.61699, -1.8271,-1.96791,-2.10864,-2.24926, -2.38979,-2.53024,-2.67059,-2.88275, -3.02655,-3.17025,-3.31385,-3.45735, -3.60074,-3.74405,-3.88724,-4.0336, -4.18025,-4.3268,-4.47323,-4.61956, -4.76577,-4.91188,-5.06103,-5.21055, -5.35993,-5.50923,-5.65838,-5.80742, -5.88189,-5.95689,-5.95895,-5.96089, -5.9625,-5.96416,-5.9655,-5.96617, -5.96624,-5.966,-5.7415,-5.5924, -5.44318,-5.29385,-5.14439,-4.92049, -4.77439,-4.62817,-4.48185,-4.33542, -4.18887,-4.04221,-3.89588,-3.75267, -3.60937,-3.46596,-3.32245,-3.17884, -2.96324,-2.81945,-2.67918,-2.53882, -2.39836,-2.25781,-2.11717,-1.97643, -1.8356,-1.62549,-1.35072,-1.07562, -0.80019,-0.524426,-0.248335,0.0280792, 0.304809,0.581852,0.72049,0.859214, 0.998007,1.06743,1.13635)
FOOTPRINT_POINT_LONGITUDE = (222.998,222.717,222.495,222.276, 222.059,221.845,221.632,221.619,221.614 ,221.611,221.608,221.605,221.602, 221.597,221.591,221.585,221.579,221.574 ,221.568,221.561,221.555,221.551, 221.548,221.544,221.541,221.538,221.535 ,221.532,221.526,221.523,221.52,221.516 ,221.513,221.51,221.506,221.503,221.499 ,221.495,221.492,221.488,221.484, 221.481,221.477,221.473,221.469,221.465 ,221.462,221.458,221.454,221.452,221.45 ,221.743,222.038,222.306,222.608, 222.882,223.028,223.045,223.053,223.05, 223.048,223.047,223.045,223.043,223.041 ,223.039,223.037,223.036,223.034, 223.033,223.032,223.03,223.029,223.027, 223.026,223.025,223.024,223.022,223.02, 223.019,223.019,223.018,223.017,223.016 ,223.014,223.014,223.012,223.011, 223.009,223.007,223.006,223.005,223.004 ,223.002,223.001,223.001,223.001, 223.001,223.001,222.998)
ORBIT_NUMBER = 5211
ORBITAL_ECCENTRICITY = 0.574
ORBITAL_INCLINATION = 86.74
ORBITAL_SEMIMAJOR_AXIS = 8727.07
PERIAPSIS_ALTITUDE = 326.21
PERIAPSIS_ARGUMENT_ANGLE = 161.59
PERIAPSIS_TIME = 2008-01-22T16:27:44.000Z
SPACECRAFT_ORIENTATION = (0.0,-1.0,0.0)
^MEX_ORIENTATION_DESC = "MEX_ORIENTATION_DESC.TXT"
SPACECRAFT_POINTING_MODE = ACROSSTRACK
^MEX_POINTING_DESC = "MEX_POINTING_DESC.TXT"
RIGHT_ASCENSION = -1e+32
DECLINATION = -1e+32
OFFSET_ANGLE = 0.94
SPACECRAFT_SOLAR_DISTANCE = 2.40438e+08
TARGET_NAME = MARS
/* CAMERA DATA ELEMENTS */
DETECTOR_TEMPERATURE = 19.1861
FOCAL_PLANE_TEMPERATURE = 8.7872
INST_CMPRS_NAME = "DISCRETE COSINE TRANSFORMATION (DCT)"
INST_CMPRS_RATIO = 6.22487
INST_CMPRS_QUALITY = 0
INST_CMPRS_QUANTZ_TBL_ID = 0
INSTRUMENT_TEMPERATURE = 12.6613
LENS_TEMPERATURE = 8.7872
MACROPIXEL_SIZE = 1
MISSING_FRAMES = 0
PIXEL_SUBSAMPLING_FLAG = N
SIGNAL_CHAIN_ID = 0
/* RADIOMETRIC DATA ELEMENTS */
BANDWIDTH = 177.0
CENTER_FILTER_WAVELENGTH = 677.5
RADIANCE_OFFSET = 3.06058
RADIANCE_SCALING_FACTOR = 0.0210772
REFLECTANCE_SCALING_FACTOR = 0.0006473
MEX:REFLECTANCE_OFFSET = 0.0939933
/* IMAGE OBJECT DEFINITIONS */
OBJECT = IMAGE
  INTERCHANGE_FORMAT = BINARY
  LINES = 33721
  LINE_SAMPLES = 7559
  SAMPLE_TYPE = UNSIGNED_INTEGER
  SAMPLE_BITS = 8
  BANDS = 1
  BAND_STORAGE_TYPE = BAND_SEQUENTIAL
  MAXIMUM = 255
  MEAN = 126.458
  MINIMUM = 1
  STANDARD_DEVIATION = 12.4017
END_OBJECT = IMAGE
/* MAP OBJECT DEFINITIONS */
OBJECT = IMAGE_MAP_PROJECTION
  ^DATA_SET_MAP_PROJECTION_CATALOG= "DSMAP.CAT"
  A_AXIS_RADIUS = 3396.0
  B_AXIS_RADIUS = 3396.0
  C_AXIS_RADIUS = 3396.0
  CENTER_LATITUDE = 0.0
  CENTER_LONGITUDE = 222.0
  COORDINATE_SYSTEM_NAME = PLANETOGRAPHIC
  COORDINATE_SYSTEM_TYPE = "BODY-FIXED ROTATING"
  EASTERNMOST_LONGITUDE = 223.053
  FIRST_STANDARD_PARALLEL = "N/A"
  LINE_FIRST_PIXEL = 1
  LINE_LAST_PIXEL = 33721
  LINE_PROJECTION_OFFSET = 5430.0
  MAP_PROJECTION_ROTATION = 0.0
  MAP_PROJECTION_TYPE = SINUSOIDAL
  MAP_RESOLUTION = 4741.71043093333
  MAP_SCALE = 0.0125
  MAXIMUM_LATITUDE = 1.14516
  MINIMUM_LATITUDE = -5.96624
  POSITIVE_LONGITUDE_DIRECTION = EAST
  REFERENCE_LATITUDE = "N/A"
  REFERENCE_LONGITUDE = "N/A"
  SAMPLE_FIRST_PIXEL = 1
  SAMPLE_LAST_PIXEL = 7559
  SAMPLE_PROJECTION_OFFSET = 2594.0
  SECOND_STANDARD_PARALLEL = "N/A"
  WESTERNMOST_LONGITUDE = 221.45
END_OBJECT = IMAGE_MAP_PROJECTION
END
