PDS_VERSION_ID = PDS3
/* FILE DATA ELEMENTS */
RECORD_TYPE = UNDEFINED
/* POINTERS TO DATA OBJECTS */
^IMAGE = ("H5209_0000_ND4.TIF")
/* IDENTIFICATION DATA ELEMENTS */
DATA_SET_ID = "MEX-M-HRSC-4-REFDR-MAPPROJECT-EXT2-V4.0"
DATA_SET_NAME = "MARS EXPRESS HRSC MAP PROJECTED REFDR EXTENSION2 V4.0"
DETECTOR_ID = MEX_HRSC_NADIR
EVENT_TYPE = "MARS-REGIONAL-MAPPING-Vo-Im-Eo"
INSTRUMENT_HOST_ID = MEX
INSTRUMENT_HOST_NAME = "MARS EXPRESS"
INSTRUMENT_ID = HRSC
INSTRUMENT_NAME = "HIGH RESOLUTION STEREO CAMERA"
MISSION_NAME = "MARS EXPRESS"
MISSION_PHASE_NAME = ME_Phase_11
PROCESSING_LEVEL_ID = 4
PRODUCT_CREATION_TIME = 2023-02-01T12:09:47.000Z
PRODUCT_ID = "H5209_0000_ND4.TIF"
RELEASE_ID = 0001
REVISION_ID = 0000
/* QUALITY DATA ELEMENTS */
DATA_QUALITY_ID = 1
DATA_QUALITY_DESC = "Data calculated based on original SPICE kernels"
/* TIME DATA ELEMENTS */
SPACECRAFT_CLOCK_START_COUNT = "1/0149050029.07281"
SPACECRAFT_CLOCK_STOP_COUNT = "1/0149050341.04398"
START_TIME = 2008-01-22T02:47:41.933Z
STOP_TIME = 2008-01-22T02:51:43.917Z
/* ORBITAL DATA ELEMENTS */
ASCENDING_NODE_LONGITUDE = 119.76
MAXIMUM_RESOLUTION = 0.013
FOOTPRINT_POINT_LATITUDE = (14.7256,14.7273,14.728,14.7282,14.7282 ,14.728,13.8659,13.4222,13.1252,12.8283 ,12.5315,12.2348,11.9332,11.3405, 10.7482,10.1565,9.56541,9.10956,8.80469 ,8.50003,8.19556,7.89129,7.58724,7.2834 ,6.97979,6.67639,6.37333,6.07032, 5.76772,5.46525,5.16312,4.86123,4.5596, 4.25826,3.95719,3.6564,3.35591,3.05572, 2.52511,2.16787,1.81109,1.45475,1.09892 ,0.743593,0.388714,0.0343371,-0.319519, -0.672869,-0.849345,-0.851828,-0.857163 ,-0.861847,-0.86195,-0.861751,-0.508531 ,-0.154775,0.199491,0.554265,0.909551, 1.2653,1.62154,1.97824,2.3354,2.69301, 3.04537,3.34569,3.64632,3.94723,4.24843 ,4.54992,4.85168,5.15371,5.456,5.75855, 6.06136,6.36441,6.6677,6.97123,7.27499, 7.57897,7.88316,8.18757,8.49219,8.79701 ,9.10201,9.55815,10.1495,10.7415, 11.3341,11.6306,11.9272,12.2289,12.5258 ,12.8227,13.1198,13.417,14.0047,14.5797 ,14.7235,14.7256)
FOOTPRINT_POINT_LONGITUDE = (62.3908,61.9444,61.5951,61.225,61.2135 ,61.2084,61.2059,61.2042,61.2028, 61.2016,61.2,61.1983,61.1965,61.1926, 61.1882,61.1835,61.1782,61.1738,61.1709 ,61.1677,61.1644,61.161,61.1575,61.1539 ,61.1502,61.1465,61.1413,61.1386, 61.1335,61.13,61.1253,61.1208,61.1162, 61.1114,61.1067,61.1018,61.0968,61.0917 ,61.0824,61.076,61.0695,61.0632,61.0561 ,61.0487,61.0417,61.0345,61.0269, 61.0194,61.0156,61.0156,61.7366,62.382, 62.3957,62.4025,62.3996,62.3976,62.3955 ,62.3938,62.3929,62.3911,62.3896,62.388 ,62.3867,62.3852,62.3841,62.383,62.3823 ,62.3812,62.3805,62.3798,62.3792, 62.3787,62.3781,62.3776,62.3772,62.3769 ,62.3764,62.3761,62.3762,62.3762, 62.3759,62.3759,62.3758,62.3763,62.3764 ,62.3769,62.3777,62.3787,62.3795, 62.3801,62.3808,62.3814,62.3822,62.3832 ,62.3838,62.3855,62.3893,62.3891, 62.3897,62.3908)
ORBIT_NUMBER = 5209
ORBITAL_ECCENTRICITY = 0.574
ORBITAL_INCLINATION = 86.74
ORBITAL_SEMIMAJOR_AXIS = 8725.08
PERIAPSIS_ALTITUDE = 325.82
PERIAPSIS_ARGUMENT_ANGLE = 161.97
PERIAPSIS_TIME = 2008-01-22T02:46:51.000Z
SPACECRAFT_ORIENTATION = (0.0,-1.0,0.0)
^MEX_ORIENTATION_DESC = "MEX_ORIENTATION_DESC.TXT"
SPACECRAFT_POINTING_MODE = ACROSSTRACK
^MEX_POINTING_DESC = "MEX_POINTING_DESC.TXT"
RIGHT_ASCENSION = -1e+32
DECLINATION = -1e+32
OFFSET_ANGLE = 0.29
SPACECRAFT_SOLAR_DISTANCE = 2.40353e+08
TARGET_NAME = MARS
/* CAMERA DATA ELEMENTS */
DETECTOR_TEMPERATURE = 18.1666
FOCAL_PLANE_TEMPERATURE = 8.1755
INST_CMPRS_NAME = "DISCRETE COSINE TRANSFORMATION (DCT)"
INST_CMPRS_RATIO = 7.40595
INST_CMPRS_QUALITY = 0
INST_CMPRS_QUANTZ_TBL_ID = 0
INSTRUMENT_TEMPERATURE = 11.234
LENS_TEMPERATURE = 8.7872
MACROPIXEL_SIZE = 1
PIXEL_SUBSAMPLING_FLAG = N
SIGNAL_CHAIN_ID = 0
/* RADIOMETRIC DATA ELEMENTS */
BANDWIDTH = 177.0
CENTER_FILTER_WAVELENGTH = 677.5
RADIANCE_OFFSET = 2.12746
RADIANCE_SCALING_FACTOR = 0.017634
REFLECTANCE_SCALING_FACTOR = 0.000541173
MEX:REFLECTANCE_OFFSET = 0.0652898
/* IMAGE OBJECT DEFINITIONS */
OBJECT = IMAGE
  INTERCHANGE_FORMAT = BINARY
  LINES = 73926
  LINE_SAMPLES = 6577
  SAMPLE_TYPE = UNSIGNED_INTEGER
  SAMPLE_BITS = 8
  BANDS = 1
  BAND_STORAGE_TYPE = BAND_SEQUENTIAL
  MAXIMUM = 255
  MEAN = 121.124
  MINIMUM = 1
  STANDARD_DEVIATION = 31.2931
END_OBJECT = IMAGE
/* MAP OBJECT DEFINITIONS */
OBJECT = IMAGE_MAP_PROJECTION
  ^DATA_SET_MAP_PROJECTION_CATALOG= "DSMAP.CAT"
  A_AXIS_RADIUS = 3396.0
  B_AXIS_RADIUS = 3396.0
  C_AXIS_RADIUS = 3396.0
  CENTER_LATITUDE = 0.0
  CENTER_LONGITUDE = 62.0
  COORDINATE_SYSTEM_NAME = PLANETOGRAPHIC
  COORDINATE_SYSTEM_TYPE = "BODY-FIXED ROTATING"
  EASTERNMOST_LONGITUDE = 62.4025
  FIRST_STANDARD_PARALLEL = "N/A"
  LINE_FIRST_PIXEL = 1
  LINE_LAST_PIXEL = 73926
  LINE_PROJECTION_OFFSET = 69846.0
  MAP_PROJECTION_ROTATION = 0.0
  MAP_PROJECTION_TYPE = SINUSOIDAL
  MAP_RESOLUTION = 4741.71043093333
  MAP_SCALE = 0.0125
  MAXIMUM_LATITUDE = 14.7282
  MINIMUM_LATITUDE = -0.86195
  POSITIVE_LONGITUDE_DIRECTION = EAST
  REFERENCE_LATITUDE = "N/A"
  REFERENCE_LONGITUDE = "N/A"
  SAMPLE_FIRST_PIXEL = 1
  SAMPLE_LAST_PIXEL = 6577
  SAMPLE_PROJECTION_OFFSET = 4664.0
  SECOND_STANDARD_PARALLEL = "N/A"
  WESTERNMOST_LONGITUDE = 61.0156
END_OBJECT = IMAGE_MAP_PROJECTION
END
