PDS_VERSION_ID = PDS3
/* FILE DATA ELEMENTS */
RECORD_TYPE = UNDEFINED
/* POINTERS TO DATA OBJECTS */
^IMAGE = ("H5208_0001_BL4.TIF")
/* IDENTIFICATION DATA ELEMENTS */
DATA_SET_ID = "MEX-M-HRSC-4-REFDR-MAPPROJECT-EXT2-V4.0"
DATA_SET_NAME = "MARS EXPRESS HRSC MAP PROJECTED REFDR EXTENSION2 V4.0"
DETECTOR_ID = MEX_HRSC_BLUE
EVENT_TYPE = "MARS-REGIONAL-MAPPING-Im-Eo"
INSTRUMENT_HOST_ID = MEX
INSTRUMENT_HOST_NAME = "MARS EXPRESS"
INSTRUMENT_ID = HRSC
INSTRUMENT_NAME = "HIGH RESOLUTION STEREO CAMERA"
MISSION_NAME = "MARS EXPRESS"
MISSION_PHASE_NAME = ME_Phase_11
PROCESSING_LEVEL_ID = 4
PRODUCT_CREATION_TIME = 2023-02-01T12:09:47.000Z
PRODUCT_ID = "H5208_0001_BL4.TIF"
RELEASE_ID = 0001
REVISION_ID = 0000
/* QUALITY DATA ELEMENTS */
DATA_QUALITY_ID = 1
DATA_QUALITY_DESC = "Data calculated based on original SPICE kernels"
/* TIME DATA ELEMENTS */
SPACECRAFT_CLOCK_START_COUNT = "1/0149025753.07291"
SPACECRAFT_CLOCK_STOP_COUNT = "1/0149026012.19930"
START_TIME = 2008-01-21T20:03:22.212Z
STOP_TIME = 2008-01-21T20:06:02.679Z
/* ORBITAL DATA ELEMENTS */
ASCENDING_NODE_LONGITUDE = 119.77
MAXIMUM_RESOLUTION = 0.1528
FOOTPRINT_POINT_LATITUDE = (-8.27017,-8.2672,-8.26525,-8.26189, -8.25824,-8.25583,-8.25564,-8.25389, -8.60406,-8.8714,-9.22912,-9.58566, -9.76762,-10.0405,-10.4036,-10.5872, -10.7725,-10.9577,-11.1426,-11.3272, -11.5156,-11.704,-11.8919,-12.0797, -12.2673,-12.4545,-12.6415,-12.8284, -13.0149,-13.2013,-13.3873,-13.6664, -13.8519,-14.0371,-14.222,-14.4062, -14.6822,-14.8661,-15.0496,-15.2329, -15.4161,-15.6896,-15.8721,-16.1452, -16.3267,-16.6891,-17.0505,-17.4105, -17.5003,-17.5149,-17.5186,-17.5211, -17.5244,-17.5288,-17.5311,-17.532, -17.532,-17.53,-17.17,-16.8089,-16.3563 ,-15.993,-15.8106,-15.626,-15.4431, -15.2601,-14.987,-14.8018,-14.5257, -14.3413,-14.157,-13.9738,-13.7885, -13.6026,-13.4167,-13.2307,-13.0444, -12.8578,-12.671,-12.484,-12.2968, -12.1091,-11.921,-11.7328,-11.5443, -11.2632,-11.0787,-10.8933,-10.7081, -10.4313,-10.2498,-10.0681,-9.79495, -9.61275,-9.25602,-8.89851,-8.63131, -8.36864,-8.28101,-8.27017)
FOOTPRINT_POINT_LONGITUDE = (162.232,161.797,161.549,161.177,160.82 ,160.602,160.587,160.573,160.562, 160.555,160.544,160.532,160.526,160.517 ,160.505,160.498,160.492,160.486, 160.479,160.473,160.466,160.46,160.453, 160.446,160.439,160.432,160.425,160.418 ,160.411,160.404,160.397,160.388, 160.381,160.374,160.367,160.359,160.348 ,160.341,160.333,160.326,160.319, 160.307,160.3,160.288,160.281,160.265, 160.25,160.234,160.23,160.23,160.494, 160.7,161.008,161.584,162.079,162.388, 162.408,162.422,162.412,162.403,162.391 ,162.382,162.378,162.377,162.373, 162.369,162.359,162.357,162.351,162.347 ,162.343,162.336,162.332,162.329, 162.325,162.321,162.317,162.314,162.31, 162.306,162.303,162.299,162.296,162.293 ,162.289,162.284,162.28,162.278,162.275 ,162.27,162.267,162.264,162.26,162.257, 162.252,162.247,162.243,162.239,162.238 ,162.232)
ORBIT_NUMBER = 5208
ORBITAL_ECCENTRICITY = 0.573
ORBITAL_INCLINATION = 86.74
ORBITAL_SEMIMAJOR_AXIS = 8716.74
PERIAPSIS_ALTITUDE = 326.66
PERIAPSIS_ARGUMENT_ANGLE = 162.14
PERIAPSIS_TIME = 2008-01-21T19:56:25.000Z
SPACECRAFT_ORIENTATION = (0.0,-1.0,0.0)
^MEX_ORIENTATION_DESC = "MEX_ORIENTATION_DESC.TXT"
SPACECRAFT_POINTING_MODE = NADIR
^MEX_POINTING_DESC = "MEX_POINTING_DESC.TXT"
RIGHT_ASCENSION = -1e+32
DECLINATION = -1e+32
OFFSET_ANGLE = -1e+32
SPACECRAFT_SOLAR_DISTANCE = 2.4031e+08
TARGET_NAME = MARS
/* CAMERA DATA ELEMENTS */
DETECTOR_TEMPERATURE = 19.7978
FOCAL_PLANE_TEMPERATURE = 8.1755
INST_CMPRS_NAME = "DISCRETE COSINE TRANSFORMATION (DCT)"
INST_CMPRS_RATIO = 11.9175
INST_CMPRS_QUALITY = 0
INST_CMPRS_QUANTZ_TBL_ID = 0
INSTRUMENT_TEMPERATURE = 12.6613
LENS_TEMPERATURE = 8.5833
MACROPIXEL_SIZE = 8
MISSING_FRAMES = 0
PIXEL_SUBSAMPLING_FLAG = N
SIGNAL_CHAIN_ID = 2
/* RADIOMETRIC DATA ELEMENTS */
BANDWIDTH = 76.0
CENTER_FILTER_WAVELENGTH = 444.0
RADIANCE_OFFSET = 0.389551
RADIANCE_SCALING_FACTOR = 0.00234415
REFLECTANCE_SCALING_FACTOR = 0.000139088
MEX:REFLECTANCE_OFFSET = 0.0231136
/* IMAGE OBJECT DEFINITIONS */
OBJECT = IMAGE
  INTERCHANGE_FORMAT = BINARY
  LINES = 2754
  LINE_SAMPLES = 619
  SAMPLE_TYPE = UNSIGNED_INTEGER
  SAMPLE_BITS = 8
  BANDS = 1
  BAND_STORAGE_TYPE = BAND_SEQUENTIAL
  MAXIMUM = 255
  MEAN = 108.828
  MINIMUM = 2
  STANDARD_DEVIATION = 26.3711
END_OBJECT = IMAGE
/* MAP OBJECT DEFINITIONS */
OBJECT = IMAGE_MAP_PROJECTION
  ^DATA_SET_MAP_PROJECTION_CATALOG= "DSMAP.CAT"
  A_AXIS_RADIUS = 3396.0
  B_AXIS_RADIUS = 3396.0
  C_AXIS_RADIUS = 3396.0
  CENTER_LATITUDE = 0.0
  CENTER_LONGITUDE = 161.0
  COORDINATE_SYSTEM_NAME = PLANETOGRAPHIC
  COORDINATE_SYSTEM_TYPE = "BODY-FIXED ROTATING"
  EASTERNMOST_LONGITUDE = 162.422
  FIRST_STANDARD_PARALLEL = "N/A"
  LINE_FIRST_PIXEL = 1
  LINE_LAST_PIXEL = 2754
  LINE_PROJECTION_OFFSET = -2458.4375
  MAP_PROJECTION_ROTATION = 0.0
  MAP_PROJECTION_TYPE = SINUSOIDAL
  MAP_RESOLUTION = 296.356901933333
  MAP_SCALE = 0.2
  MAXIMUM_LATITUDE = -8.25389
  MINIMUM_LATITUDE = -17.532
  POSITIVE_LONGITUDE_DIRECTION = EAST
  REFERENCE_LATITUDE = "N/A"
  REFERENCE_LONGITUDE = "N/A"
  SAMPLE_FIRST_PIXEL = 1
  SAMPLE_LAST_PIXEL = 619
  SAMPLE_PROJECTION_OFFSET = 221.8125
  SECOND_STANDARD_PARALLEL = "N/A"
  WESTERNMOST_LONGITUDE = 160.23
END_OBJECT = IMAGE_MAP_PROJECTION
END
