PDS_VERSION_ID = PDS3
/* FILE DATA ELEMENTS */
RECORD_TYPE = UNDEFINED
/* POINTERS TO DATA OBJECTS */
^IMAGE = ("H5206_0000_P24.TIF")
/* IDENTIFICATION DATA ELEMENTS */
DATA_SET_ID = "MEX-M-HRSC-4-REFDR-MAPPROJECT-EXT2-V4.0"
DATA_SET_NAME = "MARS EXPRESS HRSC MAP PROJECTED REFDR EXTENSION2 V4.0"
DETECTOR_ID = MEX_HRSC_P2
EVENT_TYPE = "MARS-REGIONAL-MAPPING-Im"
INSTRUMENT_HOST_ID = MEX
INSTRUMENT_HOST_NAME = "MARS EXPRESS"
INSTRUMENT_ID = HRSC
INSTRUMENT_NAME = "HIGH RESOLUTION STEREO CAMERA"
MISSION_NAME = "MARS EXPRESS"
MISSION_PHASE_NAME = ME_Phase_11
PROCESSING_LEVEL_ID = 4
PRODUCT_CREATION_TIME = 2023-02-01T12:09:47.000Z
PRODUCT_ID = "H5206_0000_P24.TIF"
RELEASE_ID = 0001
REVISION_ID = 0000
/* QUALITY DATA ELEMENTS */
DATA_QUALITY_ID = 1
DATA_QUALITY_DESC = "Data calculated based on original SPICE kernels"
/* TIME DATA ELEMENTS */
SPACECRAFT_CLOCK_START_COUNT = "1/0148976246.09070"
SPACECRAFT_CLOCK_STOP_COUNT = "1/0148976437.31781"
START_TIME = 2008-01-21T06:18:19.207Z
STOP_TIME = 2008-01-21T06:20:26.890Z
/* ORBITAL DATA ELEMENTS */
ASCENDING_NODE_LONGITUDE = 119.83
MAXIMUM_RESOLUTION = 0.0585
FOOTPRINT_POINT_LATITUDE = (7.20385,7.20528,7.20639,7.20775,7.2097 ,7.21129,7.21336,7.21346,7.22109, 6.99329,6.68934,6.45726,6.22286,6.06642 ,5.90985,5.67497,5.5192,5.28534,5.05174 ,4.81809,4.66374,4.43081,4.27505, 4.12023,3.88802,3.7337,3.57859,3.42477, 3.27029,3.11573,2.96197,2.8079,2.57741, 2.42415,2.19464,2.04154,1.88831,1.73543 ,1.50618,1.35355,1.12538,0.972768, 0.820516,0.668561,0.364838,0.098615, -0.0818588,-0.262058,-0.532331, -0.622142,-0.688997,-0.691605,-0.693544 ,-0.697002,-0.697967,-0.701081, -0.702318,-0.702402,-0.701476,-0.431279 ,-0.251112,-0.0708359,0.109942,0.372299 ,0.752325,0.904411,1.13206,1.28433, 1.43702,1.58981,1.8189,1.97198,2.12518, 2.27897,2.50965,2.73999,2.97127,3.12541 ,3.27935,3.51105,3.66565,3.82034, 4.05288,4.20788,4.36293,4.51784,4.67288 ,4.90612,5.0616,5.29811,5.52894,5.68543 ,5.92002,6.07655,6.31134,6.4681,6.62348 ,7.07907,7.1551,7.20385)
FOOTPRINT_POINT_LONGITUDE = (2.20894,1.98906,1.82711,1.6418,1.39846 ,1.21288,0.980281,0.968639,0.961544, 0.958684,0.955043,0.952273,0.948989, 0.946915,0.944928,0.942013,0.939698, 0.936372,0.93298,0.929681,0.926816, 0.923269,0.921171,0.91864,0.914894, 0.912203,0.909925,0.907045,0.904524, 0.902075,0.899266,0.896644,0.892476, 0.889544,0.88503,0.882114,0.879296, 0.876342,0.871946,0.868968,0.86419, 0.861297,0.858267,0.855134,0.848896, 0.843332,0.839398,0.835391,0.82948, 0.827405,0.825857,1.10486,1.30466, 1.57096,1.77068,2.03635,2.23591,2.24923 ,2.25366,2.25157,2.25013,2.24866, 2.24735,2.24545,2.24288,2.24182,2.23994 ,2.23885,2.23789,2.23694,2.23539, 2.23445,2.23352,2.2328,2.23164,2.23025, 2.22916,2.22837,2.22746,2.22635,2.22562 ,2.22489,2.22393,2.22324,2.22252, 2.22172,2.22094,2.21997,2.21928,2.21951 ,2.21736,2.21694,2.21619,2.21571, 2.21492,2.21444,2.214,2.21255,2.21232, 2.20894)
ORBIT_NUMBER = 5206
ORBITAL_ECCENTRICITY = 0.573
ORBITAL_INCLINATION = 86.72
ORBITAL_SEMIMAJOR_AXIS = 8719.97
PERIAPSIS_ALTITUDE = 326.28
PERIAPSIS_ARGUMENT_ANGLE = 162.46
PERIAPSIS_TIME = 2008-01-21T06:15:20.000Z
SPACECRAFT_ORIENTATION = (0.0,-1.0,0.0)
^MEX_ORIENTATION_DESC = "MEX_ORIENTATION_DESC.TXT"
SPACECRAFT_POINTING_MODE = ACROSSTRACK
^MEX_POINTING_DESC = "MEX_POINTING_DESC.TXT"
RIGHT_ASCENSION = -1e+32
DECLINATION = -1e+32
OFFSET_ANGLE = -0.07
SPACECRAFT_SOLAR_DISTANCE = 2.40224e+08
TARGET_NAME = MARS
/* CAMERA DATA ELEMENTS */
DETECTOR_TEMPERATURE = 18.3705
FOCAL_PLANE_TEMPERATURE = 8.3794
INST_CMPRS_NAME = "DISCRETE COSINE TRANSFORMATION (DCT)"
INST_CMPRS_RATIO = 7.86953
INST_CMPRS_QUALITY = 0
INST_CMPRS_QUANTZ_TBL_ID = 0
INSTRUMENT_TEMPERATURE = 11.0301
LENS_TEMPERATURE = 8.7872
MACROPIXEL_SIZE = 4
MISSING_FRAMES = 0
PIXEL_SUBSAMPLING_FLAG = N
SIGNAL_CHAIN_ID = 3
/* RADIOMETRIC DATA ELEMENTS */
BANDWIDTH = 177.0
CENTER_FILTER_WAVELENGTH = 676.5
RADIANCE_OFFSET = 2.50456
RADIANCE_SCALING_FACTOR = 0.0156832
REFLECTANCE_SCALING_FACTOR = 0.000479874
MEX:REFLECTANCE_OFFSET = 0.0766345
/* IMAGE OBJECT DEFINITIONS */
OBJECT = IMAGE
  INTERCHANGE_FORMAT = BINARY
  LINES = 9472
  LINE_SAMPLES = 1645
  SAMPLE_TYPE = UNSIGNED_INTEGER
  SAMPLE_BITS = 8
  BANDS = 1
  BAND_STORAGE_TYPE = BAND_SEQUENTIAL
  MAXIMUM = 255
  MEAN = 110.232
  MINIMUM = 1
  STANDARD_DEVIATION = 38.6662
END_OBJECT = IMAGE
/* MAP OBJECT DEFINITIONS */
OBJECT = IMAGE_MAP_PROJECTION
  ^DATA_SET_MAP_PROJECTION_CATALOG= "DSMAP.CAT"
  A_AXIS_RADIUS = 3396.0
  B_AXIS_RADIUS = 3396.0
  C_AXIS_RADIUS = 3396.0
  CENTER_LATITUDE = 0.0
  CENTER_LONGITUDE = 2.0
  COORDINATE_SYSTEM_NAME = PLANETOGRAPHIC
  COORDINATE_SYSTEM_TYPE = "BODY-FIXED ROTATING"
  EASTERNMOST_LONGITUDE = 2.25366
  FIRST_STANDARD_PARALLEL = "N/A"
  LINE_FIRST_PIXEL = 1
  LINE_LAST_PIXEL = 9472
  LINE_PROJECTION_OFFSET = 8466.625
  MAP_PROJECTION_ROTATION = 0.0
  MAP_PROJECTION_TYPE = SINUSOIDAL
  MAP_RESOLUTION = 1185.42760773333
  MAP_SCALE = 0.05
  MAXIMUM_LATITUDE = 7.22109
  MINIMUM_LATITUDE = -0.702402
  POSITIVE_LONGITUDE_DIRECTION = EAST
  REFERENCE_LATITUDE = "N/A"
  REFERENCE_LONGITUDE = "N/A"
  SAMPLE_FIRST_PIXEL = 1
  SAMPLE_LAST_PIXEL = 1645
  SAMPLE_PROJECTION_OFFSET = 1371.875
  SECOND_STANDARD_PARALLEL = "N/A"
  WESTERNMOST_LONGITUDE = 0.825857
END_OBJECT = IMAGE_MAP_PROJECTION
END
