PDS_VERSION_ID = PDS3
/* FILE DATA ELEMENTS */
RECORD_TYPE = UNDEFINED
/* POINTERS TO DATA OBJECTS */
^IMAGE = ("H5206_0000_ND4.TIF")
/* IDENTIFICATION DATA ELEMENTS */
DATA_SET_ID = "MEX-M-HRSC-4-REFDR-MAPPROJECT-EXT2-V4.0"
DATA_SET_NAME = "MARS EXPRESS HRSC MAP PROJECTED REFDR EXTENSION2 V4.0"
DETECTOR_ID = MEX_HRSC_NADIR
EVENT_TYPE = "MARS-REGIONAL-MAPPING-Im"
INSTRUMENT_HOST_ID = MEX
INSTRUMENT_HOST_NAME = "MARS EXPRESS"
INSTRUMENT_ID = HRSC
INSTRUMENT_NAME = "HIGH RESOLUTION STEREO CAMERA"
MISSION_NAME = "MARS EXPRESS"
MISSION_PHASE_NAME = ME_Phase_11
PROCESSING_LEVEL_ID = 4
PRODUCT_CREATION_TIME = 2023-02-01T12:09:47.000Z
PRODUCT_ID = "H5206_0000_ND4.TIF"
RELEASE_ID = 0001
REVISION_ID = 0000
/* QUALITY DATA ELEMENTS */
DATA_QUALITY_ID = 1
DATA_QUALITY_DESC = "Data calculated based on original SPICE kernels"
/* TIME DATA ELEMENTS */
SPACECRAFT_CLOCK_START_COUNT = "1/0148976246.09070"
SPACECRAFT_CLOCK_STOP_COUNT = "1/0148976437.31781"
START_TIME = 2008-01-21T06:17:59.344Z
STOP_TIME = 2008-01-21T06:20:04.323Z
/* ORBITAL DATA ELEMENTS */
ASCENDING_NODE_LONGITUDE = 119.83
MAXIMUM_RESOLUTION = 0.014
FOOTPRINT_POINT_LATITUDE = (7.13423,7.13519,7.13651,7.1381,7.13897 ,7.13973,7.13977,7.13976,6.82561, 6.51169,6.19804,5.88461,5.57145,5.25855 ,5.01777,4.85631,4.69497,4.53367, 4.37242,4.21127,4.05021,3.88922,3.72835 ,3.56748,3.40672,3.24605,3.08546, 2.92496,2.76454,2.60424,2.44399,2.28383 ,2.12376,1.96378,1.80389,1.64408, 1.48437,1.32475,1.16522,1.00579, 0.846455,0.687214,0.528064,0.369012, 0.210057,-0.107552,-0.424758,-0.741554, -0.820687,-0.840259,-0.841772,-0.843984 ,-0.846388,-0.848068,-0.850183, -0.850281,-0.85012,-0.533267,-0.216015, 0.101645,0.260624,0.4197,0.578874, 0.738147,0.897512,1.05697,1.21652, 1.37616,1.5359,1.69574,1.85565,2.01567, 2.17578,2.33598,2.49626,2.65663,2.81708 ,2.97762,3.13824,3.29895,3.45973, 3.62061,3.78156,3.94259,4.10371,4.2649, 4.42617,4.5875,4.74892,4.91042,5.072, 5.23279,5.54579,5.85912,6.1727,6.48654, 6.80061,7.03633,7.11493,7.13423)
FOOTPRINT_POINT_LONGITUDE = (2.19689,2.02861,1.77608,1.42695, 1.20996,0.992361,0.98027,0.970232, 0.96685,0.963493,0.959611,0.955976, 0.952217,0.948107,0.944944,0.942949, 0.939977,0.93775,0.936076,0.933642, 0.931226,0.92879,0.925477,0.92381, 0.921502,0.919084,0.916654,0.914042, 0.911484,0.908226,0.905645,0.902961, 0.900137,0.897449,0.894601,0.89181, 0.888981,0.886082,0.883224,0.880235, 0.877261,0.874226,0.871247,0.868214, 0.865176,0.858876,0.85239,0.845729, 0.844001,0.84359,1.04893,1.35005, 1.67811,1.91036,2.21059,2.22425,2.23094 ,2.22907,2.22704,2.22521,2.22434, 2.22342,2.22257,2.22178,2.22089,2.22008 ,2.21894,2.21806,2.21732,2.21656, 2.21561,2.21491,2.21438,2.21377,2.21316 ,2.21255,2.21186,2.21127,2.21068, 2.21003,2.20932,2.20884,2.20826,2.20763 ,2.20748,2.20699,2.20643,2.20581,2.2053 ,2.20486,2.20482,2.2053,2.20298,2.20253 ,2.2018,2.20126,2.20066,2.20027,2.20013 ,2.19689)
ORBIT_NUMBER = 5206
ORBITAL_ECCENTRICITY = 0.573
ORBITAL_INCLINATION = 86.72
ORBITAL_SEMIMAJOR_AXIS = 8719.97
PERIAPSIS_ALTITUDE = 326.28
PERIAPSIS_ARGUMENT_ANGLE = 162.46
PERIAPSIS_TIME = 2008-01-21T06:15:20.000Z
SPACECRAFT_ORIENTATION = (0.0,-1.0,0.0)
^MEX_ORIENTATION_DESC = "MEX_ORIENTATION_DESC.TXT"
SPACECRAFT_POINTING_MODE = ACROSSTRACK
^MEX_POINTING_DESC = "MEX_POINTING_DESC.TXT"
RIGHT_ASCENSION = -1e+32
DECLINATION = -1e+32
OFFSET_ANGLE = -0.07
SPACECRAFT_SOLAR_DISTANCE = 2.40224e+08
TARGET_NAME = MARS
/* CAMERA DATA ELEMENTS */
DETECTOR_TEMPERATURE = 16.9432
FOCAL_PLANE_TEMPERATURE = 8.3794
INST_CMPRS_NAME = "DISCRETE COSINE TRANSFORMATION (DCT)"
INST_CMPRS_RATIO = 7.32918
INST_CMPRS_QUALITY = 0
INST_CMPRS_QUANTZ_TBL_ID = 0
INSTRUMENT_TEMPERATURE = 11.0301
LENS_TEMPERATURE = 8.7872
MACROPIXEL_SIZE = 1
MISSING_FRAMES = 0
PIXEL_SUBSAMPLING_FLAG = N
SIGNAL_CHAIN_ID = 0
/* RADIOMETRIC DATA ELEMENTS */
BANDWIDTH = 177.0
CENTER_FILTER_WAVELENGTH = 677.5
RADIANCE_OFFSET = 2.22416
RADIANCE_SCALING_FACTOR = 0.0155483
REFLECTANCE_SCALING_FACTOR = 0.000476652
MEX:REFLECTANCE_OFFSET = 0.0681844
/* IMAGE OBJECT DEFINITIONS */
OBJECT = IMAGE
  INTERCHANGE_FORMAT = BINARY
  LINES = 37888
  LINE_SAMPLES = 6580
  SAMPLE_TYPE = UNSIGNED_INTEGER
  SAMPLE_BITS = 8
  BANDS = 1
  BAND_STORAGE_TYPE = BAND_SEQUENTIAL
  MAXIMUM = 255
  MEAN = 111.365
  MINIMUM = 1
  STANDARD_DEVIATION = 37.3802
END_OBJECT = IMAGE
/* MAP OBJECT DEFINITIONS */
OBJECT = IMAGE_MAP_PROJECTION
  ^DATA_SET_MAP_PROJECTION_CATALOG= "DSMAP.CAT"
  A_AXIS_RADIUS = 3396.0
  B_AXIS_RADIUS = 3396.0
  C_AXIS_RADIUS = 3396.0
  CENTER_LATITUDE = 0.0
  CENTER_LONGITUDE = 2.0
  COORDINATE_SYSTEM_NAME = PLANETOGRAPHIC
  COORDINATE_SYSTEM_TYPE = "BODY-FIXED ROTATING"
  EASTERNMOST_LONGITUDE = 2.23094
  FIRST_STANDARD_PARALLEL = "N/A"
  LINE_FIRST_PIXEL = 1
  LINE_LAST_PIXEL = 37888
  LINE_PROJECTION_OFFSET = 33868.0
  MAP_PROJECTION_ROTATION = 0.0
  MAP_PROJECTION_TYPE = SINUSOIDAL
  MAP_RESOLUTION = 4741.71043093333
  MAP_SCALE = 0.0125
  MAXIMUM_LATITUDE = 7.13977
  MINIMUM_LATITUDE = -0.850281
  POSITIVE_LONGITUDE_DIRECTION = EAST
  REFERENCE_LATITUDE = "N/A"
  REFERENCE_LONGITUDE = "N/A"
  SAMPLE_FIRST_PIXEL = 1
  SAMPLE_LAST_PIXEL = 6580
  SAMPLE_PROJECTION_OFFSET = 5489.0
  SECOND_STANDARD_PARALLEL = "N/A"
  WESTERNMOST_LONGITUDE = 0.84359
END_OBJECT = IMAGE_MAP_PROJECTION
END
