PDS_VERSION_ID = PDS3
/* FILE DATA ELEMENTS */
RECORD_TYPE = UNDEFINED
/* POINTERS TO DATA OBJECTS */
^IMAGE = ("H5196_0000_IR4.TIF")
/* IDENTIFICATION DATA ELEMENTS */
DATA_SET_ID = "MEX-M-HRSC-4-REFDR-MAPPROJECT-EXT2-V4.0"
DATA_SET_NAME = "MARS EXPRESS HRSC MAP PROJECTED REFDR EXTENSION2 V4.0"
DETECTOR_ID = MEX_HRSC_IR
EVENT_TYPE = "MARS-REGIONAL-MAPPING-Fl-Lc-La"
INSTRUMENT_HOST_ID = MEX
INSTRUMENT_HOST_NAME = "MARS EXPRESS"
INSTRUMENT_ID = HRSC
INSTRUMENT_NAME = "HIGH RESOLUTION STEREO CAMERA"
MISSION_NAME = "MARS EXPRESS"
MISSION_PHASE_NAME = ME_Phase_11
PROCESSING_LEVEL_ID = 4
PRODUCT_CREATION_TIME = 2023-02-01T12:09:47.000Z
PRODUCT_ID = "H5196_0000_IR4.TIF"
RELEASE_ID = 0001
REVISION_ID = 0000
/* QUALITY DATA ELEMENTS */
DATA_QUALITY_ID = 1
DATA_QUALITY_DESC = "Data calculated based on original SPICE kernels"
/* TIME DATA ELEMENTS */
SPACECRAFT_CLOCK_START_COUNT = "1/0148730062.09067"
SPACECRAFT_CLOCK_STOP_COUNT = "1/0148730377.00976"
START_TIME = 2008-01-18T09:54:31.370Z
STOP_TIME = 2008-01-18T09:58:11.110Z
/* ORBITAL DATA ELEMENTS */
ASCENDING_NODE_LONGITUDE = 120.02
MAXIMUM_RESOLUTION = 0.1251
FOOTPRINT_POINT_LATITUDE = (-1.21556,-1.2172,-1.22,-1.22603, -1.22617,-1.20193,-1.44996,-1.94498, -2.19277,-2.68652,-3.05829,-3.55343, -4.04811,-4.4186,-4.9325,-5.22765, -5.5224,-5.83172,-6.11494,-6.405, -6.69937,-6.99627,-7.30271,-7.63528, -7.92658,-8.357,-8.66693,-8.94436, -9.20774,-9.4962,-9.9311,-10.2219, -10.6655,-10.9632,-11.2612,-11.5598, -11.866,-12.1719,-12.4773,-12.9428, -13.2561,-13.7249,-14.2052,-14.5233, -14.8449,-15.3341,-15.4968,-15.538, -15.543,-15.5397,-15.5392,-15.5387, -15.5387,-15.5366,-15.21,-14.8828, -14.56,-14.241,-13.9235,-13.6086, -13.2945,-12.982,-12.6681,-12.361, -12.0547,-11.7479,-11.4449,-10.9961, -10.6968,-10.252,-9.961,-9.68124, -9.40971,-9.1312,-8.69081,-8.39819, -8.10598,-7.79273,-7.46642,-7.17061, -6.87614,-6.43485,-6.15541,-5.84475, -5.55023,-5.266,-4.95924,-4.68654, -4.19152,-3.94357,-3.69571,-3.44709, -2.96157,-2.71361,-2.46225,-2.21149, -1.71837,-1.36921,-1.24024,-1.21556)
FOOTPRINT_POINT_LONGITUDE = (282.482,282.178,281.786,281.193,281.18 ,281.186,281.181,281.172,281.168, 281.159,281.151,281.141,281.131,281.123 ,281.112,281.105,281.098,281.085, 281.083,281.078,281.07,281.062,281.049, 281.025,281.018,281.01,280.995,280.994, 280.999,280.992,280.982,280.974,280.961 ,280.953,280.944,280.935,280.926, 280.917,280.907,280.892,280.882,280.866 ,280.85,280.84,280.829,280.812,280.807, 280.805,281.279,281.739,282.061,282.585 ,282.602,282.613,282.608,282.602, 282.597,282.592,282.588,282.583,282.578 ,282.574,282.57,282.565,282.561,282.557 ,282.553,282.548,282.545,282.54,282.537 ,282.536,282.537,282.537,282.532,282.53 ,282.527,282.521,282.513,282.51,282.507 ,282.504,282.505,282.5,282.498,282.498, 282.494,282.492,282.49,282.488,282.487, 282.486,282.485,282.484,282.483,282.481 ,282.48,282.483,282.481,282.482)
ORBIT_NUMBER = 5196
ORBITAL_ECCENTRICITY = 0.574
ORBITAL_INCLINATION = 86.73
ORBITAL_SEMIMAJOR_AXIS = 8726.85
PERIAPSIS_ALTITUDE = 324.56
PERIAPSIS_ARGUMENT_ANGLE = 164.25
PERIAPSIS_TIME = 2008-01-18T09:50:43.000Z
SPACECRAFT_ORIENTATION = (0.0,-1.0,0.0)
^MEX_ORIENTATION_DESC = "MEX_ORIENTATION_DESC.TXT"
SPACECRAFT_POINTING_MODE = ACROSSTRACK
^MEX_POINTING_DESC = "MEX_POINTING_DESC.TXT"
RIGHT_ASCENSION = -1e+32
DECLINATION = -1e+32
OFFSET_ANGLE = -0.28
SPACECRAFT_SOLAR_DISTANCE = 2.39791e+08
TARGET_NAME = MARS
/* CAMERA DATA ELEMENTS */
DETECTOR_TEMPERATURE = 17.351
FOCAL_PLANE_TEMPERATURE = 7.9716
INST_CMPRS_NAME = "DISCRETE COSINE TRANSFORMATION (DCT)"
INST_CMPRS_RATIO = 13.6375
INST_CMPRS_QUALITY = 0
INST_CMPRS_QUANTZ_TBL_ID = 0
INSTRUMENT_TEMPERATURE = 11.0301
LENS_TEMPERATURE = 7.9716
MACROPIXEL_SIZE = 8
MISSING_FRAMES = 0
PIXEL_SUBSAMPLING_FLAG = N
SIGNAL_CHAIN_ID = 2
/* RADIOMETRIC DATA ELEMENTS */
BANDWIDTH = 81.0
CENTER_FILTER_WAVELENGTH = 955.5
RADIANCE_OFFSET = 0.48208
RADIANCE_SCALING_FACTOR = 0.00655771
REFLECTANCE_SCALING_FACTOR = 0.000813473
MEX:REFLECTANCE_OFFSET = 0.0598013
/* IMAGE OBJECT DEFINITIONS */
OBJECT = IMAGE
  INTERCHANGE_FORMAT = BINARY
  LINES = 8435
  LINE_SAMPLES = 1078
  SAMPLE_TYPE = UNSIGNED_INTEGER
  SAMPLE_BITS = 8
  BANDS = 1
  BAND_STORAGE_TYPE = BAND_SEQUENTIAL
  MAXIMUM = 255
  MEAN = 90.4718
  MINIMUM = 1
  STANDARD_DEVIATION = 31.1735
END_OBJECT = IMAGE
/* MAP OBJECT DEFINITIONS */
OBJECT = IMAGE_MAP_PROJECTION
  ^DATA_SET_MAP_PROJECTION_CATALOG= "DSMAP.CAT"
  A_AXIS_RADIUS = 3396.0
  B_AXIS_RADIUS = 3396.0
  C_AXIS_RADIUS = 3396.0
  CENTER_LATITUDE = 0.0
  CENTER_LONGITUDE = 282.0
  COORDINATE_SYSTEM_NAME = PLANETOGRAPHIC
  COORDINATE_SYSTEM_TYPE = "BODY-FIXED ROTATING"
  EASTERNMOST_LONGITUDE = 282.613
  FIRST_STANDARD_PARALLEL = "N/A"
  LINE_FIRST_PIXEL = 1
  LINE_LAST_PIXEL = 8435
  LINE_PROJECTION_OFFSET = -631.3125
  MAP_PROJECTION_ROTATION = 0.0
  MAP_PROJECTION_TYPE = SINUSOIDAL
  MAP_RESOLUTION = 592.713803866667
  MAP_SCALE = 0.1
  MAXIMUM_LATITUDE = -1.20193
  MINIMUM_LATITUDE = -15.543
  POSITIVE_LONGITUDE_DIRECTION = EAST
  REFERENCE_LATITUDE = "N/A"
  REFERENCE_LONGITUDE = "N/A"
  SAMPLE_FIRST_PIXEL = 1
  SAMPLE_LAST_PIXEL = 1078
  SAMPLE_PROJECTION_OFFSET = 704.5625
  SECOND_STANDARD_PARALLEL = "N/A"
  WESTERNMOST_LONGITUDE = 280.805
END_OBJECT = IMAGE_MAP_PROJECTION
END
