PDS_VERSION_ID = PDS3
/* FILE DATA ELEMENTS */
RECORD_TYPE = UNDEFINED
/* POINTERS TO DATA OBJECTS */
^IMAGE = ("H5196_0000_BL4.TIF")
/* IDENTIFICATION DATA ELEMENTS */
DATA_SET_ID = "MEX-M-HRSC-4-REFDR-MAPPROJECT-EXT2-V4.0"
DATA_SET_NAME = "MARS EXPRESS HRSC MAP PROJECTED REFDR EXTENSION2 V4.0"
DETECTOR_ID = MEX_HRSC_BLUE
EVENT_TYPE = "MARS-REGIONAL-MAPPING-Fl-Lc-La"
INSTRUMENT_HOST_ID = MEX
INSTRUMENT_HOST_NAME = "MARS EXPRESS"
INSTRUMENT_ID = HRSC
INSTRUMENT_NAME = "HIGH RESOLUTION STEREO CAMERA"
MISSION_NAME = "MARS EXPRESS"
MISSION_PHASE_NAME = ME_Phase_11
PROCESSING_LEVEL_ID = 4
PRODUCT_CREATION_TIME = 2023-02-01T12:09:47.000Z
PRODUCT_ID = "H5196_0000_BL4.TIF"
RELEASE_ID = 0001
REVISION_ID = 0000
/* QUALITY DATA ELEMENTS */
DATA_QUALITY_ID = 1
DATA_QUALITY_DESC = "Data calculated based on original SPICE kernels"
/* TIME DATA ELEMENTS */
SPACECRAFT_CLOCK_START_COUNT = "1/0148730062.09067"
SPACECRAFT_CLOCK_STOP_COUNT = "1/0148730377.00976"
START_TIME = 2008-01-18T09:55:03.116Z
STOP_TIME = 2008-01-18T09:58:55.446Z
/* ORBITAL DATA ELEMENTS */
ASCENDING_NODE_LONGITUDE = 120.02
MAXIMUM_RESOLUTION = 0.1216
FOOTPRINT_POINT_LATITUDE = (-1.05815,-1.05481,-1.05111,-1.04598, -1.04586,-1.04812,-1.52323,-1.99745, -2.47074,-2.74651,-3.02813,-3.30941, -3.59035,-3.87092,-4.15116,-4.43101, -4.71049,-4.9896,-5.26831,-5.54666, -5.82412,-6.10208,-6.37937,-6.65613, -6.93247,-7.20815,-7.75746,-8.17879, -8.46071,-8.74102,-9.02503,-9.31349, -9.60018,-9.88694,-10.3247,-10.6172, -10.9093,-11.2077,-11.5059,-11.8035, -12.1062,-12.4099,-12.7129,-13.1761, -13.4848,-13.9544,-14.2685,-14.746, -15.0654,-15.2255,-15.2301,-15.2396, -15.2443,-15.249,-15.2491,-15.2469, -14.7672,-14.2895,-13.9753,-13.5053, -13.0419,-12.7331,-12.43,-12.1262, -11.8233,-11.5256,-11.2272,-10.9287, -10.6366,-10.3439,-9.90589,-9.61868, -9.33123,-8.90016,-8.61933,-8.33794, -8.0561,-7.77595,-7.22587,-6.94978, -6.67328,-6.25757,-5.98027,-5.70235, -5.28453,-5.00591,-4.72666,-4.44704, -4.16704,-3.88669,-3.60598,-3.32474, -3.04325,-2.76147,-2.48532,-2.01184, -1.53705,-1.18065,-1.06171,-1.05815)
FOOTPRINT_POINT_LONGITUDE = (282.495,282.139,281.743,281.196, 281.183,281.188,281.178,281.169,281.16, 281.155,281.148,281.142,281.136,281.13, 281.123,281.117,281.11,281.104,281.097, 281.09,281.076,281.074,281.069,281.062, 281.054,281.043,281.009,280.998,280.996 ,280.979,280.98,280.984,280.971,280.966 ,280.953,280.944,280.936,280.927, 280.917,280.907,280.897,280.887,280.876 ,280.86,280.849,280.832,280.82,280.803, 280.792,280.786,280.785,281.543,282.018 ,282.632,282.649,282.661,282.651, 282.642,282.636,282.628,282.619,282.614 ,282.608,282.603,282.598,282.593, 282.589,282.584,282.58,282.576,282.57, 282.571,282.57,282.567,282.563,282.56, 282.556,282.55,282.537,282.534,282.531, 282.528,282.524,282.522,282.52,282.515, 282.513,282.511,282.509,282.507,282.504 ,282.504,282.502,282.501,282.498, 282.495,282.496,282.494,282.493, 282.495)
ORBIT_NUMBER = 5196
ORBITAL_ECCENTRICITY = 0.574
ORBITAL_INCLINATION = 86.73
ORBITAL_SEMIMAJOR_AXIS = 8726.85
PERIAPSIS_ALTITUDE = 324.56
PERIAPSIS_ARGUMENT_ANGLE = 164.25
PERIAPSIS_TIME = 2008-01-18T09:50:43.000Z
SPACECRAFT_ORIENTATION = (0.0,-1.0,0.0)
^MEX_ORIENTATION_DESC = "MEX_ORIENTATION_DESC.TXT"
SPACECRAFT_POINTING_MODE = ACROSSTRACK
^MEX_POINTING_DESC = "MEX_POINTING_DESC.TXT"
RIGHT_ASCENSION = -1e+32
DECLINATION = -1e+32
OFFSET_ANGLE = -0.28
SPACECRAFT_SOLAR_DISTANCE = 2.39791e+08
TARGET_NAME = MARS
/* CAMERA DATA ELEMENTS */
DETECTOR_TEMPERATURE = 18.1666
FOCAL_PLANE_TEMPERATURE = 7.9716
INST_CMPRS_NAME = "DISCRETE COSINE TRANSFORMATION (DCT)"
INST_CMPRS_RATIO = 16.8344
INST_CMPRS_QUALITY = 0
INST_CMPRS_QUANTZ_TBL_ID = 0
INSTRUMENT_TEMPERATURE = 11.0301
LENS_TEMPERATURE = 7.9716
MACROPIXEL_SIZE = 8
MISSING_FRAMES = 0
PIXEL_SUBSAMPLING_FLAG = N
SIGNAL_CHAIN_ID = 2
/* RADIOMETRIC DATA ELEMENTS */
BANDWIDTH = 76.0
CENTER_FILTER_WAVELENGTH = 444.0
RADIANCE_OFFSET = 0.351425
RADIANCE_SCALING_FACTOR = 0.00316345
REFLECTANCE_SCALING_FACTOR = 0.000186889
MEX:REFLECTANCE_OFFSET = 0.0207613
/* IMAGE OBJECT DEFINITIONS */
OBJECT = IMAGE
  INTERCHANGE_FORMAT = BINARY
  LINES = 8435
  LINE_SAMPLES = 1078
  SAMPLE_TYPE = UNSIGNED_INTEGER
  SAMPLE_BITS = 8
  BANDS = 1
  BAND_STORAGE_TYPE = BAND_SEQUENTIAL
  MAXIMUM = 255
  MEAN = 93.5331
  MINIMUM = 1
  STANDARD_DEVIATION = 30.1069
END_OBJECT = IMAGE
/* MAP OBJECT DEFINITIONS */
OBJECT = IMAGE_MAP_PROJECTION
  ^DATA_SET_MAP_PROJECTION_CATALOG= "DSMAP.CAT"
  A_AXIS_RADIUS = 3396.0
  B_AXIS_RADIUS = 3396.0
  C_AXIS_RADIUS = 3396.0
  CENTER_LATITUDE = 0.0
  CENTER_LONGITUDE = 282.0
  COORDINATE_SYSTEM_NAME = PLANETOGRAPHIC
  COORDINATE_SYSTEM_TYPE = "BODY-FIXED ROTATING"
  EASTERNMOST_LONGITUDE = 282.661
  FIRST_STANDARD_PARALLEL = "N/A"
  LINE_FIRST_PIXEL = 1
  LINE_LAST_PIXEL = 8435
  LINE_PROJECTION_OFFSET = -631.3125
  MAP_PROJECTION_ROTATION = 0.0
  MAP_PROJECTION_TYPE = SINUSOIDAL
  MAP_RESOLUTION = 592.713803866667
  MAP_SCALE = 0.1
  MAXIMUM_LATITUDE = -1.04586
  MINIMUM_LATITUDE = -15.2491
  POSITIVE_LONGITUDE_DIRECTION = EAST
  REFERENCE_LATITUDE = "N/A"
  REFERENCE_LONGITUDE = "N/A"
  SAMPLE_FIRST_PIXEL = 1
  SAMPLE_LAST_PIXEL = 1078
  SAMPLE_PROJECTION_OFFSET = 704.5625
  SECOND_STANDARD_PARALLEL = "N/A"
  WESTERNMOST_LONGITUDE = 280.785
END_OBJECT = IMAGE_MAP_PROJECTION
END
