PDS_VERSION_ID = PDS3
/* FILE DATA ELEMENTS */
RECORD_TYPE = UNDEFINED
/* POINTERS TO DATA OBJECTS */
^IMAGE = ("H5195_0000_BL4.TIF")
/* IDENTIFICATION DATA ELEMENTS */
DATA_SET_ID = "MEX-M-HRSC-4-REFDR-MAPPROJECT-EXT2-V4.0"
DATA_SET_NAME = "MARS EXPRESS HRSC MAP PROJECTED REFDR EXTENSION2 V4.0"
DETECTOR_ID = MEX_HRSC_BLUE
EVENT_TYPE = "MARS-REGIONAL-MAPPING-Im-Fl"
INSTRUMENT_HOST_ID = MEX
INSTRUMENT_HOST_NAME = "MARS EXPRESS"
INSTRUMENT_ID = HRSC
INSTRUMENT_NAME = "HIGH RESOLUTION STEREO CAMERA"
MISSION_NAME = "MARS EXPRESS"
MISSION_PHASE_NAME = ME_Phase_11
PROCESSING_LEVEL_ID = 4
PRODUCT_CREATION_TIME = 2023-02-01T12:09:47.000Z
PRODUCT_ID = "H5195_0000_BL4.TIF"
RELEASE_ID = 0001
REVISION_ID = 0000
/* QUALITY DATA ELEMENTS */
DATA_QUALITY_ID = 1
DATA_QUALITY_DESC = "Data calculated based on original SPICE kernels"
/* TIME DATA ELEMENTS */
SPACECRAFT_CLOCK_START_COUNT = "1/0148704806.09049"
SPACECRAFT_CLOCK_STOP_COUNT = "1/0148705062.63988"
START_TIME = 2008-01-18T02:54:26.521Z
STOP_TIME = 2008-01-18T02:57:17.798Z
/* ORBITAL DATA ELEMENTS */
ASCENDING_NODE_LONGITUDE = 120.05
MAXIMUM_RESOLUTION = 0.1138
FOOTPRINT_POINT_LATITUDE = (37.9655,37.9615,37.9576,37.9533, 37.9483,37.9427,37.9359,37.9355,37.935, 37.6982,37.3431,37.1111,36.8788,36.6463 ,36.4142,36.1867,35.959,35.731,35.3904, 35.1674,34.9443,34.7209,34.387,34.1687, 33.9502,33.7315,33.5127,33.296,32.9755, 32.7619,32.4412,32.2271,31.8094,31.3907 ,31.0763,30.6569,30.2369,29.8165, 29.6059,29.2899,29.0791,28.8681,28.6571 ,28.4459,28.2346,28.0231,27.8116, 27.5999,27.2824,27.1765,27.0746,27.0783 ,27.0817,27.0841,27.0856,27.0857, 27.0878,27.2999,27.512,27.724,27.9359, 28.1477,28.3594,28.5709,28.7823,28.9935 ,29.2047,29.4158,29.7322,29.9429, 30.3639,30.7843,31.2042,31.6236,32.0422 ,32.3586,32.5731,32.7875,33.0017, 33.2157,33.5399,33.7592,34.0878,34.3065 ,34.5266,34.7506,34.9745,35.1981, 35.4216,35.7632,35.9916,36.2198,36.4478 ,36.6807,36.9137,37.1465,37.3791, 37.7353,37.8542,37.9655)
FOOTPRINT_POINT_LONGITUDE = (23.2715,22.8649,22.5653,22.2841,22.004 ,21.7243,21.4276,21.4102,21.3874, 21.4004,21.4194,21.4318,21.4439,21.4558 ,21.4674,21.4786,21.4898,21.5009, 21.5172,21.5277,21.538,21.5481,21.5625, 21.5719,21.5814,21.5906,21.5994,21.6084 ,21.6209,21.6277,21.6372,21.6452,21.66, 21.6765,21.6882,21.7017,21.7148,21.7266 ,21.7334,21.7427,21.7484,21.7542, 21.7599,21.7654,21.7707,21.7761,21.7814 ,21.7866,21.7924,21.7946,21.7968, 22.1313,22.4928,22.8303,23.1566,23.1697 ,23.1785,23.18,23.182,23.1838,23.1863, 23.1883,23.1909,23.1927,23.1945,23.1964 ,23.1986,23.2011,23.2056,23.2078, 23.2117,23.2156,23.2196,23.225,23.2284, 23.2314,23.2339,23.2357,23.2381,23.2397 ,23.2443,23.2467,23.2517,23.2535, 23.2565,23.2592,23.2623,23.266,23.2692, 23.2747,23.2772,23.2799,23.283,23.2865, 23.2887,23.2915,23.2941,23.2992,23.3022 ,23.2715)
ORBIT_NUMBER = 5195
ORBITAL_ECCENTRICITY = 0.574
ORBITAL_INCLINATION = 86.72
ORBITAL_SEMIMAJOR_AXIS = 8723.79
PERIAPSIS_ALTITUDE = 324.8
PERIAPSIS_ARGUMENT_ANGLE = 164.42
PERIAPSIS_TIME = 2008-01-18T03:00:14.000Z
SPACECRAFT_ORIENTATION = (0.0,-1.0,0.0)
^MEX_ORIENTATION_DESC = "MEX_ORIENTATION_DESC.TXT"
SPACECRAFT_POINTING_MODE = ACROSSTRACK
^MEX_POINTING_DESC = "MEX_POINTING_DESC.TXT"
RIGHT_ASCENSION = -1e+32
DECLINATION = -1e+32
OFFSET_ANGLE = 0.24
SPACECRAFT_SOLAR_DISTANCE = 2.39747e+08
TARGET_NAME = MARS
/* CAMERA DATA ELEMENTS */
DETECTOR_TEMPERATURE = 18.1666
FOCAL_PLANE_TEMPERATURE = 7.5638
INST_CMPRS_NAME = "DISCRETE COSINE TRANSFORMATION (DCT)"
INST_CMPRS_RATIO = 9.95697
INST_CMPRS_QUALITY = 0
INST_CMPRS_QUANTZ_TBL_ID = 0
INSTRUMENT_TEMPERATURE = 11.0301
LENS_TEMPERATURE = 8.1755
MACROPIXEL_SIZE = 8
MISSING_FRAMES = 0
PIXEL_SUBSAMPLING_FLAG = N
SIGNAL_CHAIN_ID = 2
/* RADIOMETRIC DATA ELEMENTS */
BANDWIDTH = 76.0
CENTER_FILTER_WAVELENGTH = 444.0
RADIANCE_OFFSET = 0.319337
RADIANCE_SCALING_FACTOR = 0.00202455
REFLECTANCE_SCALING_FACTOR = 0.000119561
MEX:REFLECTANCE_OFFSET = 0.0188585
/* IMAGE OBJECT DEFINITIONS */
OBJECT = IMAGE
  INTERCHANGE_FORMAT = BINARY
  LINES = 6461
  LINE_SAMPLES = 930
  SAMPLE_TYPE = UNSIGNED_INTEGER
  SAMPLE_BITS = 8
  BANDS = 1
  BAND_STORAGE_TYPE = BAND_SEQUENTIAL
  MAXIMUM = 255
  MEAN = 146.747
  MINIMUM = 1
  STANDARD_DEVIATION = 25.6731
END_OBJECT = IMAGE
/* MAP OBJECT DEFINITIONS */
OBJECT = IMAGE_MAP_PROJECTION
  ^DATA_SET_MAP_PROJECTION_CATALOG= "DSMAP.CAT"
  A_AXIS_RADIUS = 3396.0
  B_AXIS_RADIUS = 3396.0
  C_AXIS_RADIUS = 3396.0
  CENTER_LATITUDE = 0.0
  CENTER_LONGITUDE = 22.0
  COORDINATE_SYSTEM_NAME = PLANETOGRAPHIC
  COORDINATE_SYSTEM_TYPE = "BODY-FIXED ROTATING"
  EASTERNMOST_LONGITUDE = 23.3022
  FIRST_STANDARD_PARALLEL = "N/A"
  LINE_FIRST_PIXEL = 1
  LINE_LAST_PIXEL = 6461
  LINE_PROJECTION_OFFSET = 22527.1875
  MAP_PROJECTION_ROTATION = 0.0
  MAP_PROJECTION_TYPE = SINUSOIDAL
  MAP_RESOLUTION = 592.713803866667
  MAP_SCALE = 0.1
  MAXIMUM_LATITUDE = 37.9655
  MINIMUM_LATITUDE = 27.0746
  POSITIVE_LONGITUDE_DIRECTION = EAST
  REFERENCE_LATITUDE = "N/A"
  REFERENCE_LONGITUDE = "N/A"
  SAMPLE_FIRST_PIXEL = 1
  SAMPLE_LAST_PIXEL = 930
  SAMPLE_PROJECTION_OFFSET = 302.9375
  SECOND_STANDARD_PARALLEL = "N/A"
  WESTERNMOST_LONGITUDE = 21.3874
END_OBJECT = IMAGE_MAP_PROJECTION
END
