PDS_VERSION_ID = PDS3
/* FILE DATA ELEMENTS */
RECORD_TYPE = UNDEFINED
/* POINTERS TO DATA OBJECTS */
^IMAGE = ("H5192_0000_RE4.TIF")
/* IDENTIFICATION DATA ELEMENTS */
DATA_SET_ID = "MEX-M-HRSC-4-REFDR-MAPPROJECT-EXT2-V4.0"
DATA_SET_NAME = "MARS EXPRESS HRSC MAP PROJECTED REFDR EXTENSION2 V4.0"
DETECTOR_ID = MEX_HRSC_RED
EVENT_TYPE = "MARS-REGIONAL-MAPPING-Im-Fl-Pf"
INSTRUMENT_HOST_ID = MEX
INSTRUMENT_HOST_NAME = "MARS EXPRESS"
INSTRUMENT_ID = HRSC
INSTRUMENT_NAME = "HIGH RESOLUTION STEREO CAMERA"
MISSION_NAME = "MARS EXPRESS"
MISSION_PHASE_NAME = ME_Phase_11
PROCESSING_LEVEL_ID = 4
PRODUCT_CREATION_TIME = 2023-02-01T12:09:47.000Z
PRODUCT_ID = "H5192_0000_RE4.TIF"
RELEASE_ID = 0001
REVISION_ID = 0000
/* QUALITY DATA ELEMENTS */
DATA_QUALITY_ID = 1
DATA_QUALITY_DESC = "Data calculated based on original SPICE kernels"
/* TIME DATA ELEMENTS */
SPACECRAFT_CLOCK_START_COUNT = "1/0148630944.08246"
SPACECRAFT_CLOCK_STOP_COUNT = "1/0148631318.08402"
START_TIME = 2008-01-17T06:23:48.845Z
STOP_TIME = 2008-01-17T06:28:34.944Z
/* ORBITAL DATA ELEMENTS */
ASCENDING_NODE_LONGITUDE = 120.1
MAXIMUM_RESOLUTION = 0.1093
FOOTPRINT_POINT_LATITUDE = (36.8345,36.8296,36.8212,36.8097, 36.8094,36.8589,36.4184,35.9858,35.3386 ,34.9159,34.4929,34.0743,33.6618, 33.2489,32.8356,32.4218,31.8014,31.1804 ,30.7655,30.3509,29.7278,29.3125,28.897 ,28.5032,28.1546,27.8059,27.4575, 27.1087,26.7597,26.4112,25.8878,25.5394 ,25.0159,24.6669,24.3178,23.9689, 23.6201,23.2711,22.9222,22.3987,22.0537 ,21.7162,21.3784,20.7048,20.3676,19.862 ,19.5244,19.02,18.3474,18.1837,18.0699, 18.0702,18.0704,18.0704,18.0721,18.7373 ,19.4113,19.7485,20.0858,20.5916, 20.9296,21.2668,21.6042,22.1102,22.4579 ,22.8073,23.3312,23.6805,24.0298, 24.3788,24.7281,25.0773,25.4267,25.776, 26.2999,26.649,26.9983,27.5218,27.8708, 28.2197,28.5687,28.9735,29.3896,29.8055 ,30.2211,30.8439,31.2592,31.6747, 32.0892,32.7109,33.1251,33.5396,33.9529 ,34.3687,34.7919,35.4269,35.8607, 36.5107,36.7321,36.8345)
FOOTPRINT_POINT_LONGITUDE = (323.065,322.621,322.013,321.338, 321.322,321.286,321.309,321.331,321.363 ,321.382,321.401,321.42,321.437,321.454 ,321.471,321.487,321.509,321.531, 321.545,321.558,321.577,321.59,321.602, 321.612,321.622,321.631,321.639,321.647 ,321.656,321.663,321.674,321.681, 321.691,321.698,321.704,321.71,321.716, 321.721,321.726,321.733,321.738,321.742 ,321.746,321.753,321.757,321.761, 321.765,321.768,321.773,321.774,321.774 ,322.277,322.95,322.962,322.969,322.972 ,322.976,322.977,322.979,322.981, 322.983,322.985,322.987,322.989,322.992 ,322.994,322.997,322.999,323.001, 323.003,323.005,323.007,323.01,323.012, 323.015,323.018,323.02,323.023,323.026, 323.028,323.031,323.034,323.036,323.039 ,323.042,323.047,323.05,323.053,323.056 ,323.061,323.064,323.067,323.07,323.074 ,323.076,323.081,323.085,323.089, 323.091,323.065)
ORBIT_NUMBER = 5192
ORBITAL_ECCENTRICITY = 0.573
ORBITAL_INCLINATION = 86.74
ORBITAL_SEMIMAJOR_AXIS = 8717.01
PERIAPSIS_ALTITUDE = 324.63
PERIAPSIS_ARGUMENT_ANGLE = 164.94
PERIAPSIS_TIME = 2008-01-17T06:29:00.000Z
SPACECRAFT_ORIENTATION = (0.0,-1.0,0.0)
^MEX_ORIENTATION_DESC = "MEX_ORIENTATION_DESC.TXT"
SPACECRAFT_POINTING_MODE = NADIR
^MEX_POINTING_DESC = "MEX_POINTING_DESC.TXT"
RIGHT_ASCENSION = -1e+32
DECLINATION = -1e+32
OFFSET_ANGLE = -1e+32
SPACECRAFT_SOLAR_DISTANCE = 2.39615e+08
TARGET_NAME = MARS
/* CAMERA DATA ELEMENTS */
DETECTOR_TEMPERATURE = 18.3705
FOCAL_PLANE_TEMPERATURE = 7.7677
INST_CMPRS_NAME = "DISCRETE COSINE TRANSFORMATION (DCT)"
INST_CMPRS_RATIO = 14.2333
INST_CMPRS_QUALITY = 0
INST_CMPRS_QUANTZ_TBL_ID = 0
INSTRUMENT_TEMPERATURE = 11.0301
LENS_TEMPERATURE = 8.3794
MACROPIXEL_SIZE = 8
MISSING_FRAMES = 0
PIXEL_SUBSAMPLING_FLAG = N
SIGNAL_CHAIN_ID = 2
/* RADIOMETRIC DATA ELEMENTS */
BANDWIDTH = 48.0
CENTER_FILTER_WAVELENGTH = 748.0
RADIANCE_OFFSET = 0.628494
RADIANCE_SCALING_FACTOR = 0.00378505
REFLECTANCE_SCALING_FACTOR = 0.00049593
MEX:REFLECTANCE_OFFSET = 0.0823474
/* IMAGE OBJECT DEFINITIONS */
OBJECT = IMAGE
  INTERCHANGE_FORMAT = BINARY
  LINES = 11215
  LINE_SAMPLES = 922
  SAMPLE_TYPE = UNSIGNED_INTEGER
  SAMPLE_BITS = 8
  BANDS = 1
  BAND_STORAGE_TYPE = BAND_SEQUENTIAL
  MAXIMUM = 255
  MEAN = 114.296
  MINIMUM = 1
  STANDARD_DEVIATION = 31.2023
END_OBJECT = IMAGE
/* MAP OBJECT DEFINITIONS */
OBJECT = IMAGE_MAP_PROJECTION
  ^DATA_SET_MAP_PROJECTION_CATALOG= "DSMAP.CAT"
  A_AXIS_RADIUS = 3396.0
  B_AXIS_RADIUS = 3396.0
  C_AXIS_RADIUS = 3396.0
  CENTER_LATITUDE = 0.0
  CENTER_LONGITUDE = 322.0
  COORDINATE_SYSTEM_NAME = PLANETOGRAPHIC
  COORDINATE_SYSTEM_TYPE = "BODY-FIXED ROTATING"
  EASTERNMOST_LONGITUDE = 323.091
  FIRST_STANDARD_PARALLEL = "N/A"
  LINE_FIRST_PIXEL = 1
  LINE_LAST_PIXEL = 11215
  LINE_PROJECTION_OFFSET = 21929.4375
  MAP_PROJECTION_ROTATION = 0.0
  MAP_PROJECTION_TYPE = SINUSOIDAL
  MAP_RESOLUTION = 592.713803866667
  MAP_SCALE = 0.1
  MAXIMUM_LATITUDE = 36.8589
  MINIMUM_LATITUDE = 18.0699
  POSITIVE_LONGITUDE_DIRECTION = EAST
  REFERENCE_LATITUDE = "N/A"
  REFERENCE_LONGITUDE = "N/A"
  SAMPLE_FIRST_PIXEL = 1
  SAMPLE_LAST_PIXEL = 922
  SAMPLE_PROJECTION_OFFSET = 368.4375
  SECOND_STANDARD_PARALLEL = "N/A"
  WESTERNMOST_LONGITUDE = 321.286
END_OBJECT = IMAGE_MAP_PROJECTION
END
