PDS_VERSION_ID = PDS3
/* FILE DATA ELEMENTS */
RECORD_TYPE = UNDEFINED
/* POINTERS TO DATA OBJECTS */
^IMAGE = ("H5183_0000_P24.TIF")
/* IDENTIFICATION DATA ELEMENTS */
DATA_SET_ID = "MEX-M-HRSC-4-REFDR-MAPPROJECT-EXT2-V4.0"
DATA_SET_NAME = "MARS EXPRESS HRSC MAP PROJECTED REFDR EXTENSION2 V4.0"
DETECTOR_ID = MEX_HRSC_P2
EVENT_TYPE = "MARS-REGIONAL-MAPPING-Vo-Eo-La"
INSTRUMENT_HOST_ID = MEX
INSTRUMENT_HOST_NAME = "MARS EXPRESS"
INSTRUMENT_ID = HRSC
INSTRUMENT_NAME = "HIGH RESOLUTION STEREO CAMERA"
MISSION_NAME = "MARS EXPRESS"
MISSION_PHASE_NAME = ME_Phase_11
PROCESSING_LEVEL_ID = 4
PRODUCT_CREATION_TIME = 2023-02-01T12:09:47.000Z
PRODUCT_ID = "H5183_0000_P24.TIF"
RELEASE_ID = 0001
REVISION_ID = 0000
/* QUALITY DATA ELEMENTS */
DATA_QUALITY_ID = 1
DATA_QUALITY_DESC = "Data calculated based on original SPICE kernels"
/* TIME DATA ELEMENTS */
SPACECRAFT_CLOCK_START_COUNT = "1/0148409682.09063"
SPACECRAFT_CLOCK_STOP_COUNT = "1/0148409931.49505"
START_TIME = 2008-01-14T16:55:33.483Z
STOP_TIME = 2008-01-14T16:58:42.113Z
/* ORBITAL DATA ELEMENTS */
ASCENDING_NODE_LONGITUDE = 120.28
MAXIMUM_RESOLUTION = 0.0536
FOOTPRINT_POINT_LATITUDE = (13.8187,13.8191,13.8196,13.82,13.8206, 13.8206,13.8289,13.5914,13.3537,13.1158 ,12.8783,12.4127,11.9396,11.5793, 11.3378,10.7512,10.3977,10.1617,9.80848 ,9.57297,9.21438,8.971,8.72791,8.48515, 8.12149,7.75789,7.39467,7.15244,6.91103 ,6.54872,6.30749,6.06621,5.8253,5.57822 ,5.32975,5.08174,4.83375,4.58603, 4.33851,4.09123,3.72157,3.47495,3.22837 ,2.98265,2.7366,2.49078,2.24549,1.87787 ,1.75544,1.70715,1.70546,1.70279, 1.70041,1.70038,1.70119,1.94586,2.31414 ,2.55976,2.80555,3.05148,3.42029, 3.66672,3.91345,4.16053,4.40804,4.6557, 4.90351,5.15178,5.52444,5.77298,6.01382 ,6.37555,6.61685,6.97962,7.22146, 7.46374,7.70628,8.06989,8.31206,8.55498 ,8.79815,9.04147,9.40538,9.87632, 10.2298,10.5835,10.8201,11.1746,11.5285 ,11.7644,12.0008,12.238,12.4746,12.7115 ,12.9489,13.1864,13.4241,13.6616, 13.7806,13.8187)
FOOTPRINT_POINT_LONGITUDE = (143.261,143.001,142.687,142.438, 142.113,142.102,142.096,142.095,142.095 ,142.095,142.095,142.091,142.089, 142.091,142.092,142.088,142.086,142.085 ,142.083,142.082,142.08,142.079,142.077 ,142.076,142.073,142.07,142.067,142.065 ,142.063,142.06,142.057,142.055,142.053 ,142.05,142.048,142.045,142.042,142.039 ,142.036,142.034,142.029,142.025, 142.022,142.019,142.016,142.012,142.009 ,142.004,142.002,142.001,142.342, 142.731,143.249,143.261,143.265,143.264 ,143.263,143.263,143.262,143.261,143.26 ,143.26,143.259,143.258,143.258,143.258 ,143.257,143.257,143.257,143.257, 143.256,143.256,143.256,143.256,143.256 ,143.256,143.256,143.256,143.256, 143.256,143.257,143.257,143.257,143.258 ,143.258,143.259,143.259,143.26,143.26, 143.26,143.26,143.261,143.261,143.262, 143.262,143.263,143.264,143.264,143.265 ,143.261)
ORBIT_NUMBER = 5183
ORBITAL_ECCENTRICITY = 0.574
ORBITAL_INCLINATION = 86.72
ORBITAL_SEMIMAJOR_AXIS = 8723.98
PERIAPSIS_ALTITUDE = 323.48
PERIAPSIS_ARGUMENT_ANGLE = 166.54
PERIAPSIS_TIME = 2008-01-14T16:55:20.000Z
SPACECRAFT_ORIENTATION = (0.0,-1.0,0.0)
^MEX_ORIENTATION_DESC = "MEX_ORIENTATION_DESC.TXT"
SPACECRAFT_POINTING_MODE = NADIR
^MEX_POINTING_DESC = "MEX_POINTING_DESC.TXT"
RIGHT_ASCENSION = -1e+32
DECLINATION = -1e+32
OFFSET_ANGLE = -1e+32
SPACECRAFT_SOLAR_DISTANCE = 2.39215e+08
TARGET_NAME = MARS
/* CAMERA DATA ELEMENTS */
DETECTOR_TEMPERATURE = 18.3705
FOCAL_PLANE_TEMPERATURE = 8.1755
INST_CMPRS_NAME = "DISCRETE COSINE TRANSFORMATION (DCT)"
INST_CMPRS_RATIO = 14.275
INST_CMPRS_QUALITY = 0
INST_CMPRS_QUANTZ_TBL_ID = 0
INSTRUMENT_TEMPERATURE = 11.0301
LENS_TEMPERATURE = 8.1755
MACROPIXEL_SIZE = 4
MISSING_FRAMES = 0
PIXEL_SUBSAMPLING_FLAG = N
SIGNAL_CHAIN_ID = 3
/* RADIOMETRIC DATA ELEMENTS */
BANDWIDTH = 177.0
CENTER_FILTER_WAVELENGTH = 676.5
RADIANCE_OFFSET = 3.37766
RADIANCE_SCALING_FACTOR = 0.0150417
REFLECTANCE_SCALING_FACTOR = 0.000456383
MEX:REFLECTANCE_OFFSET = 0.102482
/* IMAGE OBJECT DEFINITIONS */
OBJECT = IMAGE
  INTERCHANGE_FORMAT = BINARY
  LINES = 14370
  LINE_SAMPLES = 1474
  SAMPLE_TYPE = UNSIGNED_INTEGER
  SAMPLE_BITS = 8
  BANDS = 1
  BAND_STORAGE_TYPE = BAND_SEQUENTIAL
  MAXIMUM = 255
  MEAN = 120.968
  MINIMUM = 1
  STANDARD_DEVIATION = 17.5845
END_OBJECT = IMAGE
/* MAP OBJECT DEFINITIONS */
OBJECT = IMAGE_MAP_PROJECTION
  ^DATA_SET_MAP_PROJECTION_CATALOG= "DSMAP.CAT"
  A_AXIS_RADIUS = 3396.0
  B_AXIS_RADIUS = 3396.0
  C_AXIS_RADIUS = 3396.0
  CENTER_LATITUDE = 0.0
  CENTER_LONGITUDE = 143.0
  COORDINATE_SYSTEM_NAME = PLANETOGRAPHIC
  COORDINATE_SYSTEM_TYPE = "BODY-FIXED ROTATING"
  EASTERNMOST_LONGITUDE = 143.265
  FIRST_STANDARD_PARALLEL = "N/A"
  LINE_FIRST_PIXEL = 1
  LINE_LAST_PIXEL = 14370
  LINE_PROJECTION_OFFSET = 16377.375
  MAP_PROJECTION_ROTATION = 0.0
  MAP_PROJECTION_TYPE = SINUSOIDAL
  MAP_RESOLUTION = 1185.42760773333
  MAP_SCALE = 0.05
  MAXIMUM_LATITUDE = 13.8289
  MINIMUM_LATITUDE = 1.70038
  POSITIVE_LONGITUDE_DIRECTION = EAST
  REFERENCE_LATITUDE = "N/A"
  REFERENCE_LONGITUDE = "N/A"
  SAMPLE_FIRST_PIXEL = 1
  SAMPLE_LAST_PIXEL = 1474
  SAMPLE_PROJECTION_OFFSET = 1168.375
  SECOND_STANDARD_PARALLEL = "N/A"
  WESTERNMOST_LONGITUDE = 142.001
END_OBJECT = IMAGE_MAP_PROJECTION
END
