PDS_VERSION_ID = PDS3
/* FILE DATA ELEMENTS */
RECORD_TYPE = UNDEFINED
/* POINTERS TO DATA OBJECTS */
^IMAGE = ("H5180_0000_S14.TIF")
/* IDENTIFICATION DATA ELEMENTS */
DATA_SET_ID = "MEX-M-HRSC-4-REFDR-MAPPROJECT-EXT2-V4.0"
DATA_SET_NAME = "MARS EXPRESS HRSC MAP PROJECTED REFDR EXTENSION2 V4.0"
DETECTOR_ID = MEX_HRSC_S1
EVENT_TYPE = "MARS-REGIONAL-MAPPING-Vo-Te-Pf"
INSTRUMENT_HOST_ID = MEX
INSTRUMENT_HOST_NAME = "MARS EXPRESS"
INSTRUMENT_ID = HRSC
INSTRUMENT_NAME = "HIGH RESOLUTION STEREO CAMERA"
MISSION_NAME = "MARS EXPRESS"
MISSION_PHASE_NAME = ME_Phase_11
PROCESSING_LEVEL_ID = 4
PRODUCT_CREATION_TIME = 2023-02-01T12:09:47.000Z
PRODUCT_ID = "H5180_0000_S14.TIF"
RELEASE_ID = 0001
REVISION_ID = 0000
/* QUALITY DATA ELEMENTS */
DATA_QUALITY_ID = 1
DATA_QUALITY_DESC = "Data calculated based on original SPICE kernels"
/* TIME DATA ELEMENTS */
SPACECRAFT_CLOCK_START_COUNT = "1/0148335658.09071"
SPACECRAFT_CLOCK_STOP_COUNT = "1/0148336026.33066"
START_TIME = 2008-01-13T20:21:01.990Z
STOP_TIME = 2008-01-13T20:26:06.110Z
/* ORBITAL DATA ELEMENTS */
ASCENDING_NODE_LONGITUDE = 120.35
MAXIMUM_RESOLUTION = 0.0277
FOOTPRINT_POINT_LATITUDE = (22.1233,22.1227,22.1181,22.1179, 22.0878,21.6882,21.2866,20.6809,20.2784 ,19.8743,19.2714,18.8791,18.4863,18.093 ,17.6987,17.3041,16.909,16.5133,16.1166 ,15.7309,14.9616,14.1905,13.6103, 13.2236,12.8358,12.2535,11.8651,11.476, 11.0863,10.6966,10.3068,9.91603,9.52527 ,9.13393,8.74209,8.35013,7.95801, 7.56599,7.17361,6.7806,6.188,5.7945, 5.21269,4.59564,4.19193,3.58622,3.17959 ,2.5701,2.36813,2.32992,2.3289,2.32278, 2.32267,2.32306,2.72787,3.33561,3.73759 ,4.14269,4.55022,5.16156,5.55572, 5.94916,6.34614,6.73952,7.13226,7.52527 ,7.91782,8.31006,8.89841,9.48597, 10.0719,10.4625,10.8528,11.2426,11.6323 ,12.021,12.4099,12.7984,13.1858,13.5734 ,13.9605,14.3473,14.9259,15.5035, 16.2787,16.6752,17.0714,17.4668,17.8615 ,18.2551,18.6489,19.0416,19.6362, 20.0409,20.6472,21.0503,21.4528,21.8543 ,22.0548,22.1233)
FOOTPRINT_POINT_LONGITUDE = (83.506,82.7807,82.2081,82.1954,82.1819 ,82.1888,82.1951,82.2033,82.2091, 82.2144,82.2215,82.2261,82.2304,82.2345 ,82.2383,82.2419,82.2453,82.2484, 82.2511,82.2537,82.2579,82.2612,82.263, 82.2641,82.2648,82.2654,82.2657,82.2657 ,82.2654,82.265,82.2645,82.2636,82.2625 ,82.2613,82.2597,82.258,82.2561,82.2542 ,82.252,82.2495,82.2456,82.2427,82.2407 ,82.2334,82.2308,82.2267,82.2229,82.217 ,82.2153,82.2149,82.8454,83.3848, 83.3963,83.4004,83.4016,83.4033,83.4055 ,83.4069,83.4075,83.4086,83.4095, 83.4105,83.4114,83.4124,83.4137,83.4148 ,83.4162,83.4176,83.4197,83.4221, 83.4249,83.4268,83.4287,83.4308,83.4328 ,83.4351,83.4373,83.4396,83.4421, 83.4446,83.4471,83.4496,83.4538,83.458, 83.4641,83.4673,83.4705,83.4738,83.4772 ,83.4808,83.4842,83.4878,83.4934, 83.4971,83.5025,83.5063,83.51,83.5139, 83.5159,83.506)
ORBIT_NUMBER = 5180
ORBITAL_ECCENTRICITY = 0.574
ORBITAL_INCLINATION = 86.74
ORBITAL_SEMIMAJOR_AXIS = 8729.4
PERIAPSIS_ALTITUDE = 322.26
PERIAPSIS_ARGUMENT_ANGLE = 167.03
PERIAPSIS_TIME = 2008-01-13T20:23:53.000Z
SPACECRAFT_ORIENTATION = (0.0,-1.0,0.0)
^MEX_ORIENTATION_DESC = "MEX_ORIENTATION_DESC.TXT"
SPACECRAFT_POINTING_MODE = NADIR
^MEX_POINTING_DESC = "MEX_POINTING_DESC.TXT"
RIGHT_ASCENSION = -1e+32
DECLINATION = -1e+32
OFFSET_ANGLE = -1e+32
SPACECRAFT_SOLAR_DISTANCE = 2.3908e+08
TARGET_NAME = MARS
/* CAMERA DATA ELEMENTS */
DETECTOR_TEMPERATURE = 17.5549
FOCAL_PLANE_TEMPERATURE = 7.7677
INST_CMPRS_NAME = "DISCRETE COSINE TRANSFORMATION (DCT)"
INST_CMPRS_RATIO = 8.36588
INST_CMPRS_QUALITY = 0
INST_CMPRS_QUANTZ_TBL_ID = 0
INSTRUMENT_TEMPERATURE = 11.4379
LENS_TEMPERATURE = 8.5833
MACROPIXEL_SIZE = 2
MISSING_FRAMES = 1
PIXEL_SUBSAMPLING_FLAG = N
SIGNAL_CHAIN_ID = 1
/* RADIOMETRIC DATA ELEMENTS */
BANDWIDTH = 180.0
CENTER_FILTER_WAVELENGTH = 677.0
RADIANCE_OFFSET = 3.06304
RADIANCE_SCALING_FACTOR = 0.0179255
REFLECTANCE_SCALING_FACTOR = 0.000534561
MEX:REFLECTANCE_OFFSET = 0.0913438
/* IMAGE OBJECT DEFINITIONS */
OBJECT = IMAGE
  INTERCHANGE_FORMAT = BINARY
  LINES = 46909
  LINE_SAMPLES = 2978
  SAMPLE_TYPE = UNSIGNED_INTEGER
  SAMPLE_BITS = 8
  BANDS = 1
  BAND_STORAGE_TYPE = BAND_SEQUENTIAL
  MAXIMUM = 255
  MEAN = 138.015
  MINIMUM = 1
  STANDARD_DEVIATION = 29.4501
END_OBJECT = IMAGE
/* MAP OBJECT DEFINITIONS */
OBJECT = IMAGE_MAP_PROJECTION
  ^DATA_SET_MAP_PROJECTION_CATALOG= "DSMAP.CAT"
  A_AXIS_RADIUS = 3396.0
  B_AXIS_RADIUS = 3396.0
  C_AXIS_RADIUS = 3396.0
  CENTER_LATITUDE = 0.0
  CENTER_LONGITUDE = 83.0
  COORDINATE_SYSTEM_NAME = PLANETOGRAPHIC
  COORDINATE_SYSTEM_TYPE = "BODY-FIXED ROTATING"
  EASTERNMOST_LONGITUDE = 83.5159
  FIRST_STANDARD_PARALLEL = "N/A"
  LINE_FIRST_PIXEL = 1
  LINE_LAST_PIXEL = 46909
  LINE_PROJECTION_OFFSET = 52434.75
  MAP_PROJECTION_ROTATION = 0.0
  MAP_PROJECTION_TYPE = SINUSOIDAL
  MAP_RESOLUTION = 2370.85521546667
  MAP_SCALE = 0.025
  MAXIMUM_LATITUDE = 22.1233
  MINIMUM_LATITUDE = 2.32267
  POSITIVE_LONGITUDE_DIRECTION = EAST
  REFERENCE_LATITUDE = "N/A"
  REFERENCE_LONGITUDE = "N/A"
  SAMPLE_FIRST_PIXEL = 1
  SAMPLE_LAST_PIXEL = 2978
  SAMPLE_PROJECTION_OFFSET = 1890.75
  SECOND_STANDARD_PARALLEL = "N/A"
  WESTERNMOST_LONGITUDE = 82.1819
END_OBJECT = IMAGE_MAP_PROJECTION
END
