PDS_VERSION_ID = PDS3
/* FILE DATA ELEMENTS */
RECORD_TYPE = UNDEFINED
/* POINTERS TO DATA OBJECTS */
^IMAGE = ("H5180_0000_GR4.TIF")
/* IDENTIFICATION DATA ELEMENTS */
DATA_SET_ID = "MEX-M-HRSC-4-REFDR-MAPPROJECT-EXT2-V4.0"
DATA_SET_NAME = "MARS EXPRESS HRSC MAP PROJECTED REFDR EXTENSION2 V4.0"
DETECTOR_ID = MEX_HRSC_GREEN
EVENT_TYPE = "MARS-REGIONAL-MAPPING-Vo-Te-Pf"
INSTRUMENT_HOST_ID = MEX
INSTRUMENT_HOST_NAME = "MARS EXPRESS"
INSTRUMENT_ID = HRSC
INSTRUMENT_NAME = "HIGH RESOLUTION STEREO CAMERA"
MISSION_NAME = "MARS EXPRESS"
MISSION_PHASE_NAME = ME_Phase_11
PROCESSING_LEVEL_ID = 4
PRODUCT_CREATION_TIME = 2023-02-01T12:09:47.000Z
PRODUCT_ID = "H5180_0000_GR4.TIF"
RELEASE_ID = 0001
REVISION_ID = 0000
/* QUALITY DATA ELEMENTS */
DATA_QUALITY_ID = 1
DATA_QUALITY_DESC = "Data calculated based on original SPICE kernels"
/* TIME DATA ELEMENTS */
SPACECRAFT_CLOCK_START_COUNT = "1/0148335658.09071"
SPACECRAFT_CLOCK_STOP_COUNT = "1/0148336026.33066"
START_TIME = 2008-01-13T20:21:28.124Z
STOP_TIME = 2008-01-13T20:26:30.937Z
/* ORBITAL DATA ELEMENTS */
ASCENDING_NODE_LONGITUDE = 120.35
MAXIMUM_RESOLUTION = 0.0522
FOOTPRINT_POINT_LATITUDE = (22.1158,22.1127,22.1126,22.107,21.6969 ,21.2861,20.6818,20.2838,19.885,19.4858 ,19.0864,18.6867,18.2868,17.8867,17.492 ,16.7172,15.9416,15.1653,14.3884, 13.9997,13.6109,13.222,12.8331,12.2495, 11.8604,11.4713,11.082,10.6929,10.3038, 9.91458,9.52548,8.94181,8.35829,7.96942 ,7.58068,7.19203,6.80347,6.40209, 6.00051,5.59905,5.19908,4.79698,4.39647 ,3.99637,3.59668,2.98414,2.57137,2.3652 ,2.34629,2.34181,2.33836,2.3383,2.33913 ,2.95815,3.3712,3.77052,4.17072,4.57156 ,4.97268,5.37396,5.77548,6.1772,6.57913 ,6.97462,7.36339,7.7523,8.14129,8.5304, 8.91963,9.50354,9.89278,10.2821,10.6715 ,11.0608,11.4502,11.8395,12.2288, 12.8128,13.2019,13.591,13.98,14.369, 14.7577,15.1464,15.9231,16.6993,17.4747 ,17.869,18.2694,18.6697,19.0695,19.4692 ,19.8686,20.2678,20.6665,21.0651, 21.4758,21.8868,22.0921,22.1158)
FOOTPRINT_POINT_LONGITUDE = (83.4875,82.2268,82.2149,82.2024, 82.2088,82.2145,82.2212,82.227,82.2314, 82.2356,82.2396,82.2436,82.2473,82.2508 ,82.2539,82.2594,82.2638,82.2675, 82.2701,82.271,82.2716,82.2722,82.2725, 82.2724,82.2723,82.2718,82.2711,82.2702 ,82.2692,82.2679,82.2665,82.2638, 82.2607,82.2585,82.2561,82.2535,82.2507 ,82.2476,82.2444,82.2409,82.2398,82.234 ,82.2306,82.2274,82.2243,82.2181, 82.2135,82.2114,82.2112,82.9244,83.3934 ,83.4045,83.4082,83.4088,83.4094, 83.4117,83.4125,83.4127,83.4129,83.4133 ,83.4137,83.4142,83.4147,83.4154, 83.4162,83.4169,83.4179,83.4188,83.4198 ,83.4215,83.4229,83.4243,83.4257, 83.4273,83.4288,83.4306,83.4323,83.435, 83.437,83.439,83.441,83.443,83.4453, 83.4476,83.4525,83.4576,83.4628,83.4657 ,83.4686,83.4715,83.4746,83.4776, 83.4806,83.4834,83.4865,83.4893,83.4925 ,83.4958,83.4974,83.4875)
ORBIT_NUMBER = 5180
ORBITAL_ECCENTRICITY = 0.574
ORBITAL_INCLINATION = 86.74
ORBITAL_SEMIMAJOR_AXIS = 8729.4
PERIAPSIS_ALTITUDE = 322.26
PERIAPSIS_ARGUMENT_ANGLE = 167.03
PERIAPSIS_TIME = 2008-01-13T20:23:53.000Z
SPACECRAFT_ORIENTATION = (0.0,-1.0,0.0)
^MEX_ORIENTATION_DESC = "MEX_ORIENTATION_DESC.TXT"
SPACECRAFT_POINTING_MODE = NADIR
^MEX_POINTING_DESC = "MEX_POINTING_DESC.TXT"
RIGHT_ASCENSION = -1e+32
DECLINATION = -1e+32
OFFSET_ANGLE = -1e+32
SPACECRAFT_SOLAR_DISTANCE = 2.3908e+08
TARGET_NAME = MARS
/* CAMERA DATA ELEMENTS */
DETECTOR_TEMPERATURE = 18.5744
FOCAL_PLANE_TEMPERATURE = 7.7677
INST_CMPRS_NAME = "DISCRETE COSINE TRANSFORMATION (DCT)"
INST_CMPRS_RATIO = 12.8528
INST_CMPRS_QUALITY = 0
INST_CMPRS_QUANTZ_TBL_ID = 0
INSTRUMENT_TEMPERATURE = 11.4379
LENS_TEMPERATURE = 8.5833
MACROPIXEL_SIZE = 4
MISSING_FRAMES = 0
PIXEL_SUBSAMPLING_FLAG = N
SIGNAL_CHAIN_ID = 2
/* RADIOMETRIC DATA ELEMENTS */
BANDWIDTH = 88.0
CENTER_FILTER_WAVELENGTH = 538.0
RADIANCE_OFFSET = 1.00721
RADIANCE_SCALING_FACTOR = 0.00429332
REFLECTANCE_SCALING_FACTOR = 0.000211284
MEX:REFLECTANCE_OFFSET = 0.0495673
/* IMAGE OBJECT DEFINITIONS */
OBJECT = IMAGE
  INTERCHANGE_FORMAT = BINARY
  LINES = 23455
  LINE_SAMPLES = 1489
  SAMPLE_TYPE = UNSIGNED_INTEGER
  SAMPLE_BITS = 8
  BANDS = 1
  BAND_STORAGE_TYPE = BAND_SEQUENTIAL
  MAXIMUM = 255
  MEAN = 152.723
  MINIMUM = 1
  STANDARD_DEVIATION = 20.5999
END_OBJECT = IMAGE
/* MAP OBJECT DEFINITIONS */
OBJECT = IMAGE_MAP_PROJECTION
  ^DATA_SET_MAP_PROJECTION_CATALOG= "DSMAP.CAT"
  A_AXIS_RADIUS = 3396.0
  B_AXIS_RADIUS = 3396.0
  C_AXIS_RADIUS = 3396.0
  CENTER_LATITUDE = 0.0
  CENTER_LONGITUDE = 83.0
  COORDINATE_SYSTEM_NAME = PLANETOGRAPHIC
  COORDINATE_SYSTEM_TYPE = "BODY-FIXED ROTATING"
  EASTERNMOST_LONGITUDE = 83.4974
  FIRST_STANDARD_PARALLEL = "N/A"
  LINE_FIRST_PIXEL = 1
  LINE_LAST_PIXEL = 23455
  LINE_PROJECTION_OFFSET = 26217.125
  MAP_PROJECTION_ROTATION = 0.0
  MAP_PROJECTION_TYPE = SINUSOIDAL
  MAP_RESOLUTION = 1185.42760773333
  MAP_SCALE = 0.05
  MAXIMUM_LATITUDE = 22.1158
  MINIMUM_LATITUDE = 2.3383
  POSITIVE_LONGITUDE_DIRECTION = EAST
  REFERENCE_LATITUDE = "N/A"
  REFERENCE_LONGITUDE = "N/A"
  SAMPLE_FIRST_PIXEL = 1
  SAMPLE_LAST_PIXEL = 1489
  SAMPLE_PROJECTION_OFFSET = 945.125
  SECOND_STANDARD_PARALLEL = "N/A"
  WESTERNMOST_LONGITUDE = 82.2024
END_OBJECT = IMAGE_MAP_PROJECTION
END
