PDS_VERSION_ID = PDS3
/* FILE DATA ELEMENTS */
RECORD_TYPE = UNDEFINED
/* POINTERS TO DATA OBJECTS */
^IMAGE = ("H5177_0001_S24.TIF")
/* IDENTIFICATION DATA ELEMENTS */
DATA_SET_ID = "MEX-M-HRSC-4-REFDR-MAPPROJECT-EXT2-V4.0"
DATA_SET_NAME = "MARS EXPRESS HRSC MAP PROJECTED REFDR EXTENSION2 V4.0"
DETECTOR_ID = MEX_HRSC_S2
EVENT_TYPE = "MARS-LOCAL-MAPPING-Vo"
INSTRUMENT_HOST_ID = MEX
INSTRUMENT_HOST_NAME = "MARS EXPRESS"
INSTRUMENT_ID = HRSC
INSTRUMENT_NAME = "HIGH RESOLUTION STEREO CAMERA"
MISSION_NAME = "MARS EXPRESS"
MISSION_PHASE_NAME = ME_Phase_11
PROCESSING_LEVEL_ID = 4
PRODUCT_CREATION_TIME = 2023-02-01T12:09:47.000Z
PRODUCT_ID = "H5177_0001_S24.TIF"
RELEASE_ID = 0001
REVISION_ID = 0000
/* QUALITY DATA ELEMENTS */
DATA_QUALITY_ID = 1
DATA_QUALITY_DESC = "Data calculated based on original SPICE kernels"
/* TIME DATA ELEMENTS */
SPACECRAFT_CLOCK_START_COUNT = "1/0148262201.07281"
SPACECRAFT_CLOCK_STOP_COUNT = "1/0148262344.37031"
START_TIME = 2008-01-12T23:57:58.571Z
STOP_TIME = 2008-01-12T23:59:06.431Z
/* ORBITAL DATA ELEMENTS */
ASCENDING_NODE_LONGITUDE = 120.41
MAXIMUM_RESOLUTION = 0.0354
FOOTPRINT_POINT_LATITUDE = (-6.38614,-6.38759,-6.38916,-6.39062, -6.39195,-6.39317,-6.39426,-6.39523, -6.39605,-6.39675,-6.39734,-6.39772, -6.39816,-6.39845,-6.39848,-6.4131, -6.60288,-6.75453,-6.86722,-7.01905, -7.17223,-7.28689,-7.43969,-7.593, -7.70795,-7.86334,-7.94316,-8.14106, -8.29586,-8.45068,-8.60603,-8.80283, -8.88237,-8.96239,-9.12095,-9.23882, -9.31826,-9.39903,-9.55689,-9.63665, -9.71755,-9.7984,-9.87904,-9.95981, -10.0406,-10.1215,-10.2833,-10.3237, -10.3371,-10.3357,-10.3354,-10.3348, -10.3343,-10.3336,-10.3333,-10.3322, -10.3304,-10.3283,-10.3275,-10.3275, -10.329,-10.3286,-10.328,-10.2475, -10.1273,-10.0448,-9.96334,-9.88169, -9.80149,-9.72259,-9.64192,-9.56045, -9.48081,-9.36124,-9.2817,-9.20217, -9.12279,-9.04389,-8.9649,-8.88572, -8.80661,-8.61132,-8.45901,-8.3018, -8.22285,-8.14352,-8.02435,-7.86741, -7.75015,-7.59763,-7.44358,-7.28983, -7.13575,-7.01977,-6.86543,-6.75042, -6.60007,-6.44974,-6.4122,-6.38614)
FOOTPRINT_POINT_LONGITUDE = (23.9118,23.8107,23.6954,23.5802, 23.4652,23.3503,23.2357,23.1212,23.007, 22.8929,22.7789,22.6934,22.5653,22.4515 ,22.4372,22.4353,22.4309,22.4274, 22.4242,22.4198,22.4157,22.4126,22.4085 ,22.4045,22.4015,22.3974,22.3956, 22.3908,22.3863,22.3818,22.3774,22.3719 ,22.3697,22.3675,22.363,22.3593,22.3571 ,22.3551,22.3505,22.3481,22.3457, 22.3433,22.3409,22.3386,22.3362,22.3339 ,22.3292,22.328,22.3276,22.4532,22.643, 22.7695,22.8962,23.0229,23.1339,23.261, 23.468,23.6275,23.7233,23.8187,23.9454, 23.9615,23.9672,23.9657,23.9632,23.9625 ,23.9613,23.9602,23.9585,23.9562, 23.9547,23.9537,23.9525,23.9508,23.9495 ,23.9482,23.9469,23.9453,23.9437, 23.9423,23.9407,23.9369,23.933,23.931, 23.9301,23.9293,23.9283,23.926,23.9243, 23.9219,23.9199,23.9178,23.9158,23.9145 ,23.9125,23.9111,23.909,23.9069,23.9064 ,23.9118)
ORBIT_NUMBER = 5177
ORBITAL_ECCENTRICITY = 0.574
ORBITAL_INCLINATION = 86.72
ORBITAL_SEMIMAJOR_AXIS = 8727.43
PERIAPSIS_ALTITUDE = 322.62
PERIAPSIS_ARGUMENT_ANGLE = 167.58
PERIAPSIS_TIME = 2008-01-12T23:52:29.000Z
SPACECRAFT_ORIENTATION = (0.0,-1.0,0.0)
^MEX_ORIENTATION_DESC = "MEX_ORIENTATION_DESC.TXT"
SPACECRAFT_POINTING_MODE = ACROSSTRACK
^MEX_POINTING_DESC = "MEX_POINTING_DESC.TXT"
RIGHT_ASCENSION = -1e+32
DECLINATION = -1e+32
OFFSET_ANGLE = 0.25
SPACECRAFT_SOLAR_DISTANCE = 2.38944e+08
TARGET_NAME = MARS
/* CAMERA DATA ELEMENTS */
DETECTOR_TEMPERATURE = 20.0017
FOCAL_PLANE_TEMPERATURE = 8.5833
INST_CMPRS_NAME = "DISCRETE COSINE TRANSFORMATION (DCT)"
INST_CMPRS_RATIO = 13.1477
INST_CMPRS_QUALITY = 0
INST_CMPRS_QUANTZ_TBL_ID = 0
INSTRUMENT_TEMPERATURE = 13.0691
LENS_TEMPERATURE = 8.9911
MACROPIXEL_SIZE = 2
MISSING_FRAMES = 0
PIXEL_SUBSAMPLING_FLAG = N
SIGNAL_CHAIN_ID = 1
/* RADIOMETRIC DATA ELEMENTS */
BANDWIDTH = 178.0
CENTER_FILTER_WAVELENGTH = 679.0
RADIANCE_OFFSET = 1.77577
RADIANCE_SCALING_FACTOR = 0.0139276
REFLECTANCE_SCALING_FACTOR = 0.000421115
MEX:REFLECTANCE_OFFSET = 0.0536921
/* IMAGE OBJECT DEFINITIONS */
OBJECT = IMAGE
  INTERCHANGE_FORMAT = BINARY
  LINES = 9333
  LINE_SAMPLES = 3563
  SAMPLE_TYPE = UNSIGNED_INTEGER
  SAMPLE_BITS = 8
  BANDS = 1
  BAND_STORAGE_TYPE = BAND_SEQUENTIAL
  MAXIMUM = 255
  MEAN = 103.334
  MINIMUM = 1
  STANDARD_DEVIATION = 23.5453
END_OBJECT = IMAGE
/* MAP OBJECT DEFINITIONS */
OBJECT = IMAGE_MAP_PROJECTION
  ^DATA_SET_MAP_PROJECTION_CATALOG= "DSMAP.CAT"
  A_AXIS_RADIUS = 3396.0
  B_AXIS_RADIUS = 3396.0
  C_AXIS_RADIUS = 3396.0
  CENTER_LATITUDE = 0.0
  CENTER_LONGITUDE = 23.0
  COORDINATE_SYSTEM_NAME = PLANETOGRAPHIC
  COORDINATE_SYSTEM_TYPE = "BODY-FIXED ROTATING"
  EASTERNMOST_LONGITUDE = 23.9672
  FIRST_STANDARD_PARALLEL = "N/A"
  LINE_FIRST_PIXEL = 1
  LINE_LAST_PIXEL = 9333
  LINE_PROJECTION_OFFSET = -15175.25
  MAP_PROJECTION_ROTATION = 0.0
  MAP_PROJECTION_TYPE = SINUSOIDAL
  MAP_RESOLUTION = 2370.85521546667
  MAP_SCALE = 0.025
  MAXIMUM_LATITUDE = -6.38614
  MINIMUM_LATITUDE = -10.3371
  POSITIVE_LONGITUDE_DIRECTION = EAST
  REFERENCE_LATITUDE = "N/A"
  REFERENCE_LONGITUDE = "N/A"
  SAMPLE_FIRST_PIXEL = 1
  SAMPLE_LAST_PIXEL = 3563
  SAMPLE_PROJECTION_OFFSET = 1436.75
  SECOND_STANDARD_PARALLEL = "N/A"
  WESTERNMOST_LONGITUDE = 22.3276
END_OBJECT = IMAGE_MAP_PROJECTION
END
