PDS_VERSION_ID = PDS3
/* FILE DATA ELEMENTS */
RECORD_TYPE = UNDEFINED
/* POINTERS TO DATA OBJECTS */
^IMAGE = ("H5177_0000_S24.TIF")
/* IDENTIFICATION DATA ELEMENTS */
DATA_SET_ID = "MEX-M-HRSC-4-REFDR-MAPPROJECT-EXT2-V4.0"
DATA_SET_NAME = "MARS EXPRESS HRSC MAP PROJECTED REFDR EXTENSION2 V4.0"
DETECTOR_ID = MEX_HRSC_S2
EVENT_TYPE = "MARS-LOCAL-STEREO-Im-La"
INSTRUMENT_HOST_ID = MEX
INSTRUMENT_HOST_NAME = "MARS EXPRESS"
INSTRUMENT_ID = HRSC
INSTRUMENT_NAME = "HIGH RESOLUTION STEREO CAMERA"
MISSION_NAME = "MARS EXPRESS"
MISSION_PHASE_NAME = ME_Phase_11
PROCESSING_LEVEL_ID = 4
PRODUCT_CREATION_TIME = 2023-02-01T12:09:47.000Z
PRODUCT_ID = "H5177_0000_S24.TIF"
RELEASE_ID = 0001
REVISION_ID = 0000
/* QUALITY DATA ELEMENTS */
DATA_QUALITY_ID = 1
DATA_QUALITY_DESC = "Data calculated based on original SPICE kernels"
/* TIME DATA ELEMENTS */
SPACECRAFT_CLOCK_START_COUNT = "1/0148261854.09059"
SPACECRAFT_CLOCK_STOP_COUNT = "1/0148262066.26667"
START_TIME = 2008-01-12T23:51:56.346Z
STOP_TIME = 2008-01-12T23:54:28.210Z
/* ORBITAL DATA ELEMENTS */
ASCENDING_NODE_LONGITUDE = 120.41
MAXIMUM_RESOLUTION = 0.0138
FOOTPRINT_POINT_LATITUDE = (16.4266,16.4177,16.4122,16.4091, 16.4089,16.4274,16.1298,15.9319,15.7341 ,15.5346,15.2377,15.0397,14.842,14.6435 ,14.4458,14.2485,14.0504,13.853,13.5547 ,13.3556,13.0595,12.8614,12.5656,12.368 ,12.1732,11.8816,11.4965,11.3008, 11.0998,10.8035,10.6065,10.3143,9.93178 ,9.73387,9.53121,9.33377,9.13951, 8.94579,8.75185,8.45226,8.25117,8.05095 ,7.85034,7.65031,7.45132,7.25201, 7.05279,6.85301,6.65363,6.5541,6.55043, 6.55253,6.55524,6.5583,6.56375,6.56392, 6.56421,6.86333,7.16135,7.36048,7.56085 ,7.76146,7.9616,8.2614,8.46229,8.66212, 9.15068,9.45012,9.65147,9.8479,10.2355, 10.6237,10.819,11.0157,11.2158,11.4115, 11.6056,11.8968,12.2819,12.4771,12.6735 ,12.8707,13.0694,13.2678,13.4655, 13.7624,13.9603,14.2565,14.4552,14.654, 14.9525,15.151,15.3489,15.5475,15.7454, 15.9442,16.1431,16.3414,16.4405, 16.4266)
FOOTPRINT_POINT_LONGITUDE = (23.8717,23.2944,22.9211,22.7002, 22.6886,22.6798,22.6808,22.6813,22.6818 ,22.6825,22.6831,22.6834,22.6837,22.684 ,22.6842,22.6842,22.6844,22.6844, 22.6847,22.6849,22.6847,22.6847,22.6843 ,22.6841,22.6834,22.6821,22.6797,22.679 ,22.6792,22.6785,22.6779,22.6764, 22.6732,22.6726,22.6729,22.6722,22.671, 22.6696,22.6682,22.6659,22.6646,22.663, 22.6616,22.66,22.6582,22.6565,22.6547, 22.653,22.6512,22.6502,22.6502,22.8712, 23.2097,23.4563,23.8225,23.8343,23.8402 ,23.8404,23.8401,23.8401,23.8405,23.841 ,23.8413,23.8414,23.8418,23.8418, 23.8424,23.8463,23.8497,23.8509,23.8508 ,23.8509,23.8514,23.8526,23.8551, 23.8557,23.8556,23.8553,23.8535,23.8537 ,23.8544,23.8555,23.8571,23.8587, 23.8599,23.8618,23.863,23.8646,23.866, 23.8676,23.87,23.8714,23.8725,23.8739, 23.8749,23.8764,23.8779,23.879,23.8796, 23.8717)
ORBIT_NUMBER = 5177
ORBITAL_ECCENTRICITY = 0.574
ORBITAL_INCLINATION = 86.72
ORBITAL_SEMIMAJOR_AXIS = 8727.43
PERIAPSIS_ALTITUDE = 322.62
PERIAPSIS_ARGUMENT_ANGLE = 167.58
PERIAPSIS_TIME = 2008-01-12T23:52:29.000Z
SPACECRAFT_ORIENTATION = (0.0,-1.0,0.0)
^MEX_ORIENTATION_DESC = "MEX_ORIENTATION_DESC.TXT"
SPACECRAFT_POINTING_MODE = ACROSSTRACK
^MEX_POINTING_DESC = "MEX_POINTING_DESC.TXT"
RIGHT_ASCENSION = -1e+32
DECLINATION = -1e+32
OFFSET_ANGLE = 0.25
SPACECRAFT_SOLAR_DISTANCE = 2.38944e+08
TARGET_NAME = MARS
/* CAMERA DATA ELEMENTS */
DETECTOR_TEMPERATURE = 18.5744
FOCAL_PLANE_TEMPERATURE = 8.7872
INST_CMPRS_NAME = "DISCRETE COSINE TRANSFORMATION (DCT)"
INST_CMPRS_RATIO = 7.37628
INST_CMPRS_QUALITY = 0
INST_CMPRS_QUANTZ_TBL_ID = 0
INSTRUMENT_TEMPERATURE = 11.4379
LENS_TEMPERATURE = 8.9911
MACROPIXEL_SIZE = 1
MISSING_FRAMES = 0
PIXEL_SUBSAMPLING_FLAG = N
SIGNAL_CHAIN_ID = 1
/* RADIOMETRIC DATA ELEMENTS */
BANDWIDTH = 178.0
CENTER_FILTER_WAVELENGTH = 679.0
RADIANCE_OFFSET = 3.56481
RADIANCE_SCALING_FACTOR = 0.0166979
REFLECTANCE_SCALING_FACTOR = 0.000504874
MEX:REFLECTANCE_OFFSET = 0.107785
/* IMAGE OBJECT DEFINITIONS */
OBJECT = IMAGE
  INTERCHANGE_FORMAT = BINARY
  LINES = 46874
  LINE_SAMPLES = 5574
  SAMPLE_TYPE = UNSIGNED_INTEGER
  SAMPLE_BITS = 8
  BANDS = 1
  BAND_STORAGE_TYPE = BAND_SEQUENTIAL
  MAXIMUM = 255
  MEAN = 131.395
  MINIMUM = 1
  STANDARD_DEVIATION = 18.9949
END_OBJECT = IMAGE
/* MAP OBJECT DEFINITIONS */
OBJECT = IMAGE_MAP_PROJECTION
  ^DATA_SET_MAP_PROJECTION_CATALOG= "DSMAP.CAT"
  A_AXIS_RADIUS = 3396.0
  B_AXIS_RADIUS = 3396.0
  C_AXIS_RADIUS = 3396.0
  CENTER_LATITUDE = 0.0
  CENTER_LONGITUDE = 23.0
  COORDINATE_SYSTEM_NAME = PLANETOGRAPHIC
  COORDINATE_SYSTEM_TYPE = "BODY-FIXED ROTATING"
  EASTERNMOST_LONGITUDE = 23.8796
  FIRST_STANDARD_PARALLEL = "N/A"
  LINE_FIRST_PIXEL = 1
  LINE_LAST_PIXEL = 46874
  LINE_PROJECTION_OFFSET = 77926.0
  MAP_PROJECTION_ROTATION = 0.0
  MAP_PROJECTION_TYPE = SINUSOIDAL
  MAP_RESOLUTION = 4741.71043093333
  MAP_SCALE = 0.0125
  MAXIMUM_LATITUDE = 16.4405
  MINIMUM_LATITUDE = 6.55043
  POSITIVE_LONGITUDE_DIRECTION = EAST
  REFERENCE_LATITUDE = "N/A"
  REFERENCE_LONGITUDE = "N/A"
  SAMPLE_FIRST_PIXEL = 1
  SAMPLE_LAST_PIXEL = 5574
  SAMPLE_PROJECTION_OFFSET = 1575.0
  SECOND_STANDARD_PARALLEL = "N/A"
  WESTERNMOST_LONGITUDE = 22.6502
END_OBJECT = IMAGE_MAP_PROJECTION
END
