PDS_VERSION_ID = PDS3
/* FILE DATA ELEMENTS */
RECORD_TYPE = UNDEFINED
/* POINTERS TO DATA OBJECTS */
^IMAGE = ("H5172_0000_ND4.TIF")
/* IDENTIFICATION DATA ELEMENTS */
DATA_SET_ID = "MEX-M-HRSC-4-REFDR-MAPPROJECT-EXT2-V4.0"
DATA_SET_NAME = "MARS EXPRESS HRSC MAP PROJECTED REFDR EXTENSION2 V4.0"
DETECTOR_ID = MEX_HRSC_NADIR
EVENT_TYPE = "MARS-REGIONAL-MAPPING-Vo-Te-Mw"
INSTRUMENT_HOST_ID = MEX
INSTRUMENT_HOST_NAME = "MARS EXPRESS"
INSTRUMENT_ID = HRSC
INSTRUMENT_NAME = "HIGH RESOLUTION STEREO CAMERA"
MISSION_NAME = "MARS EXPRESS"
MISSION_PHASE_NAME = ME_Phase_11
PROCESSING_LEVEL_ID = 4
PRODUCT_CREATION_TIME = 2023-02-01T12:09:47.000Z
PRODUCT_ID = "H5172_0000_ND4.TIF"
RELEASE_ID = 0001
REVISION_ID = 0000
/* QUALITY DATA ELEMENTS */
DATA_QUALITY_ID = 1
DATA_QUALITY_DESC = "Data calculated based on original SPICE kernels"
/* TIME DATA ELEMENTS */
SPACECRAFT_CLOCK_START_COUNT = "1/0148138790.09095"
SPACECRAFT_CLOCK_STOP_COUNT = "1/0148139011.00924"
START_TIME = 2008-01-11T13:40:22.596Z
STOP_TIME = 2008-01-11T13:43:00.597Z
/* ORBITAL DATA ELEMENTS */
ASCENDING_NODE_LONGITUDE = 120.5
MAXIMUM_RESOLUTION = 0.013
FOOTPRINT_POINT_LATITUDE = (10.953,10.9542,10.9553,10.9561,10.9561 ,10.9563,10.6531,10.3499,10.1477, 9.94562,9.74352,9.54144,9.33937,9.13732 ,8.9353,8.73329,8.53132,8.12745,7.72371 ,7.32012,6.71502,6.31184,5.90885, 5.59644,5.38817,5.17995,4.9718,4.76371, 4.55567,4.34773,4.13985,3.93204,3.7243, 3.51663,3.30906,3.10156,2.89414,2.6868, 2.47954,2.26678,2.05282,1.83895,1.62517 ,1.4115,1.19794,0.984475,0.771121, 0.664487,0.658931,0.656821,0.654906, 0.653258,0.651837,0.651764,0.651942, 0.865306,1.07877,1.29236,1.50605, 1.71984,1.93371,2.14769,2.46773,2.67505 ,2.88248,3.08998,3.29756,3.50521, 3.71295,3.92076,4.12865,4.3366,4.54463, 4.75273,4.9609,5.16913,5.37742,5.58578, 5.79419,5.99924,6.40244,6.80582,7.20939 ,7.61311,8.01699,8.21898,8.42099, 8.62304,8.82512,9.02722,9.22935,9.43149 ,9.73475,9.93695,10.1392,10.3414, 10.5436,10.847,10.9481,10.953)
FOOTPRINT_POINT_LONGITUDE = (163.766,163.484,163.134,162.637, 162.626,162.612,162.612,162.611,162.611 ,162.61,162.61,162.609,162.608,162.608, 162.607,162.606,162.605,162.604,162.602 ,162.599,162.595,162.593,162.59,162.587 ,162.586,162.584,162.582,162.58,162.579 ,162.576,162.574,162.572,162.57,162.568 ,162.566,162.564,162.561,162.559, 162.557,162.554,162.552,162.549,162.546 ,162.544,162.541,162.538,162.535, 162.534,162.534,162.896,163.222,163.499 ,163.74,163.752,163.758,163.758,163.757 ,163.757,163.757,163.756,163.756, 163.755,163.755,163.755,163.755,163.756 ,163.756,163.756,163.756,163.756, 163.756,163.756,163.756,163.756,163.756 ,163.757,163.757,163.757,163.758, 163.758,163.759,163.759,163.76,163.761, 163.762,163.763,163.764,163.764,163.765 ,163.766,163.766,163.767,163.768, 163.769,163.77,163.771,163.772,163.773, 163.773,163.766)
ORBIT_NUMBER = 5172
ORBITAL_ECCENTRICITY = 0.574
ORBITAL_INCLINATION = 86.74
ORBITAL_SEMIMAJOR_AXIS = 8720.86
PERIAPSIS_ALTITUDE = 322.54
PERIAPSIS_ARGUMENT_ANGLE = 168.47
PERIAPSIS_TIME = 2008-01-11T13:40:14.000Z
SPACECRAFT_ORIENTATION = (0.0,-1.0,0.0)
^MEX_ORIENTATION_DESC = "MEX_ORIENTATION_DESC.TXT"
SPACECRAFT_POINTING_MODE = ACROSSTRACK
^MEX_POINTING_DESC = "MEX_POINTING_DESC.TXT"
RIGHT_ASCENSION = -1e+32
DECLINATION = -1e+32
OFFSET_ANGLE = -0.04
SPACECRAFT_SOLAR_DISTANCE = 2.38717e+08
TARGET_NAME = MARS
/* CAMERA DATA ELEMENTS */
DETECTOR_TEMPERATURE = 18.3705
FOCAL_PLANE_TEMPERATURE = 7.9716
INST_CMPRS_NAME = "DISCRETE COSINE TRANSFORMATION (DCT)"
INST_CMPRS_RATIO = 7.36553
INST_CMPRS_QUALITY = 0
INST_CMPRS_QUANTZ_TBL_ID = 0
INSTRUMENT_TEMPERATURE = 11.0301
LENS_TEMPERATURE = 8.1755
MACROPIXEL_SIZE = 1
MISSING_FRAMES = 0
PIXEL_SUBSAMPLING_FLAG = N
SIGNAL_CHAIN_ID = 0
/* RADIOMETRIC DATA ELEMENTS */
BANDWIDTH = 177.0
CENTER_FILTER_WAVELENGTH = 677.5
RADIANCE_OFFSET = 2.87086
RADIANCE_SCALING_FACTOR = 0.0162009
REFLECTANCE_SCALING_FACTOR = 0.000490445
MEX:REFLECTANCE_OFFSET = 0.0869085
/* IMAGE OBJECT DEFINITIONS */
OBJECT = IMAGE
  INTERCHANGE_FORMAT = BINARY
  LINES = 48862
  LINE_SAMPLES = 5813
  SAMPLE_TYPE = UNSIGNED_INTEGER
  SAMPLE_BITS = 8
  BANDS = 1
  BAND_STORAGE_TYPE = BAND_SEQUENTIAL
  MAXIMUM = 255
  MEAN = 129.786
  MINIMUM = 1
  STANDARD_DEVIATION = 14.7463
END_OBJECT = IMAGE
/* MAP OBJECT DEFINITIONS */
OBJECT = IMAGE_MAP_PROJECTION
  ^DATA_SET_MAP_PROJECTION_CATALOG= "DSMAP.CAT"
  A_AXIS_RADIUS = 3396.0
  B_AXIS_RADIUS = 3396.0
  C_AXIS_RADIUS = 3396.0
  CENTER_LATITUDE = 0.0
  CENTER_LONGITUDE = 163.0
  COORDINATE_SYSTEM_NAME = PLANETOGRAPHIC
  COORDINATE_SYSTEM_TYPE = "BODY-FIXED ROTATING"
  EASTERNMOST_LONGITUDE = 163.773
  FIRST_STANDARD_PARALLEL = "N/A"
  LINE_FIRST_PIXEL = 1
  LINE_LAST_PIXEL = 48862
  LINE_PROJECTION_OFFSET = 51963.0
  MAP_PROJECTION_ROTATION = 0.0
  MAP_PROJECTION_TYPE = SINUSOIDAL
  MAP_RESOLUTION = 4741.71043093333
  MAP_SCALE = 0.0125
  MAXIMUM_LATITUDE = 10.9563
  MINIMUM_LATITUDE = 0.651764
  POSITIVE_LONGITUDE_DIRECTION = EAST
  REFERENCE_LATITUDE = "N/A"
  REFERENCE_LONGITUDE = "N/A"
  SAMPLE_FIRST_PIXEL = 1
  SAMPLE_LAST_PIXEL = 5813
  SAMPLE_PROJECTION_OFFSET = 2211.0
  SECOND_STANDARD_PARALLEL = "N/A"
  WESTERNMOST_LONGITUDE = 162.534
END_OBJECT = IMAGE_MAP_PROJECTION
END
