PDS_VERSION_ID = PDS3
/* FILE DATA ELEMENTS */
RECORD_TYPE = UNDEFINED
/* POINTERS TO DATA OBJECTS */
^IMAGE = ("H5171_0000_P14.TIF")
/* IDENTIFICATION DATA ELEMENTS */
DATA_SET_ID = "MEX-M-HRSC-4-REFDR-MAPPROJECT-EXT2-V4.0"
DATA_SET_NAME = "MARS EXPRESS HRSC MAP PROJECTED REFDR EXTENSION2 V4.0"
DETECTOR_ID = MEX_HRSC_P1
EVENT_TYPE = "MARS-REGIONAL-MAPPING-Vo"
INSTRUMENT_HOST_ID = MEX
INSTRUMENT_HOST_NAME = "MARS EXPRESS"
INSTRUMENT_ID = HRSC
INSTRUMENT_NAME = "HIGH RESOLUTION STEREO CAMERA"
MISSION_NAME = "MARS EXPRESS"
MISSION_PHASE_NAME = ME_Phase_11
PROCESSING_LEVEL_ID = 4
PRODUCT_CREATION_TIME = 2023-02-01T12:09:47.000Z
PRODUCT_ID = "H5171_0000_P14.TIF"
RELEASE_ID = 0001
REVISION_ID = 0000
/* QUALITY DATA ELEMENTS */
DATA_QUALITY_ID = 1
DATA_QUALITY_DESC = "Data calculated based on original SPICE kernels"
/* TIME DATA ELEMENTS */
SPACECRAFT_CLOCK_START_COUNT = "1/0148113931.08406"
SPACECRAFT_CLOCK_STOP_COUNT = "1/0148114201.40377"
START_TIME = 2008-01-11T06:45:47.337Z
STOP_TIME = 2008-01-11T06:49:15.848Z
/* ORBITAL DATA ELEMENTS */
ASCENDING_NODE_LONGITUDE = 120.53
MAXIMUM_RESOLUTION = 0.0262
FOOTPRINT_POINT_LATITUDE = (25.4725,25.4719,25.4682,25.4636, 25.4634,25.4613,25.1476,24.8348,24.5359 ,24.0212,23.7581,23.485,23.0768,22.8113 ,22.5453,22.2792,22.0118,21.746,21.4791 ,21.2117,20.9439,20.6759,20.4077, 20.1392,19.8705,19.6013,19.332,19.0624, 18.6584,18.3969,18.1352,17.7421,17.4799 ,17.0858,16.8229,16.5598,16.1646,15.901 ,15.6371,15.374,14.8627,14.2224,13.7096 ,13.1961,12.8105,12.5535,12.2962, 12.1674,12.144,12.1441,12.143,12.1412, 12.1411,12.1415,12.399,12.6563,12.9136, 13.1706,13.6845,14.3255,14.8378,15.3495 ,15.612,15.8764,16.1405,16.4041,16.6677 ,16.9311,17.1941,17.4569,17.8508, 18.1131,18.3751,18.6368,18.9053,19.1753 ,19.4451,19.7145,19.9836,20.2526, 20.5214,20.7898,21.0579,21.3256,21.5931 ,21.8604,22.1273,22.3939,22.6602, 22.9261,23.1917,23.457,23.722,23.9866, 24.2507,24.5145,24.9721,25.2856,25.4422 ,25.4725)
FOOTPRINT_POINT_LONGITUDE = (263.989,263.557,262.973,262.569, 262.555,262.55,262.558,262.566,262.576, 262.595,262.602,262.603,262.606,262.612 ,262.617,262.622,262.626,262.632, 262.637,262.641,262.645,262.65,262.654, 262.658,262.662,262.666,262.669,262.673 ,262.678,262.681,262.684,262.689, 262.691,262.695,262.698,262.7,262.703, 262.705,262.707,262.709,262.712,262.716 ,262.718,262.72,262.721,262.722,262.722 ,262.722,262.722,263.119,263.505, 263.847,263.858,263.862,263.863,263.865 ,263.867,263.868,263.872,263.877, 263.881,263.885,263.887,263.889,263.891 ,263.893,263.895,263.898,263.9,263.902, 263.906,263.908,263.911,263.913,263.916 ,263.919,263.921,263.924,263.927, 263.929,263.932,263.935,263.938,263.941 ,263.944,263.946,263.949,263.952, 263.955,263.958,263.961,263.965,263.968 ,263.971,263.974,263.977,263.983, 263.987,263.989,263.989)
ORBIT_NUMBER = 5171
ORBITAL_ECCENTRICITY = 0.575
ORBITAL_INCLINATION = 86.73
ORBITAL_SEMIMAJOR_AXIS = 8737.79
PERIAPSIS_ALTITUDE = 321.65
PERIAPSIS_ARGUMENT_ANGLE = 168.63
PERIAPSIS_TIME = 2008-01-11T06:49:46.000Z
SPACECRAFT_ORIENTATION = (0.0,-1.0,0.0)
^MEX_ORIENTATION_DESC = "MEX_ORIENTATION_DESC.TXT"
SPACECRAFT_POINTING_MODE = NADIR
^MEX_POINTING_DESC = "MEX_POINTING_DESC.TXT"
RIGHT_ASCENSION = -1e+32
DECLINATION = -1e+32
OFFSET_ANGLE = -1e+32
SPACECRAFT_SOLAR_DISTANCE = 2.38671e+08
TARGET_NAME = MARS
/* CAMERA DATA ELEMENTS */
DETECTOR_TEMPERATURE = 17.351
FOCAL_PLANE_TEMPERATURE = 8.3794
INST_CMPRS_NAME = "DISCRETE COSINE TRANSFORMATION (DCT)"
INST_CMPRS_RATIO = 7.99778
INST_CMPRS_QUALITY = 0
INST_CMPRS_QUANTZ_TBL_ID = 0
INSTRUMENT_TEMPERATURE = 11.4379
LENS_TEMPERATURE = 8.7872
MACROPIXEL_SIZE = 2
MISSING_FRAMES = 0
PIXEL_SUBSAMPLING_FLAG = N
SIGNAL_CHAIN_ID = 3
/* RADIOMETRIC DATA ELEMENTS */
BANDWIDTH = 174.0
CENTER_FILTER_WAVELENGTH = 675.0
RADIANCE_OFFSET = 2.2445
RADIANCE_SCALING_FACTOR = 0.0259257
REFLECTANCE_SCALING_FACTOR = 0.000794353
MEX:REFLECTANCE_OFFSET = 0.0687704
/* IMAGE OBJECT DEFINITIONS */
OBJECT = IMAGE
  INTERCHANGE_FORMAT = BINARY
  LINES = 31624
  LINE_SAMPLES = 3004
  SAMPLE_TYPE = UNSIGNED_INTEGER
  SAMPLE_BITS = 8
  BANDS = 1
  BAND_STORAGE_TYPE = BAND_SEQUENTIAL
  MAXIMUM = 255
  MEAN = 132.289
  MINIMUM = 1
  STANDARD_DEVIATION = 14.0477
END_OBJECT = IMAGE
/* MAP OBJECT DEFINITIONS */
OBJECT = IMAGE_MAP_PROJECTION
  ^DATA_SET_MAP_PROJECTION_CATALOG= "DSMAP.CAT"
  A_AXIS_RADIUS = 3396.0
  B_AXIS_RADIUS = 3396.0
  C_AXIS_RADIUS = 3396.0
  CENTER_LATITUDE = 0.0
  CENTER_LONGITUDE = 263.0
  COORDINATE_SYSTEM_NAME = PLANETOGRAPHIC
  COORDINATE_SYSTEM_TYPE = "BODY-FIXED ROTATING"
  EASTERNMOST_LONGITUDE = 263.989
  FIRST_STANDARD_PARALLEL = "N/A"
  LINE_FIRST_PIXEL = 1
  LINE_LAST_PIXEL = 31624
  LINE_PROJECTION_OFFSET = 60366.25
  MAP_PROJECTION_ROTATION = 0.0
  MAP_PROJECTION_TYPE = SINUSOIDAL
  MAP_RESOLUTION = 2370.85521546667
  MAP_SCALE = 0.025
  MAXIMUM_LATITUDE = 25.4725
  MINIMUM_LATITUDE = 12.1411
  POSITIVE_LONGITUDE_DIRECTION = EAST
  REFERENCE_LATITUDE = "N/A"
  REFERENCE_LONGITUDE = "N/A"
  SAMPLE_FIRST_PIXEL = 1
  SAMPLE_LAST_PIXEL = 3004
  SAMPLE_PROJECTION_OFFSET = 927.75
  SECOND_STANDARD_PARALLEL = "N/A"
  WESTERNMOST_LONGITUDE = 262.55
END_OBJECT = IMAGE_MAP_PROJECTION
END
