PDS_VERSION_ID = PDS3
/* FILE DATA ELEMENTS */
RECORD_TYPE = UNDEFINED
/* POINTERS TO DATA OBJECTS */
^IMAGE = ("H5168_0000_BL4.TIF")
/* IDENTIFICATION DATA ELEMENTS */
DATA_SET_ID = "MEX-M-HRSC-4-REFDR-MAPPROJECT-EXT2-V4.0"
DATA_SET_NAME = "MARS EXPRESS HRSC MAP PROJECTED REFDR EXTENSION2 V4.0"
DETECTOR_ID = MEX_HRSC_BLUE
EVENT_TYPE = "MARS-REGIONAL-MAPPING-Vo-Te-Fl"
INSTRUMENT_HOST_ID = MEX
INSTRUMENT_HOST_NAME = "MARS EXPRESS"
INSTRUMENT_ID = HRSC
INSTRUMENT_NAME = "HIGH RESOLUTION STEREO CAMERA"
MISSION_NAME = "MARS EXPRESS"
MISSION_PHASE_NAME = ME_Phase_11
PROCESSING_LEVEL_ID = 4
PRODUCT_CREATION_TIME = 2023-02-01T12:09:47.000Z
PRODUCT_ID = "H5168_0000_BL4.TIF"
RELEASE_ID = 0001
REVISION_ID = 0000
/* QUALITY DATA ELEMENTS */
DATA_QUALITY_ID = 1
DATA_QUALITY_DESC = "Data calculated based on original SPICE kernels"
/* TIME DATA ELEMENTS */
SPACECRAFT_CLOCK_START_COUNT = "1/0148040499.08424"
SPACECRAFT_CLOCK_STOP_COUNT = "1/0148040877.07176"
START_TIME = 2008-01-10T10:22:21.442Z
STOP_TIME = 2008-01-10T10:27:06.086Z
/* ORBITAL DATA ELEMENTS */
ASCENDING_NODE_LONGITUDE = 120.59
MAXIMUM_RESOLUTION = 0.0602
FOOTPRINT_POINT_LATITUDE = (-4.75718,-4.75378,-4.74942,-4.7423, -4.74214,-4.74127,-5.05643,-5.37119, -5.68553,-5.99938,-6.31265,-6.62569, -6.93786,-7.40566,-8.02893,-8.64933, -9.26832,-9.58591,-9.90097,-10.2167, -10.7,-11.0229,-11.3453,-11.6745, -12.004,-12.3328,-12.6689,-13.1716, -13.6821,-14.0238,-14.5437,-14.8914, -15.4208,-15.7745,-16.134,-16.494, -17.0419,-17.5951,-17.9675,-18.343, -18.7212,-19.1023,-19.4861,-19.8756, -20.4651,-21.0627,-21.6674,-21.8696, -21.9082,-21.916,-21.9229,-21.9252, -21.9269,-21.9269,-21.9256,-21.5182, -21.1173,-20.5206,-20.1262,-19.7363, -19.1576,-18.7746,-18.3967,-18.02, -17.6475,-17.277,-16.9108,-16.5458, -16.1858,-15.8251,-15.4721,-14.9422, -14.5924,-14.2438,-13.9022,-13.5595, -13.219,-12.7174,-12.3807,-12.0518, -11.7223,-11.3923,-11.0697,-10.7469, -10.2639,-9.9478,-9.63142,-9.1586, -8.53953,-7.91842,-7.60648,-6.98311, -6.67049,-6.35779,-6.04403,-5.7299, -5.25796,-4.94337,-4.7858,-4.75718)
FOOTPRINT_POINT_LONGITUDE = (203.648,203.322,202.932,202.353,202.34 ,202.332,202.326,202.32,202.314,202.307 ,202.3,202.293,202.285,202.274,202.262, 202.246,202.231,202.225,202.213,202.205 ,202.195,202.187,202.178,202.169, 202.161,202.151,202.143,202.127,202.111 ,202.101,202.085,202.074,202.057, 202.045,202.033,202.02,202.002,201.984, 201.971,201.956,201.942,201.924,201.909 ,201.894,201.872,201.851,201.827, 201.815,201.813,202.309,203.017,203.389 ,203.896,203.916,203.922,203.911, 203.899,203.883,203.873,203.863,203.848 ,203.839,203.83,203.822,203.814,203.806 ,203.799,203.792,203.785,203.778, 203.771,203.762,203.757,203.752,203.746 ,203.741,203.736,203.727,203.723, 203.718,203.714,203.71,203.706,203.702, 203.697,203.693,203.69,203.685,203.679, 203.673,203.671,203.665,203.663,203.66, 203.658,203.656,203.653,203.65,203.649, 203.648)
ORBIT_NUMBER = 5168
ORBITAL_ECCENTRICITY = 0.574
ORBITAL_INCLINATION = 86.73
ORBITAL_SEMIMAJOR_AXIS = 8723.83
PERIAPSIS_ALTITUDE = 321.76
PERIAPSIS_ARGUMENT_ANGLE = 169.14
PERIAPSIS_TIME = 2008-01-10T10:18:15.000Z
SPACECRAFT_ORIENTATION = (0.0,-1.0,0.0)
^MEX_ORIENTATION_DESC = "MEX_ORIENTATION_DESC.TXT"
SPACECRAFT_POINTING_MODE = ACROSSTRACK
^MEX_POINTING_DESC = "MEX_POINTING_DESC.TXT"
RIGHT_ASCENSION = -1e+32
DECLINATION = -1e+32
OFFSET_ANGLE = -0.4
SPACECRAFT_SOLAR_DISTANCE = 2.38533e+08
TARGET_NAME = MARS
/* CAMERA DATA ELEMENTS */
DETECTOR_TEMPERATURE = 17.9627
FOCAL_PLANE_TEMPERATURE = 8.1755
INST_CMPRS_NAME = "DISCRETE COSINE TRANSFORMATION (DCT)"
INST_CMPRS_RATIO = 7.81792
INST_CMPRS_QUALITY = 0
INST_CMPRS_QUANTZ_TBL_ID = 0
INSTRUMENT_TEMPERATURE = 11.0301
LENS_TEMPERATURE = 8.5833
MACROPIXEL_SIZE = 4
MISSING_FRAMES = 0
PIXEL_SUBSAMPLING_FLAG = N
SIGNAL_CHAIN_ID = 2
/* RADIOMETRIC DATA ELEMENTS */
BANDWIDTH = 76.0
CENTER_FILTER_WAVELENGTH = 444.0
RADIANCE_OFFSET = 0.311376
RADIANCE_SCALING_FACTOR = 0.00183162
REFLECTANCE_SCALING_FACTOR = 0.000107076
MEX:REFLECTANCE_OFFSET = 0.0182029
/* IMAGE OBJECT DEFINITIONS */
OBJECT = IMAGE
  INTERCHANGE_FORMAT = BINARY
  LINES = 20373
  LINE_SAMPLES = 2301
  SAMPLE_TYPE = UNSIGNED_INTEGER
  SAMPLE_BITS = 8
  BANDS = 1
  BAND_STORAGE_TYPE = BAND_SEQUENTIAL
  MAXIMUM = 255
  MEAN = 138.763
  MINIMUM = 1
  STANDARD_DEVIATION = 25.4888
END_OBJECT = IMAGE
/* MAP OBJECT DEFINITIONS */
OBJECT = IMAGE_MAP_PROJECTION
  ^DATA_SET_MAP_PROJECTION_CATALOG= "DSMAP.CAT"
  A_AXIS_RADIUS = 3396.0
  B_AXIS_RADIUS = 3396.0
  C_AXIS_RADIUS = 3396.0
  CENTER_LATITUDE = 0.0
  CENTER_LONGITUDE = 203.0
  COORDINATE_SYSTEM_NAME = PLANETOGRAPHIC
  COORDINATE_SYSTEM_TYPE = "BODY-FIXED ROTATING"
  EASTERNMOST_LONGITUDE = 203.922
  FIRST_STANDARD_PARALLEL = "N/A"
  LINE_FIRST_PIXEL = 1
  LINE_LAST_PIXEL = 20373
  LINE_PROJECTION_OFFSET = -5615.875
  MAP_PROJECTION_ROTATION = 0.0
  MAP_PROJECTION_TYPE = SINUSOIDAL
  MAP_RESOLUTION = 1185.42760773333
  MAP_SCALE = 0.05
  MAXIMUM_LATITUDE = -4.74127
  MINIMUM_LATITUDE = -21.9269
  POSITIVE_LONGITUDE_DIRECTION = EAST
  REFERENCE_LATITUDE = "N/A"
  REFERENCE_LONGITUDE = "N/A"
  SAMPLE_FIRST_PIXEL = 1
  SAMPLE_LAST_PIXEL = 2301
  SAMPLE_PROJECTION_OFFSET = 1301.375
  SECOND_STANDARD_PARALLEL = "N/A"
  WESTERNMOST_LONGITUDE = 201.813
END_OBJECT = IMAGE_MAP_PROJECTION
END
