PDS_VERSION_ID = PDS3
/* FILE DATA ELEMENTS */
RECORD_TYPE = UNDEFINED
/* POINTERS TO DATA OBJECTS */
^IMAGE = ("H5164_0009_IR4.TIF")
/* IDENTIFICATION DATA ELEMENTS */
DATA_SET_ID = "MEX-M-HRSC-4-REFDR-MAPPROJECT-EXT2-V4.0"
DATA_SET_NAME = "MARS EXPRESS HRSC MAP PROJECTED REFDR EXTENSION2 V4.0"
DETECTOR_ID = MEX_HRSC_IR
EVENT_TYPE = "MARS-REGIONAL-MAPPING-Vo"
INSTRUMENT_HOST_ID = MEX
INSTRUMENT_HOST_NAME = "MARS EXPRESS"
INSTRUMENT_ID = HRSC
INSTRUMENT_NAME = "HIGH RESOLUTION STEREO CAMERA"
MISSION_NAME = "MARS EXPRESS"
MISSION_PHASE_NAME = ME_Phase_11
PROCESSING_LEVEL_ID = 4
PRODUCT_CREATION_TIME = 2023-02-01T12:09:47.000Z
PRODUCT_ID = "H5164_0009_IR4.TIF"
RELEASE_ID = 0001
REVISION_ID = 0000
/* QUALITY DATA ELEMENTS */
DATA_QUALITY_ID = 1
DATA_QUALITY_DESC = "Data calculated based on original SPICE kernels"
/* TIME DATA ELEMENTS */
SPACECRAFT_CLOCK_START_COUNT = "1/0147941632.08250"
SPACECRAFT_CLOCK_STOP_COUNT = "1/0147941852.39832"
START_TIME = 2008-01-09T06:54:01.399Z
STOP_TIME = 2008-01-09T06:56:41.735Z
/* ORBITAL DATA ELEMENTS */
ASCENDING_NODE_LONGITUDE = 120.68
MAXIMUM_RESOLUTION = 0.053
FOOTPRINT_POINT_LATITUDE = (17.6989,17.7001,17.6995,17.6978, 17.6977,17.7049,17.4892,17.277,17.0678, 16.8585,16.6491,16.4394,16.2297,16.0196 ,15.8097,15.5994,15.389,15.1783,14.9675 ,14.7566,14.4398,14.2285,13.8196, 13.3075,12.8974,12.6921,12.4866,12.2811 ,11.9726,11.7668,11.5608,11.3548, 11.0456,10.8394,10.6329,10.4264,10.2196 ,9.90953,9.70265,9.4957,9.28851,9.08132 ,8.77035,8.56299,8.35545,8.14796, 7.83638,7.52502,7.42125,7.31908,7.31835 ,7.31739,7.31637,7.31432,7.31424, 7.31503,7.5231,7.73111,7.93873,8.1465, 8.35406,8.56168,8.76907,8.97658,9.18395 ,9.49484,9.70183,10.0123,10.219,10.4257 ,10.6323,10.942,11.1483,11.3546,11.5607 ,11.7667,11.9726,12.2814,12.4871, 12.6929,13.1034,13.616,14.0255,14.3358, 14.5473,14.7585,14.9696,15.1805,15.3913 ,15.6019,15.8123,16.0225,16.2327, 16.4426,16.6524,16.8619,17.176,17.4928, 17.6008,17.6989)
FOOTPRINT_POINT_LONGITUDE = (244.317,243.867,243.44,243.093,243.082 ,243.082,243.084,243.087,243.089, 243.091,243.093,243.095,243.097,243.099 ,243.101,243.102,243.104,243.106, 243.107,243.109,243.111,243.112,243.114 ,243.117,243.118,243.119,243.12,243.121 ,243.121,243.122,243.122,243.123, 243.123,243.124,243.124,243.124,243.124 ,243.124,243.124,243.124,243.124, 243.124,243.123,243.123,243.122,243.122 ,243.121,243.12,243.12,243.12,243.369, 243.607,243.867,244.221,244.231,244.235 ,244.236,244.237,244.238,244.239,244.24 ,244.241,244.242,244.243,244.244, 244.246,244.247,244.249,244.251,244.252 ,244.253,244.256,244.257,244.258,244.26 ,244.261,244.263,244.265,244.267, 244.268,244.271,244.276,244.279,244.282 ,244.284,244.285,244.287,244.289, 244.291,244.293,244.295,244.297,244.299 ,244.301,244.303,244.305,244.309, 244.312,244.313,244.317)
ORBIT_NUMBER = 5164
ORBITAL_ECCENTRICITY = 0.575
ORBITAL_INCLINATION = 86.73
ORBITAL_SEMIMAJOR_AXIS = 8739.42
PERIAPSIS_ALTITUDE = 320.89
PERIAPSIS_ARGUMENT_ANGLE = 169.85
PERIAPSIS_TIME = 2008-01-09T06:56:22.000Z
SPACECRAFT_ORIENTATION = (0.0,-1.0,0.0)
^MEX_ORIENTATION_DESC = "MEX_ORIENTATION_DESC.TXT"
SPACECRAFT_POINTING_MODE = NADIR
^MEX_POINTING_DESC = "MEX_POINTING_DESC.TXT"
RIGHT_ASCENSION = -1e+32
DECLINATION = -1e+32
OFFSET_ANGLE = -1e+32
SPACECRAFT_SOLAR_DISTANCE = 2.38349e+08
TARGET_NAME = MARS
/* CAMERA DATA ELEMENTS */
DETECTOR_TEMPERATURE = 17.9627
FOCAL_PLANE_TEMPERATURE = 8.1755
INST_CMPRS_NAME = "DISCRETE COSINE TRANSFORMATION (DCT)"
INST_CMPRS_RATIO = 8.72036
INST_CMPRS_QUALITY = 0
INST_CMPRS_QUANTZ_TBL_ID = 0
INSTRUMENT_TEMPERATURE = 11.4379
LENS_TEMPERATURE = 8.7872
MACROPIXEL_SIZE = 4
MISSING_FRAMES = 0
PIXEL_SUBSAMPLING_FLAG = N
SIGNAL_CHAIN_ID = 2
/* RADIOMETRIC DATA ELEMENTS */
BANDWIDTH = 81.0
CENTER_FILTER_WAVELENGTH = 955.5
RADIANCE_OFFSET = 0.785667
RADIANCE_SCALING_FACTOR = 0.00562413
REFLECTANCE_SCALING_FACTOR = 0.000689301
MEX:REFLECTANCE_OFFSET = 0.0962924
/* IMAGE OBJECT DEFINITIONS */
OBJECT = IMAGE
  INTERCHANGE_FORMAT = BINARY
  LINES = 12343
  LINE_SAMPLES = 1381
  SAMPLE_TYPE = UNSIGNED_INTEGER
  SAMPLE_BITS = 8
  BANDS = 1
  BAND_STORAGE_TYPE = BAND_SEQUENTIAL
  MAXIMUM = 255
  MEAN = 134.564
  MINIMUM = 1
  STANDARD_DEVIATION = 13.8626
END_OBJECT = IMAGE
/* MAP OBJECT DEFINITIONS */
OBJECT = IMAGE_MAP_PROJECTION
  ^DATA_SET_MAP_PROJECTION_CATALOG= "DSMAP.CAT"
  A_AXIS_RADIUS = 3396.0
  B_AXIS_RADIUS = 3396.0
  C_AXIS_RADIUS = 3396.0
  CENTER_LATITUDE = 0.0
  CENTER_LONGITUDE = 244.0
  COORDINATE_SYSTEM_NAME = PLANETOGRAPHIC
  COORDINATE_SYSTEM_TYPE = "BODY-FIXED ROTATING"
  EASTERNMOST_LONGITUDE = 244.317
  FIRST_STANDARD_PARALLEL = "N/A"
  LINE_FIRST_PIXEL = 1
  LINE_LAST_PIXEL = 12343
  LINE_PROJECTION_OFFSET = 20981.625
  MAP_PROJECTION_ROTATION = 0.0
  MAP_PROJECTION_TYPE = SINUSOIDAL
  MAP_RESOLUTION = 1185.42760773333
  MAP_SCALE = 0.05
  MAXIMUM_LATITUDE = 17.7049
  MINIMUM_LATITUDE = 7.31424
  POSITIVE_LONGITUDE_DIRECTION = EAST
  REFERENCE_LATITUDE = "N/A"
  REFERENCE_LONGITUDE = "N/A"
  SAMPLE_FIRST_PIXEL = 1
  SAMPLE_LAST_PIXEL = 1381
  SAMPLE_PROJECTION_OFFSET = 1040.375
  SECOND_STANDARD_PARALLEL = "N/A"
  WESTERNMOST_LONGITUDE = 243.082
END_OBJECT = IMAGE_MAP_PROJECTION
END
