PDS_VERSION_ID = PDS3
/* FILE DATA ELEMENTS */
RECORD_TYPE = UNDEFINED
/* POINTERS TO DATA OBJECTS */
^IMAGE = ("H5163_0011_SR4.TIF")
/* IDENTIFICATION DATA ELEMENTS */
DATA_SET_ID = "MEX-M-HRSC-4-REFDR-MAPPROJECT-EXT2-V4.0"
DATA_SET_NAME = "MARS EXPRESS HRSC MAP PROJECTED REFDR EXTENSION2 V4.0"
DETECTOR_ID = MEX_HRSC_SRC
EVENT_TYPE = "MARS-LOCAL-STEREO-Fl-La-Tc"
INSTRUMENT_HOST_ID = MEX
INSTRUMENT_HOST_NAME = "MARS EXPRESS"
INSTRUMENT_ID = HRSC
INSTRUMENT_NAME = "HIGH RESOLUTION STEREO CAMERA"
MISSION_NAME = "MARS EXPRESS"
MISSION_PHASE_NAME = ME_Phase_11
PROCESSING_LEVEL_ID = 4
PRODUCT_CREATION_TIME = 2023-02-01T12:09:47.000Z
PRODUCT_ID = "H5163_0011_SR4.TIF"
RELEASE_ID = 0001
REVISION_ID = 0000
/* QUALITY DATA ELEMENTS */
DATA_QUALITY_ID = 1
DATA_QUALITY_DESC = "Data calculated based on original SPICE kernels"
/* TIME DATA ELEMENTS */
SPACECRAFT_CLOCK_START_COUNT = "1/0147916864.08271"
SPACECRAFT_CLOCK_STOP_COUNT = "1/0147917036.50815"
IMAGE_TIME = 2008-01-09T00:02:41.979Z
START_TIME = 2008-01-09T00:02:41.976Z
STOP_TIME = 2008-01-09T00:02:41.981Z
/* ORBITAL DATA ELEMENTS */
ASCENDING_NODE_LONGITUDE = 120.7
MAXIMUM_RESOLUTION = 0.003276
FOOTPRINT_POINT_LATITUDE = (22.4245,22.4266,22.4296,22.4315, 22.4342,22.4372,22.4407,22.4438,22.4457 ,22.4478,22.4504,22.4521,22.4543, 22.4562,22.4593,22.4614,22.4641,22.4682 ,22.4702,22.4733,22.475,22.4779,22.4802 ,22.4803,22.4803,22.4803,22.4803, 22.4803,22.4803,22.4803,22.4803,22.4803 ,22.4803,22.4803,22.4803,22.4804, 22.4804,22.4804,22.4804,22.4804,22.4804 ,22.4804,22.4804,22.4804,22.4804, 22.4804,22.4804,22.4805,22.4805,22.4805 ,22.4805,22.4805,22.4786,22.4763, 22.4743,22.4715,22.4692,22.4672,22.465, 22.4619,22.4591,22.456,22.4522,22.4497, 22.4468,22.4448,22.4425,22.44,22.4365, 22.4342,22.4324,22.4288,22.4267,22.4248 ,22.4247,22.4247,22.4247,22.4247, 22.4247,22.4247,22.4247,22.4247,22.4247 ,22.4247,22.4247,22.4246,22.4246, 22.4246,22.4246,22.4246,22.4246,22.4246 ,22.4246,22.4246,22.4245,22.4245, 22.4245,22.4245,22.4245,22.4245)
FOOTPRINT_POINT_LONGITUDE = (343.714,343.714,343.714,343.714, 343.714,343.713,343.713,343.713,343.713 ,343.713,343.713,343.713,343.713, 343.713,343.713,343.713,343.713,343.713 ,343.713,343.713,343.713,343.713, 343.713,343.713,343.713,343.715,343.718 ,343.72,343.722,343.725,343.728,343.73, 343.732,343.734,343.737,343.74,343.741, 343.743,343.746,343.748,343.75,343.753, 343.755,343.758,343.761,343.763,343.765 ,343.768,343.77,343.773,343.774,343.774 ,343.774,343.774,343.774,343.774, 343.774,343.774,343.774,343.774,343.774 ,343.774,343.774,343.774,343.774, 343.774,343.774,343.774,343.774,343.774 ,343.774,343.774,343.774,343.774, 343.774,343.774,343.772,343.77,343.768, 343.767,343.764,343.762,343.76,343.756, 343.754,343.75,343.748,343.746,343.743, 343.739,343.736,343.733,343.731,343.726 ,343.723,343.721,343.719,343.714, 343.714,343.714)
ORBIT_NUMBER = 5163
ORBITAL_ECCENTRICITY = 0.574
ORBITAL_INCLINATION = 86.73
ORBITAL_SEMIMAJOR_AXIS = 8722.59
PERIAPSIS_ALTITUDE = 321.51
PERIAPSIS_ARGUMENT_ANGLE = 170.01
PERIAPSIS_TIME = 2008-01-09T00:05:53.000Z
SPACECRAFT_ORIENTATION = (0.0,-1.0,0.0)
^MEX_ORIENTATION_DESC = "MEX_ORIENTATION_DESC.TXT"
SPACECRAFT_POINTING_MODE = NADIR
^MEX_POINTING_DESC = "MEX_POINTING_DESC.TXT"
RIGHT_ASCENSION = -1e+32
DECLINATION = -1e+32
OFFSET_ANGLE = -1e+32
SPACECRAFT_SOLAR_DISTANCE = 2.38303e+08
TARGET_NAME = MARS
/* CAMERA DATA ELEMENTS */
BUFFER_MODE_ID = BUFFER_8
EXPOSURE_DURATION = 5.04
INST_CMPRS_NAME = NONE
INST_CMPRS_RATIO = 1.0
INST_CMPRS_QUALITY = -2147483648
INST_CMPRS_QUANTZ_TBL_ID = -2147483648
INSTRUMENT_TEMPERATURE = 7.28514
MISSING_FRAMES = 0
START_BIT = 0
/* RADIOMETRIC DATA ELEMENTS */
BANDWIDTH = 250.0
CENTER_FILTER_WAVELENGTH = 600.0
RADIANCE_OFFSET = -9.99e+31
RADIANCE_SCALING_FACTOR = -9.99e+31
REFLECTANCE_SCALING_FACTOR = -9.99e+31
MEX:REFLECTANCE_OFFSET = -9.99e+31
/* IMAGE OBJECT DEFINITIONS */
OBJECT = IMAGE
  INTERCHANGE_FORMAT = BINARY
  LINES = 1378
  LINE_SAMPLES = 1389
  SAMPLE_TYPE = UNSIGNED_INTEGER
  SAMPLE_BITS = 8
  BANDS = 1
  BAND_STORAGE_TYPE = BAND_SEQUENTIAL
  MAXIMUM = 255
  MEAN = 127.896
  MINIMUM = 1
  STANDARD_DEVIATION = 25.2445
END_OBJECT = IMAGE
/* MAP OBJECT DEFINITIONS */
OBJECT = IMAGE_MAP_PROJECTION
  ^DATA_SET_MAP_PROJECTION_CATALOG= "DSMAP.CAT"
  A_AXIS_RADIUS = 3396.19
  B_AXIS_RADIUS = 3396.19
  C_AXIS_RADIUS = 3396.19
  CENTER_LATITUDE = 0.0
  CENTER_LONGITUDE = 344.0
  COORDINATE_SYSTEM_NAME = PLANETOGRAPHIC
  COORDINATE_SYSTEM_TYPE = "BODY-FIXED ROTATING"
  EASTERNMOST_LONGITUDE = 343.774
  FIRST_STANDARD_PARALLEL = "N/A"
  LINE_FIRST_PIXEL = 1
  LINE_LAST_PIXEL = 1378
  LINE_PROJECTION_OFFSET = 532876.0
  MAP_PROJECTION_ROTATION = 0.0
  MAP_PROJECTION_TYPE = SINUSOIDAL
  MAP_RESOLUTION = 23709.8786048756
  MAP_SCALE = 0.0025
  MAXIMUM_LATITUDE = 22.4805
  MINIMUM_LATITUDE = 22.4245
  POSITIVE_LONGITUDE_DIRECTION = EAST
  REFERENCE_LATITUDE = "N/A"
  REFERENCE_LONGITUDE = "N/A"
  SAMPLE_FIRST_PIXEL = 1
  SAMPLE_LAST_PIXEL = 1389
  SAMPLE_PROJECTION_OFFSET = 6300.0
  SECOND_STANDARD_PARALLEL = "N/A"
  WESTERNMOST_LONGITUDE = 343.713
END_OBJECT = IMAGE_MAP_PROJECTION
END
