PDS_VERSION_ID = PDS3
/* FILE DATA ELEMENTS */
RECORD_TYPE = UNDEFINED
/* POINTERS TO DATA OBJECTS */
^IMAGE = ("H5159_0001_S24.TIF")
/* IDENTIFICATION DATA ELEMENTS */
DATA_SET_ID = "MEX-M-HRSC-4-REFDR-MAPPROJECT-EXT2-V4.0"
DATA_SET_NAME = "MARS EXPRESS HRSC MAP PROJECTED REFDR EXTENSION2 V4.0"
DETECTOR_ID = MEX_HRSC_S2
EVENT_TYPE = "MARS-LOCAL-MAPPING-Vo"
INSTRUMENT_HOST_ID = MEX
INSTRUMENT_HOST_NAME = "MARS EXPRESS"
INSTRUMENT_ID = HRSC
INSTRUMENT_NAME = "HIGH RESOLUTION STEREO CAMERA"
MISSION_NAME = "MARS EXPRESS"
MISSION_PHASE_NAME = ME_Phase_11
PROCESSING_LEVEL_ID = 4
PRODUCT_CREATION_TIME = 2023-02-01T12:09:47.000Z
PRODUCT_ID = "H5159_0001_S24.TIF"
RELEASE_ID = 0001
REVISION_ID = 0000
/* QUALITY DATA ELEMENTS */
DATA_QUALITY_ID = 1
DATA_QUALITY_DESC = "Data calculated based on original SPICE kernels"
/* TIME DATA ELEMENTS */
SPACECRAFT_CLOCK_START_COUNT = "1/0147818842.09028"
SPACECRAFT_CLOCK_STOP_COUNT = "1/0147818983.63050"
START_TIME = 2008-01-07T20:48:33.487Z
STOP_TIME = 2008-01-07T20:49:45.829Z
/* ORBITAL DATA ELEMENTS */
ASCENDING_NODE_LONGITUDE = 120.78
MAXIMUM_RESOLUTION = 0.0326
FOOTPRINT_POINT_LATITUDE = (-5.94935,-5.95082,-5.95241,-5.95391, -5.9553,-5.9566,-5.9578,-5.95888, -5.95984,-5.9607,-5.962,-5.96268, -5.9632,-5.96326,-5.97922,-6.10846, -6.19426,-6.36422,-6.45112,-6.5368, -6.7076,-6.79326,-6.96459,-7.1347, -7.26235,-7.43215,-7.60174,-7.77322, -7.85988,-7.94558,-8.03133,-8.11717, -8.28829,-8.37451,-8.54305,-8.70758, -8.9537,-9.12401,-9.21008,-9.2961, -9.38193,-9.46789,-9.55372,-9.68285, -9.76892,-9.85475,-10.0247,-10.1113, -10.1992,-10.2432,-10.281,-10.2795, -10.28,-10.2797,-10.2824,-10.2827, -10.2821,-10.2813,-10.2798,-10.278, -10.2764,-10.2733,-10.2698,-10.2695, -10.2689,-10.1816,-10.0941,-9.92198, -9.7938,-9.70802,-9.6215,-9.53484, -9.44837,-9.36232,-9.27649,-9.14771, -8.97669,-8.76726,-8.55834,-8.4271, -8.33959,-8.16833,-8.03998,-7.87023, -7.61572,-7.4464,-7.28166,-7.1142, -6.94398,-6.85796,-6.77191,-6.68568, -6.51503,-6.42911,-6.34345,-6.25786, -6.17198,-6.0429,-5.99969,-5.94935)
FOOTPRINT_POINT_LONGITUDE = (24.7942,24.701,24.5947,24.4885,24.3825 ,24.2767,24.171,24.0656,23.9603,23.8552 ,23.6715,23.5535,23.4487,23.4356, 23.4342,23.4316,23.4298,23.426,23.4244, 23.4226,23.419,23.4172,23.4136,23.4098, 23.407,23.4032,23.3994,23.3959,23.3943, 23.3926,23.3908,23.3891,23.3856,23.384, 23.3801,23.3754,23.3682,23.3639,23.3618 ,23.3597,23.3576,23.3555,23.3534, 23.3503,23.3482,23.3461,23.3416,23.3392 ,23.3371,23.336,23.335,23.4505,23.5525, 23.698,23.7999,23.9163,24.0036,24.1348, 24.2225,24.3835,24.4861,24.6332,24.8247 ,24.8394,24.8447,24.8432,24.8417, 24.8387,24.8365,24.8352,24.8342,24.8332 ,24.8321,24.8309,24.8295,24.8275, 24.8245,24.8212,24.8176,24.8179,24.818, 24.8167,24.8156,24.8136,24.8104,24.8081 ,24.8038,24.8006,24.7984,24.7977,24.797 ,24.7964,24.7943,24.7935,24.7925, 24.7916,24.7907,24.7895,24.7891, 24.7942)
ORBIT_NUMBER = 5159
ORBITAL_ECCENTRICITY = 0.574
ORBITAL_INCLINATION = 86.72
ORBITAL_SEMIMAJOR_AXIS = 8729.57
PERIAPSIS_ALTITUDE = 320.81
PERIAPSIS_ARGUMENT_ANGLE = 170.75
PERIAPSIS_TIME = 2008-01-07T20:44:04.000Z
SPACECRAFT_ORIENTATION = (0.0,-1.0,0.0)
^MEX_ORIENTATION_DESC = "MEX_ORIENTATION_DESC.TXT"
SPACECRAFT_POINTING_MODE = ACROSSTRACK
^MEX_POINTING_DESC = "MEX_POINTING_DESC.TXT"
RIGHT_ASCENSION = -1e+32
DECLINATION = -1e+32
OFFSET_ANGLE = 0.25
SPACECRAFT_SOLAR_DISTANCE = 2.38117e+08
TARGET_NAME = MARS
/* CAMERA DATA ELEMENTS */
DETECTOR_TEMPERATURE = 18.3705
FOCAL_PLANE_TEMPERATURE = 7.7677
INST_CMPRS_NAME = "DISCRETE COSINE TRANSFORMATION (DCT)"
INST_CMPRS_RATIO = 13.0707
INST_CMPRS_QUALITY = 0
INST_CMPRS_QUANTZ_TBL_ID = 0
INSTRUMENT_TEMPERATURE = 12.6613
LENS_TEMPERATURE = 8.1755
MACROPIXEL_SIZE = 2
MISSING_FRAMES = 0
PIXEL_SUBSAMPLING_FLAG = N
SIGNAL_CHAIN_ID = 1
/* RADIOMETRIC DATA ELEMENTS */
BANDWIDTH = 178.0
CENTER_FILTER_WAVELENGTH = 679.0
RADIANCE_OFFSET = 1.78999
RADIANCE_SCALING_FACTOR = 0.0122842
REFLECTANCE_SCALING_FACTOR = 0.000368857
MEX:REFLECTANCE_OFFSET = 0.0537478
/* IMAGE OBJECT DEFINITIONS */
OBJECT = IMAGE
  INTERCHANGE_FORMAT = BINARY
  LINES = 10223
  LINE_SAMPLES = 3313
  SAMPLE_TYPE = UNSIGNED_INTEGER
  SAMPLE_BITS = 8
  BANDS = 1
  BAND_STORAGE_TYPE = BAND_SEQUENTIAL
  MAXIMUM = 255
  MEAN = 95.8375
  MINIMUM = 1
  STANDARD_DEVIATION = 23.7676
END_OBJECT = IMAGE
/* MAP OBJECT DEFINITIONS */
OBJECT = IMAGE_MAP_PROJECTION
  ^DATA_SET_MAP_PROJECTION_CATALOG= "DSMAP.CAT"
  A_AXIS_RADIUS = 3396.0
  B_AXIS_RADIUS = 3396.0
  C_AXIS_RADIUS = 3396.0
  CENTER_LATITUDE = 0.0
  CENTER_LONGITUDE = 24.0
  COORDINATE_SYSTEM_NAME = PLANETOGRAPHIC
  COORDINATE_SYSTEM_TYPE = "BODY-FIXED ROTATING"
  EASTERNMOST_LONGITUDE = 24.8447
  FIRST_STANDARD_PARALLEL = "N/A"
  LINE_FIRST_PIXEL = 1
  LINE_LAST_PIXEL = 10223
  LINE_PROJECTION_OFFSET = -14118.75
  MAP_PROJECTION_ROTATION = 0.0
  MAP_PROJECTION_TYPE = SINUSOIDAL
  MAP_RESOLUTION = 2370.85521546667
  MAP_SCALE = 0.025
  MAXIMUM_LATITUDE = -5.94935
  MINIMUM_LATITUDE = -10.2827
  POSITIVE_LONGITUDE_DIRECTION = EAST
  REFERENCE_LATITUDE = "N/A"
  REFERENCE_LONGITUDE = "N/A"
  SAMPLE_FIRST_PIXEL = 1
  SAMPLE_LAST_PIXEL = 3313
  SAMPLE_PROJECTION_OFFSET = 1448.75
  SECOND_STANDARD_PARALLEL = "N/A"
  WESTERNMOST_LONGITUDE = 23.335
END_OBJECT = IMAGE_MAP_PROJECTION
END
