PDS_VERSION_ID = PDS3
/* FILE DATA ELEMENTS */
RECORD_TYPE = UNDEFINED
/* POINTERS TO DATA OBJECTS */
^IMAGE = ("H5158_0000_S24.TIF")
/* IDENTIFICATION DATA ELEMENTS */
DATA_SET_ID = "MEX-M-HRSC-4-REFDR-MAPPROJECT-EXT2-V4.0"
DATA_SET_NAME = "MARS EXPRESS HRSC MAP PROJECTED REFDR EXTENSION2 V4.0"
DETECTOR_ID = MEX_HRSC_S2
EVENT_TYPE = "MARS-REGIONAL-MAPPING-Vo-Fl-Gl"
INSTRUMENT_HOST_ID = MEX
INSTRUMENT_HOST_NAME = "MARS EXPRESS"
INSTRUMENT_ID = HRSC
INSTRUMENT_NAME = "HIGH RESOLUTION STEREO CAMERA"
MISSION_NAME = "MARS EXPRESS"
MISSION_PHASE_NAME = ME_Phase_11
PROCESSING_LEVEL_ID = 4
PRODUCT_CREATION_TIME = 2023-02-01T12:09:47.000Z
PRODUCT_ID = "H5158_0000_S24.TIF"
RELEASE_ID = 0001
REVISION_ID = 0000
/* QUALITY DATA ELEMENTS */
DATA_QUALITY_ID = 1
DATA_QUALITY_DESC = "Data calculated based on original SPICE kernels"
/* TIME DATA ELEMENTS */
SPACECRAFT_CLOCK_START_COUNT = "1/0147793767.08421"
SPACECRAFT_CLOCK_STOP_COUNT = "1/0147794022.56939"
START_TIME = 2008-01-07T13:50:37.080Z
STOP_TIME = 2008-01-07T13:53:44.722Z
/* ORBITAL DATA ELEMENTS */
ASCENDING_NODE_LONGITUDE = 120.79
MAXIMUM_RESOLUTION = 0.0276
FOOTPRINT_POINT_LATITUDE = (22.7786,22.7747,22.7692,22.7613, 22.7611,22.8039,22.5433,22.2829,22.0221 ,21.7616,21.5011,21.2406,20.9801, 20.5899,20.1988,19.9402,19.6884,19.3105 ,19.0587,18.8068,18.5551,18.3031, 18.0515,17.7999,17.5484,17.2969,16.92, 16.549,16.3058,16.0631,15.699,15.4564, 15.2136,14.9716,14.7291,14.4873,14.2449 ,13.8813,13.639,13.3979,13.0353,12.7931 ,12.3135,12.0695,11.7084,11.4675, 11.2268,10.7461,10.504,10.384,10.3751, 10.38,10.384,10.3892,10.3894,10.3899, 10.8708,11.2316,11.4721,11.7128,11.9544 ,12.3161,12.5573,12.9189,13.1615, 13.5241,13.7657,14.0081,14.3711,14.6133 ,14.9767,15.2191,15.5828,15.826,16.0688 ,16.4331,16.6761,17.0509,17.3024, 17.5539,17.8058,18.1836,18.4354,18.6873 ,18.9398,19.1912,19.4433,19.8212, 20.0755,20.4666,20.7272,20.9879,21.3789 ,21.6395,21.9002,22.1609,22.4215, 22.6822,22.8127,22.7786)
FOOTPRINT_POINT_LONGITUDE = (124.867,124.569,124.155,123.552,123.54 ,123.526,123.53,123.534,123.539,123.542 ,123.546,123.55,123.554,123.559,123.564 ,123.567,123.57,123.574,123.576,123.579 ,123.581,123.584,123.586,123.588,123.59 ,123.592,123.595,123.597,123.599,123.6, 123.602,123.604,123.605,123.606,123.607 ,123.608,123.608,123.61,123.61,123.611, 123.611,123.612,123.612,123.612,123.612 ,123.612,123.612,123.611,123.611, 123.611,123.611,124.002,124.361,124.756 ,124.768,124.772,124.775,124.777, 124.778,124.78,124.782,124.784,124.786, 124.788,124.79,124.793,124.794,124.796, 124.799,124.801,124.804,124.806,124.809 ,124.811,124.813,124.817,124.819, 124.822,124.825,124.827,124.83,124.833, 124.836,124.839,124.841,124.844,124.847 ,124.851,124.853,124.858,124.861, 124.864,124.868,124.871,124.874,124.878 ,124.881,124.884,124.886,124.867)
ORBIT_NUMBER = 5158
ORBITAL_ECCENTRICITY = 0.574
ORBITAL_INCLINATION = 86.72
ORBITAL_SEMIMAJOR_AXIS = 8729.26
PERIAPSIS_ALTITUDE = 320.56
PERIAPSIS_ARGUMENT_ANGLE = 170.92
PERIAPSIS_TIME = 2008-01-07T13:53:35.000Z
SPACECRAFT_ORIENTATION = (0.0,-1.0,0.0)
^MEX_ORIENTATION_DESC = "MEX_ORIENTATION_DESC.TXT"
SPACECRAFT_POINTING_MODE = ACROSSTRACK
^MEX_POINTING_DESC = "MEX_POINTING_DESC.TXT"
RIGHT_ASCENSION = -1e+32
DECLINATION = -1e+32
OFFSET_ANGLE = 0.2
SPACECRAFT_SOLAR_DISTANCE = 2.3807e+08
TARGET_NAME = MARS
/* CAMERA DATA ELEMENTS */
DETECTOR_TEMPERATURE = 18.3705
FOCAL_PLANE_TEMPERATURE = 7.7677
INST_CMPRS_NAME = "DISCRETE COSINE TRANSFORMATION (DCT)"
INST_CMPRS_RATIO = 11.0627
INST_CMPRS_QUALITY = 0
INST_CMPRS_QUANTZ_TBL_ID = 0
INSTRUMENT_TEMPERATURE = 11.4379
LENS_TEMPERATURE = 7.9716
MACROPIXEL_SIZE = 2
MISSING_FRAMES = 0
PIXEL_SUBSAMPLING_FLAG = N
SIGNAL_CHAIN_ID = 1
/* RADIOMETRIC DATA ELEMENTS */
BANDWIDTH = 178.0
CENTER_FILTER_WAVELENGTH = 679.0
RADIANCE_OFFSET = 2.91326
RADIANCE_SCALING_FACTOR = 0.0144711
REFLECTANCE_SCALING_FACTOR = 0.00043435
MEX:REFLECTANCE_OFFSET = 0.0874416
/* IMAGE OBJECT DEFINITIONS */
OBJECT = IMAGE
  INTERCHANGE_FORMAT = BINARY
  LINES = 29477
  LINE_SAMPLES = 3040
  SAMPLE_TYPE = UNSIGNED_INTEGER
  SAMPLE_BITS = 8
  BANDS = 1
  BAND_STORAGE_TYPE = BAND_SEQUENTIAL
  MAXIMUM = 255
  MEAN = 111.695
  MINIMUM = 1
  STANDARD_DEVIATION = 18.5253
END_OBJECT = IMAGE
/* MAP OBJECT DEFINITIONS */
OBJECT = IMAGE_MAP_PROJECTION
  ^DATA_SET_MAP_PROJECTION_CATALOG= "DSMAP.CAT"
  A_AXIS_RADIUS = 3396.0
  B_AXIS_RADIUS = 3396.0
  C_AXIS_RADIUS = 3396.0
  CENTER_LATITUDE = 0.0
  CENTER_LONGITUDE = 124.0
  COORDINATE_SYSTEM_NAME = PLANETOGRAPHIC
  COORDINATE_SYSTEM_TYPE = "BODY-FIXED ROTATING"
  EASTERNMOST_LONGITUDE = 124.886
  FIRST_STANDARD_PARALLEL = "N/A"
  LINE_FIRST_PIXEL = 1
  LINE_LAST_PIXEL = 29477
  LINE_PROJECTION_OFFSET = 54035.75
  MAP_PROJECTION_ROTATION = 0.0
  MAP_PROJECTION_TYPE = SINUSOIDAL
  MAP_RESOLUTION = 2370.85521546667
  MAP_SCALE = 0.025
  MAXIMUM_LATITUDE = 22.8127
  MINIMUM_LATITUDE = 10.3751
  POSITIVE_LONGITUDE_DIRECTION = EAST
  REFERENCE_LATITUDE = "N/A"
  REFERENCE_LONGITUDE = "N/A"
  SAMPLE_FIRST_PIXEL = 1
  SAMPLE_LAST_PIXEL = 3040
  SAMPLE_PROJECTION_OFFSET = 1074.75
  SECOND_STANDARD_PARALLEL = "N/A"
  WESTERNMOST_LONGITUDE = 123.526
END_OBJECT = IMAGE_MAP_PROJECTION
END
