PDS_VERSION_ID = PDS3
/* FILE DATA ELEMENTS */
RECORD_TYPE = UNDEFINED
/* POINTERS TO DATA OBJECTS */
^IMAGE = ("H5156_0000_ND4.TIF")
/* IDENTIFICATION DATA ELEMENTS */
DATA_SET_ID = "MEX-M-HRSC-4-REFDR-MAPPROJECT-EXT2-V4.0"
DATA_SET_NAME = "MARS EXPRESS HRSC MAP PROJECTED REFDR EXTENSION2 V4.0"
DETECTOR_ID = MEX_HRSC_NADIR
EVENT_TYPE = "MARS-REGIONAL-MAPPING-Fl-Mw-La"
INSTRUMENT_HOST_ID = MEX
INSTRUMENT_HOST_NAME = "MARS EXPRESS"
INSTRUMENT_ID = HRSC
INSTRUMENT_NAME = "HIGH RESOLUTION STEREO CAMERA"
MISSION_NAME = "MARS EXPRESS"
MISSION_PHASE_NAME = ME_Phase_11
PROCESSING_LEVEL_ID = 4
PRODUCT_CREATION_TIME = 2023-02-01T12:09:47.000Z
PRODUCT_ID = "H5156_0000_ND4.TIF"
RELEASE_ID = 0001
REVISION_ID = 0000
/* QUALITY DATA ELEMENTS */
DATA_QUALITY_ID = 1
DATA_QUALITY_DESC = "Data calculated based on original SPICE kernels"
/* TIME DATA ELEMENTS */
SPACECRAFT_CLOCK_START_COUNT = "1/0147744662.09047"
SPACECRAFT_CLOCK_STOP_COUNT = "1/0147744861.08900"
START_TIME = 2008-01-07T00:11:35.474Z
STOP_TIME = 2008-01-07T00:13:53.467Z
/* ORBITAL DATA ELEMENTS */
ASCENDING_NODE_LONGITUDE = 120.84
MAXIMUM_RESOLUTION = 0.013
FOOTPRINT_POINT_LATITUDE = (12.8715,12.8726,12.8741,12.8751, 12.8754,12.8754,12.8753,12.5142,12.153, 11.7917,11.611,11.4303,11.2496,11.0688, 10.888,10.7073,10.5265,10.3457,10.1648, 9.98401,9.80317,9.62232,9.44146,9.2606, 9.07974,8.89887,8.718,8.44669,8.26583, 8.08496,7.9041,7.72325,7.5424,7.36156, 7.18073,6.99992,6.81911,6.63832,6.45754 ,6.27678,6.09604,5.91532,5.73462, 5.37327,5.01203,4.6509,4.28987,3.92898, 3.83878,3.83757,3.83632,3.83451,3.83193 ,3.83187,3.83204,4.19293,4.55395,4.9151 ,5.27637,5.45704,5.63773,5.81844, 5.99918,6.17995,6.36071,6.5415,6.72231, 6.90314,7.08398,7.26483,7.4457,7.62657, 7.80746,7.98834,8.16924,8.35014,8.53104 ,8.71195,8.89286,9.07378,9.25468, 9.43558,9.61647,9.8878,10.0687,10.2495, 10.4304,10.6112,10.7921,10.9729,11.1537 ,11.3345,11.5152,11.696,11.8767,12.1477 ,12.509,12.7799,12.8702,12.8715)
FOOTPRINT_POINT_LONGITUDE = (325.167,324.955,324.584,324.217, 324.012,324.001,323.994,323.994,323.995 ,323.995,323.995,323.995,323.995, 323.995,323.994,323.994,323.994,323.994 ,323.993,323.993,323.993,323.992, 323.992,323.991,323.991,323.99,323.99, 323.989,323.988,323.987,323.987,323.986 ,323.985,323.984,323.983,323.983, 323.982,323.981,323.98,323.979,323.977, 323.976,323.975,323.973,323.97,323.968, 323.966,323.963,323.962,323.962,324.243 ,324.619,325.103,325.115,325.12,325.122 ,325.124,325.125,325.127,325.128, 325.129,325.131,325.131,325.131,325.137 ,325.139,325.14,325.141,325.142,325.143 ,325.144,325.145,325.146,325.147, 325.149,325.15,325.151,325.152,325.151, 325.15,325.151,325.153,325.154,325.155, 325.157,325.158,325.16,325.161,325.163, 325.165,325.165,325.166,325.169,325.169 ,325.174,325.181,325.183,325.181, 325.182,325.167)
ORBIT_NUMBER = 5156
ORBITAL_ECCENTRICITY = 0.574
ORBITAL_INCLINATION = 86.74
ORBITAL_SEMIMAJOR_AXIS = 8721.97
PERIAPSIS_ALTITUDE = 320.77
PERIAPSIS_ARGUMENT_ANGLE = 171.26
PERIAPSIS_TIME = 2008-01-07T00:12:39.000Z
SPACECRAFT_ORIENTATION = (0.0,-1.0,0.0)
^MEX_ORIENTATION_DESC = "MEX_ORIENTATION_DESC.TXT"
SPACECRAFT_POINTING_MODE = ACROSSTRACK
^MEX_POINTING_DESC = "MEX_POINTING_DESC.TXT"
RIGHT_ASCENSION = -1e+32
DECLINATION = -1e+32
OFFSET_ANGLE = 0.458
SPACECRAFT_SOLAR_DISTANCE = 2.37977e+08
TARGET_NAME = MARS
/* CAMERA DATA ELEMENTS */
DETECTOR_TEMPERATURE = 18.1666
FOCAL_PLANE_TEMPERATURE = 8.3794
INST_CMPRS_NAME = "DISCRETE COSINE TRANSFORMATION (DCT)"
INST_CMPRS_RATIO = 7.07798
INST_CMPRS_QUALITY = 0
INST_CMPRS_QUANTZ_TBL_ID = 0
INSTRUMENT_TEMPERATURE = 11.0301
LENS_TEMPERATURE = 8.5833
MACROPIXEL_SIZE = 1
MISSING_FRAMES = 0
PIXEL_SUBSAMPLING_FLAG = N
SIGNAL_CHAIN_ID = 0
/* RADIOMETRIC DATA ELEMENTS */
BANDWIDTH = 177.0
CENTER_FILTER_WAVELENGTH = 677.5
RADIANCE_OFFSET = 2.58427
RADIANCE_SCALING_FACTOR = 0.0145935
REFLECTANCE_SCALING_FACTOR = 0.000439047
MEX:REFLECTANCE_OFFSET = 0.077748
/* IMAGE OBJECT DEFINITIONS */
OBJECT = IMAGE
  INTERCHANGE_FORMAT = BINARY
  LINES = 42883
  LINE_SAMPLES = 5763
  SAMPLE_TYPE = UNSIGNED_INTEGER
  SAMPLE_BITS = 8
  BANDS = 1
  BAND_STORAGE_TYPE = BAND_SEQUENTIAL
  MAXIMUM = 255
  MEAN = 108.193
  MINIMUM = 1
  STANDARD_DEVIATION = 27.0083
END_OBJECT = IMAGE
/* MAP OBJECT DEFINITIONS */
OBJECT = IMAGE_MAP_PROJECTION
  ^DATA_SET_MAP_PROJECTION_CATALOG= "DSMAP.CAT"
  A_AXIS_RADIUS = 3396.0
  B_AXIS_RADIUS = 3396.0
  C_AXIS_RADIUS = 3396.0
  CENTER_LATITUDE = 0.0
  CENTER_LONGITUDE = 325.0
  COORDINATE_SYSTEM_NAME = PLANETOGRAPHIC
  COORDINATE_SYSTEM_TYPE = "BODY-FIXED ROTATING"
  EASTERNMOST_LONGITUDE = 325.183
  FIRST_STANDARD_PARALLEL = "N/A"
  LINE_FIRST_PIXEL = 1
  LINE_LAST_PIXEL = 42883
  LINE_PROJECTION_OFFSET = 61067.0
  MAP_PROJECTION_ROTATION = 0.0
  MAP_PROJECTION_TYPE = SINUSOIDAL
  MAP_RESOLUTION = 4741.71043093333
  MAP_SCALE = 0.0125
  MAXIMUM_LATITUDE = 12.8754
  MINIMUM_LATITUDE = 3.83187
  POSITIVE_LONGITUDE_DIRECTION = EAST
  REFERENCE_LATITUDE = "N/A"
  REFERENCE_LONGITUDE = "N/A"
  SAMPLE_FIRST_PIXEL = 1
  SAMPLE_LAST_PIXEL = 5763
  SAMPLE_PROJECTION_OFFSET = 4907.0
  SECOND_STANDARD_PARALLEL = "N/A"
  WESTERNMOST_LONGITUDE = 323.962
END_OBJECT = IMAGE_MAP_PROJECTION
END
