PDS_VERSION_ID = PDS3
/* FILE DATA ELEMENTS */
RECORD_TYPE = UNDEFINED
/* POINTERS TO DATA OBJECTS */
^IMAGE = ("H5149_0000_RE4.TIF")
/* IDENTIFICATION DATA ELEMENTS */
DATA_SET_ID = "MEX-M-HRSC-4-REFDR-MAPPROJECT-EXT2-V4.0"
DATA_SET_NAME = "MARS EXPRESS HRSC MAP PROJECTED REFDR EXTENSION2 V4.0"
DETECTOR_ID = MEX_HRSC_RED
EVENT_TYPE = "MARS-REGIONAL-MAPPING-Im-Fl-Lc"
INSTRUMENT_HOST_ID = MEX
INSTRUMENT_HOST_NAME = "MARS EXPRESS"
INSTRUMENT_ID = HRSC
INSTRUMENT_NAME = "HIGH RESOLUTION STEREO CAMERA"
MISSION_NAME = "MARS EXPRESS"
MISSION_PHASE_NAME = ME_Phase_11
PROCESSING_LEVEL_ID = 4
PRODUCT_CREATION_TIME = 2023-02-01T12:09:47.000Z
PRODUCT_ID = "H5149_0000_RE4.TIF"
RELEASE_ID = 0001
REVISION_ID = 0000
/* QUALITY DATA ELEMENTS */
DATA_QUALITY_ID = 1
DATA_QUALITY_DESC = "Data calculated based on original SPICE kernels"
/* TIME DATA ELEMENTS */
SPACECRAFT_CLOCK_START_COUNT = "1/0147572268.08248"
SPACECRAFT_CLOCK_STOP_COUNT = "1/0147572460.30959"
START_TIME = 2008-01-05T00:18:44.973Z
STOP_TIME = 2008-01-05T00:20:57.203Z
/* ORBITAL DATA ELEMENTS */
ASCENDING_NODE_LONGITUDE = 120.97
MAXIMUM_RESOLUTION = 0.1071
FOOTPRINT_POINT_LATITUDE = (11.8485,11.8503,11.8535,11.8566, 11.8585,11.8586,11.8657,11.6055,11.4301 ,11.2564,11.085,10.9138,10.7406,10.5685 ,10.3957,10.1368,9.96436,9.79204, 9.62004,9.44769,9.27526,9.10342,8.84753 ,8.58658,8.41487,8.24258,7.90216, 7.72576,7.46871,7.29735,7.12576,6.86847 ,6.6968,6.52556,6.354,6.09646,5.83996, 5.66875,5.4971,5.24698,5.07672,4.90696, 4.73603,4.47979,4.0477,3.71071,3.37273, 3.28813,3.221,3.21786,3.21576,3.21253, 3.2077,3.2056,3.2055,3.20706,3.37836, 3.54852,3.8877,4.05812,4.39792,4.56807, 4.73784,4.90864,5.16414,5.33507,5.59149 ,5.76227,6.01836,6.18934,6.3606,6.53174 ,6.70306,6.8742,7.04549,7.21755,7.47555 ,7.73447,7.99439,8.16841,8.33988, 8.59303,8.85113,9.02364,9.28209,9.45436 ,9.6274,9.88602,10.0587,10.2314,10.4042 ,10.5766,10.8352,11.0077,11.1804, 11.3525,11.5239,11.6982,11.7864, 11.8485)
FOOTPRINT_POINT_LONGITUDE = (304.895,304.671,304.297,303.965, 303.771,303.76,303.751,303.752,303.753, 303.754,303.754,303.753,303.754,303.754 ,303.754,303.754,303.754,303.754, 303.754,303.754,303.753,303.753,303.752 ,303.753,303.752,303.752,303.75,303.751 ,303.75,303.75,303.749,303.748,303.748, 303.747,303.746,303.746,303.744,303.744 ,303.743,303.739,303.738,303.737, 303.736,303.735,303.735,303.731,303.728 ,303.727,303.727,303.95,304.12,304.354, 304.662,304.842,304.853,304.86,304.86, 304.861,304.861,304.862,304.862,304.863 ,304.863,304.863,304.864,304.865, 304.865,304.866,304.867,304.867,304.868 ,304.868,304.869,304.87,304.87,304.871, 304.872,304.874,304.876,304.877,304.878 ,304.878,304.879,304.88,304.881,304.882 ,304.883,304.885,304.886,304.887, 304.888,304.889,304.89,304.891,304.892, 304.893,304.894,304.895,304.896, 304.895)
ORBIT_NUMBER = 5149
ORBITAL_ECCENTRICITY = 0.574
ORBITAL_INCLINATION = 86.73
ORBITAL_SEMIMAJOR_AXIS = 8726.58
PERIAPSIS_ALTITUDE = 319.82
PERIAPSIS_ARGUMENT_ANGLE = 172.52
PERIAPSIS_TIME = 2008-01-05T00:19:28.000Z
SPACECRAFT_ORIENTATION = (0.0,-1.0,0.0)
^MEX_ORIENTATION_DESC = "MEX_ORIENTATION_DESC.TXT"
SPACECRAFT_POINTING_MODE = ACROSSTRACK
^MEX_POINTING_DESC = "MEX_POINTING_DESC.TXT"
RIGHT_ASCENSION = -1e+32
DECLINATION = -1e+32
OFFSET_ANGLE = -0.11
SPACECRAFT_SOLAR_DISTANCE = 2.37647e+08
TARGET_NAME = MARS
/* CAMERA DATA ELEMENTS */
DETECTOR_TEMPERATURE = 18.5744
FOCAL_PLANE_TEMPERATURE = 8.1755
INST_CMPRS_NAME = "DISCRETE COSINE TRANSFORMATION (DCT)"
INST_CMPRS_RATIO = 11.1401
INST_CMPRS_QUALITY = 0
INST_CMPRS_QUANTZ_TBL_ID = 0
INSTRUMENT_TEMPERATURE = 11.0301
LENS_TEMPERATURE = 8.7872
MACROPIXEL_SIZE = 8
MISSING_FRAMES = 0
PIXEL_SUBSAMPLING_FLAG = N
SIGNAL_CHAIN_ID = 2
/* RADIOMETRIC DATA ELEMENTS */
BANDWIDTH = 48.0
CENTER_FILTER_WAVELENGTH = 748.0
RADIANCE_OFFSET = 0.588224
RADIANCE_SCALING_FACTOR = 0.00565156
REFLECTANCE_SCALING_FACTOR = 0.000728382
MEX:REFLECTANCE_OFFSET = 0.0758112
/* IMAGE OBJECT DEFINITIONS */
OBJECT = IMAGE
  INTERCHANGE_FORMAT = BINARY
  LINES = 5130
  LINE_SAMPLES = 686
  SAMPLE_TYPE = UNSIGNED_INTEGER
  SAMPLE_BITS = 8
  BANDS = 1
  BAND_STORAGE_TYPE = BAND_SEQUENTIAL
  MAXIMUM = 255
  MEAN = 126.295
  MINIMUM = 1
  STANDARD_DEVIATION = 19.2629
END_OBJECT = IMAGE
/* MAP OBJECT DEFINITIONS */
OBJECT = IMAGE_MAP_PROJECTION
  ^DATA_SET_MAP_PROJECTION_CATALOG= "DSMAP.CAT"
  A_AXIS_RADIUS = 3396.0
  B_AXIS_RADIUS = 3396.0
  C_AXIS_RADIUS = 3396.0
  CENTER_LATITUDE = 0.0
  CENTER_LONGITUDE = 304.0
  COORDINATE_SYSTEM_NAME = PLANETOGRAPHIC
  COORDINATE_SYSTEM_TYPE = "BODY-FIXED ROTATING"
  EASTERNMOST_LONGITUDE = 304.896
  FIRST_STANDARD_PARALLEL = "N/A"
  LINE_FIRST_PIXEL = 1
  LINE_LAST_PIXEL = 5130
  LINE_PROJECTION_OFFSET = 7036.4375
  MAP_PROJECTION_ROTATION = 0.0
  MAP_PROJECTION_TYPE = SINUSOIDAL
  MAP_RESOLUTION = 592.713803866667
  MAP_SCALE = 0.1
  MAXIMUM_LATITUDE = 11.8657
  MINIMUM_LATITUDE = 3.2055
  POSITIVE_LONGITUDE_DIRECTION = EAST
  REFERENCE_LATITUDE = "N/A"
  REFERENCE_LONGITUDE = "N/A"
  SAMPLE_FIRST_PIXEL = 1
  SAMPLE_LAST_PIXEL = 686
  SAMPLE_PROJECTION_OFFSET = 161.3125
  SECOND_STANDARD_PARALLEL = "N/A"
  WESTERNMOST_LONGITUDE = 303.727
END_OBJECT = IMAGE_MAP_PROJECTION
END
