PDS_VERSION_ID = PDS3
/* FILE DATA ELEMENTS */
RECORD_TYPE = UNDEFINED
/* POINTERS TO DATA OBJECTS */
^IMAGE = ("H5147_0000_IR4.TIF")
/* IDENTIFICATION DATA ELEMENTS */
DATA_SET_ID = "MEX-M-HRSC-4-REFDR-MAPPROJECT-EXT2-V4.0"
DATA_SET_NAME = "MARS EXPRESS HRSC MAP PROJECTED REFDR EXTENSION2 V4.0"
DETECTOR_ID = MEX_HRSC_IR
EVENT_TYPE = "MARS-REGIONAL-MAPPING-Vo-Gl-Pf"
INSTRUMENT_HOST_ID = MEX
INSTRUMENT_HOST_NAME = "MARS EXPRESS"
INSTRUMENT_ID = HRSC
INSTRUMENT_NAME = "HIGH RESOLUTION STEREO CAMERA"
MISSION_NAME = "MARS EXPRESS"
MISSION_PHASE_NAME = ME_Phase_11
PROCESSING_LEVEL_ID = 4
PRODUCT_CREATION_TIME = 2023-02-01T12:09:47.000Z
PRODUCT_ID = "H5147_0000_IR4.TIF"
RELEASE_ID = 0001
REVISION_ID = 0000
/* QUALITY DATA ELEMENTS */
DATA_QUALITY_ID = 1
DATA_QUALITY_DESC = "Data calculated based on original SPICE kernels"
/* TIME DATA ELEMENTS */
SPACECRAFT_CLOCK_START_COUNT = "1/0147522878.09085"
SPACECRAFT_CLOCK_STOP_COUNT = "1/0147523227.15233"
START_TIME = 2008-01-04T10:34:47.873Z
STOP_TIME = 2008-01-04T10:39:35.616Z
/* ORBITAL DATA ELEMENTS */
ASCENDING_NODE_LONGITUDE = 121.01
MAXIMUM_RESOLUTION = 0.054
FOOTPRINT_POINT_LATITUDE = (19.8899,19.891,19.8873,19.8872,19.8818 ,19.5102,18.9504,18.5769,18.2023, 17.8263,17.4498,17.0728,16.6952,16.3168 ,15.9378,15.5581,15.1778,14.7968, 14.2291,13.859,13.4886,12.9319,12.3723, 11.9986,11.6248,11.2538,10.7111,10.1676 ,9.44164,9.07779,8.7138,8.168,7.80269, 7.2557,6.70738,6.34161,5.97562,5.60888, 5.05877,4.69184,4.32449,3.9571,3.58928, 3.221,2.85258,2.48432,2.11644,1.56364, 1.37918,1.3224,1.31879,1.31555,1.31547, 1.31626,1.86909,2.23834,2.60712,2.97567 ,3.34402,3.71135,4.07906,4.44665, 4.81405,5.18109,5.54791,5.91444,6.28066 ,6.64662,7.0123,7.5603,8.10832,8.47275, 8.83711,9.56446,10.2904,10.8336,11.565, 11.9387,12.3122,12.6847,13.0568,13.4283 ,13.8002,14.1717,14.5483,14.9294, 15.5006,15.8808,16.2602,16.6388,17.0172 ,17.3942,17.7706,18.1462,18.5212, 18.8953,19.2687,19.6417,19.8279, 19.8899)
FOOTPRINT_POINT_LONGITUDE = (145.221,144.73,143.885,143.872,143.867 ,143.874,143.883,143.888,143.894, 143.899,143.904,143.908,143.913,143.917 ,143.921,143.924,143.928,143.931, 143.936,143.938,143.941,143.944,143.947 ,143.948,143.949,143.951,143.952, 143.954,143.955,143.955,143.955,143.955 ,143.955,143.955,143.954,143.953, 143.952,143.951,143.949,143.948,143.946 ,143.944,143.942,143.94,143.938,143.936 ,143.933,143.93,143.928,143.928,144.683 ,145.056,145.066,145.07,145.071,145.072 ,145.073,145.074,145.076,145.077, 145.079,145.081,145.082,145.084,145.086 ,145.088,145.09,145.092,145.095,145.098 ,145.102,145.104,145.107,145.112, 145.118,145.123,145.129,145.132,145.135 ,145.139,145.142,145.146,145.149, 145.153,145.156,145.161,145.167,145.171 ,145.176,145.18,145.184,145.189,145.194 ,145.199,145.204,145.209,145.214,145.22 ,145.222,145.221)
ORBIT_NUMBER = 5147
ORBITAL_ECCENTRICITY = 0.574
ORBITAL_INCLINATION = 86.72
ORBITAL_SEMIMAJOR_AXIS = 8727.02
PERIAPSIS_ALTITUDE = 319.9
PERIAPSIS_ARGUMENT_ANGLE = 172.87
PERIAPSIS_TIME = 2008-01-04T10:38:31.000Z
SPACECRAFT_ORIENTATION = (0.0,-1.0,0.0)
^MEX_ORIENTATION_DESC = "MEX_ORIENTATION_DESC.TXT"
SPACECRAFT_POINTING_MODE = NADIR
^MEX_POINTING_DESC = "MEX_POINTING_DESC.TXT"
RIGHT_ASCENSION = -1e+32
DECLINATION = -1e+32
OFFSET_ANGLE = -1e+32
SPACECRAFT_SOLAR_DISTANCE = 2.37552e+08
TARGET_NAME = MARS
/* CAMERA DATA ELEMENTS */
DETECTOR_TEMPERATURE = 17.5549
FOCAL_PLANE_TEMPERATURE = 8.5833
INST_CMPRS_NAME = "DISCRETE COSINE TRANSFORMATION (DCT)"
INST_CMPRS_RATIO = 12.8009
INST_CMPRS_QUALITY = 0
INST_CMPRS_QUANTZ_TBL_ID = 0
INSTRUMENT_TEMPERATURE = 11.4379
LENS_TEMPERATURE = 8.7872
MACROPIXEL_SIZE = 4
MISSING_FRAMES = 0
PIXEL_SUBSAMPLING_FLAG = N
SIGNAL_CHAIN_ID = 2
/* RADIOMETRIC DATA ELEMENTS */
BANDWIDTH = 81.0
CENTER_FILTER_WAVELENGTH = 955.5
RADIANCE_OFFSET = 0.748254
RADIANCE_SCALING_FACTOR = 0.00454821
REFLECTANCE_SCALING_FACTOR = 0.000553711
MEX:REFLECTANCE_OFFSET = 0.0910944
/* IMAGE OBJECT DEFINITIONS */
OBJECT = IMAGE
  INTERCHANGE_FORMAT = BINARY
  LINES = 21979
  LINE_SAMPLES = 1503
  SAMPLE_TYPE = UNSIGNED_INTEGER
  SAMPLE_BITS = 8
  BANDS = 1
  BAND_STORAGE_TYPE = BAND_SEQUENTIAL
  MAXIMUM = 255
  MEAN = 106.951
  MINIMUM = 1
  STANDARD_DEVIATION = 19.9617
END_OBJECT = IMAGE
/* MAP OBJECT DEFINITIONS */
OBJECT = IMAGE_MAP_PROJECTION
  ^DATA_SET_MAP_PROJECTION_CATALOG= "DSMAP.CAT"
  A_AXIS_RADIUS = 3396.0
  B_AXIS_RADIUS = 3396.0
  C_AXIS_RADIUS = 3396.0
  CENTER_LATITUDE = 0.0
  CENTER_LONGITUDE = 145.0
  COORDINATE_SYSTEM_NAME = PLANETOGRAPHIC
  COORDINATE_SYSTEM_TYPE = "BODY-FIXED ROTATING"
  EASTERNMOST_LONGITUDE = 145.222
  FIRST_STANDARD_PARALLEL = "N/A"
  LINE_FIRST_PIXEL = 1
  LINE_LAST_PIXEL = 21979
  LINE_PROJECTION_OFFSET = 23560.375
  MAP_PROJECTION_ROTATION = 0.0
  MAP_PROJECTION_TYPE = SINUSOIDAL
  MAP_RESOLUTION = 1185.42760773333
  MAP_SCALE = 0.05
  MAXIMUM_LATITUDE = 19.891
  MINIMUM_LATITUDE = 1.31547
  POSITIVE_LONGITUDE_DIRECTION = EAST
  REFERENCE_LATITUDE = "N/A"
  REFERENCE_LONGITUDE = "N/A"
  SAMPLE_FIRST_PIXEL = 1
  SAMPLE_LAST_PIXEL = 1503
  SAMPLE_PROJECTION_OFFSET = 1279.125
  SECOND_STANDARD_PARALLEL = "N/A"
  WESTERNMOST_LONGITUDE = 143.867
END_OBJECT = IMAGE_MAP_PROJECTION
END
