PDS_VERSION_ID = PDS3
/* FILE DATA ELEMENTS */
RECORD_TYPE = UNDEFINED
/* POINTERS TO DATA OBJECTS */
^IMAGE = ("H5145_0005_SR4.TIF")
/* IDENTIFICATION DATA ELEMENTS */
DATA_SET_ID = "MEX-M-HRSC-4-REFDR-MAPPROJECT-EXT2-V4.0"
DATA_SET_NAME = "MARS EXPRESS HRSC MAP PROJECTED REFDR EXTENSION2 V4.0"
DETECTOR_ID = MEX_HRSC_SRC
EVENT_TYPE = "MARS-LOCAL-STEREO-Fl-La-Tc"
INSTRUMENT_HOST_ID = MEX
INSTRUMENT_HOST_NAME = "MARS EXPRESS"
INSTRUMENT_ID = HRSC
INSTRUMENT_NAME = "HIGH RESOLUTION STEREO CAMERA"
MISSION_NAME = "MARS EXPRESS"
MISSION_PHASE_NAME = ME_Phase_11
PROCESSING_LEVEL_ID = 4
PRODUCT_CREATION_TIME = 2023-02-01T12:09:47.000Z
PRODUCT_ID = "H5145_0005_SR4.TIF"
RELEASE_ID = 0001
REVISION_ID = 0000
/* QUALITY DATA ELEMENTS */
DATA_QUALITY_ID = 1
DATA_QUALITY_DESC = "Data calculated based on original SPICE kernels"
/* TIME DATA ELEMENTS */
SPACECRAFT_CLOCK_START_COUNT = "1/0147473532.08242"
SPACECRAFT_CLOCK_STOP_COUNT = "1/0147473717.41514"
IMAGE_TIME = 2008-01-03T20:53:47.800Z
START_TIME = 2008-01-03T20:53:47.797Z
STOP_TIME = 2008-01-03T20:53:47.802Z
/* ORBITAL DATA ELEMENTS */
ASCENDING_NODE_LONGITUDE = 121.06
MAXIMUM_RESOLUTION = 0.00337
FOOTPRINT_POINT_LATITUDE = (21.2581,21.2621,21.2652,21.2677, 21.2708,21.2749,21.2777,21.2799,21.282, 21.2852,21.2875,21.2903,21.2922,21.2951 ,21.297,21.2995,21.3032,21.3085,21.3111 ,21.3133,21.3154,21.3154,21.3154, 21.3154,21.3154,21.3154,21.3154,21.3155 ,21.3155,21.3155,21.3155,21.3155, 21.3155,21.3155,21.3155,21.3155,21.3155 ,21.3155,21.3155,21.3155,21.3155, 21.3156,21.3156,21.3156,21.3156,21.3156 ,21.3156,21.3128,21.3095,21.306,21.3038 ,21.3011,21.2993,21.2966,21.2946, 21.2919,21.2901,21.2873,21.2849,21.2815 ,21.2796,21.2771,21.2747,21.2729, 21.2709,21.2676,21.2656,21.2628,21.2609 ,21.2583,21.2582,21.2582,21.2582, 21.2582,21.2582,21.2582,21.2582,21.2582 ,21.2582,21.2582,21.2582,21.2582, 21.2582,21.2582,21.2582,21.2582,21.2581 ,21.2581,21.2581,21.2581,21.2581, 21.2581,21.2581,21.2581,21.2581,21.2581 ,21.2581,21.2581,21.2581,21.2581)
FOOTPRINT_POINT_LONGITUDE = (344.645,344.645,344.645,344.645, 344.645,344.645,344.645,344.645,344.645 ,344.645,344.645,344.645,344.645, 344.645,344.645,344.645,344.645,344.645 ,344.645,344.645,344.645,344.645, 344.645,344.648,344.651,344.653,344.657 ,344.662,344.664,344.667,344.67,344.672 ,344.676,344.679,344.681,344.684, 344.685,344.688,344.69,344.693,344.695, 344.698,344.701,344.703,344.706,344.706 ,344.707,344.707,344.707,344.707, 344.707,344.707,344.707,344.707,344.707 ,344.707,344.707,344.707,344.707, 344.707,344.707,344.707,344.707,344.707 ,344.707,344.707,344.707,344.707, 344.707,344.707,344.707,344.707,344.704 ,344.702,344.7,344.698,344.696,344.695, 344.693,344.69,344.687,344.685,344.682, 344.68,344.678,344.675,344.673,344.671, 344.668,344.666,344.664,344.662,344.659 ,344.657,344.655,344.652,344.649, 344.646,344.645,344.645)
ORBIT_NUMBER = 5145
ORBITAL_ECCENTRICITY = 0.574
ORBITAL_INCLINATION = 86.73
ORBITAL_SEMIMAJOR_AXIS = 8724.29
PERIAPSIS_ALTITUDE = 319.81
PERIAPSIS_ARGUMENT_ANGLE = 173.18
PERIAPSIS_TIME = 2008-01-03T20:57:31.000Z
SPACECRAFT_ORIENTATION = (0.0,-1.0,0.0)
^MEX_ORIENTATION_DESC = "MEX_ORIENTATION_DESC.TXT"
SPACECRAFT_POINTING_MODE = NADIR
^MEX_POINTING_DESC = "MEX_POINTING_DESC.TXT"
RIGHT_ASCENSION = -1e+32
DECLINATION = -1e+32
OFFSET_ANGLE = -1e+32
SPACECRAFT_SOLAR_DISTANCE = 2.37457e+08
TARGET_NAME = MARS
/* CAMERA DATA ELEMENTS */
BUFFER_MODE_ID = BUFFER_8
EXPOSURE_DURATION = 5.04
INST_CMPRS_NAME = NONE
INST_CMPRS_RATIO = 1.0
INST_CMPRS_QUALITY = -2147483648
INST_CMPRS_QUANTZ_TBL_ID = -2147483648
INSTRUMENT_TEMPERATURE = 5.62351
MISSING_FRAMES = 0
START_BIT = 0
/* RADIOMETRIC DATA ELEMENTS */
BANDWIDTH = 250.0
CENTER_FILTER_WAVELENGTH = 600.0
RADIANCE_OFFSET = -9.99e+31
RADIANCE_SCALING_FACTOR = -9.99e+31
REFLECTANCE_SCALING_FACTOR = -9.99e+31
MEX:REFLECTANCE_OFFSET = -9.99e+31
/* IMAGE OBJECT DEFINITIONS */
OBJECT = IMAGE
  INTERCHANGE_FORMAT = BINARY
  LINES = 1414
  LINE_SAMPLES = 1424
  SAMPLE_TYPE = UNSIGNED_INTEGER
  SAMPLE_BITS = 8
  BANDS = 1
  BAND_STORAGE_TYPE = BAND_SEQUENTIAL
  MAXIMUM = 255
  MEAN = 131.275
  MINIMUM = 3
  STANDARD_DEVIATION = 24.3933
END_OBJECT = IMAGE
/* MAP OBJECT DEFINITIONS */
OBJECT = IMAGE_MAP_PROJECTION
  ^DATA_SET_MAP_PROJECTION_CATALOG= "DSMAP.CAT"
  A_AXIS_RADIUS = 3396.19
  B_AXIS_RADIUS = 3396.19
  C_AXIS_RADIUS = 3396.19
  CENTER_LATITUDE = 0.0
  CENTER_LONGITUDE = 345.0
  COORDINATE_SYSTEM_NAME = PLANETOGRAPHIC
  COORDINATE_SYSTEM_TYPE = "BODY-FIXED ROTATING"
  EASTERNMOST_LONGITUDE = 344.707
  FIRST_STANDARD_PARALLEL = "N/A"
  LINE_FIRST_PIXEL = 1
  LINE_LAST_PIXEL = 1414
  LINE_PROJECTION_OFFSET = 505274.0
  MAP_PROJECTION_ROTATION = 0.0
  MAP_PROJECTION_TYPE = SINUSOIDAL
  MAP_RESOLUTION = 23709.8786048756
  MAP_SCALE = 0.0025
  MAXIMUM_LATITUDE = 21.3156
  MINIMUM_LATITUDE = 21.2581
  POSITIVE_LONGITUDE_DIRECTION = EAST
  REFERENCE_LATITUDE = "N/A"
  REFERENCE_LONGITUDE = "N/A"
  SAMPLE_FIRST_PIXEL = 1
  SAMPLE_LAST_PIXEL = 1424
  SAMPLE_PROJECTION_OFFSET = 7870.0
  SECOND_STANDARD_PARALLEL = "N/A"
  WESTERNMOST_LONGITUDE = 344.645
END_OBJECT = IMAGE_MAP_PROJECTION
END
