PDS_VERSION_ID = PDS3
/* FILE DATA ELEMENTS */
RECORD_TYPE = UNDEFINED
/* POINTERS TO DATA OBJECTS */
^IMAGE = ("H5140_0000_S24.TIF")
/* IDENTIFICATION DATA ELEMENTS */
DATA_SET_ID = "MEX-M-HRSC-4-REFDR-MAPPROJECT-EXT2-V4.0"
DATA_SET_NAME = "MARS EXPRESS HRSC MAP PROJECTED REFDR EXTENSION2 V4.0"
DETECTOR_ID = MEX_HRSC_S2
EVENT_TYPE = "MARS-REGIONAL-MAPPING-Vo-Fl-Gl"
INSTRUMENT_HOST_ID = MEX
INSTRUMENT_HOST_NAME = "MARS EXPRESS"
INSTRUMENT_ID = HRSC
INSTRUMENT_NAME = "HIGH RESOLUTION STEREO CAMERA"
MISSION_NAME = "MARS EXPRESS"
MISSION_PHASE_NAME = ME_Phase_11
PROCESSING_LEVEL_ID = 4
PRODUCT_CREATION_TIME = 2023-02-01T12:09:47.000Z
PRODUCT_ID = "H5140_0000_S24.TIF"
RELEASE_ID = 0001
REVISION_ID = 0000
/* QUALITY DATA ELEMENTS */
DATA_QUALITY_ID = 1
DATA_QUALITY_DESC = "Data calculated based on original SPICE kernels"
/* TIME DATA ELEMENTS */
SPACECRAFT_CLOCK_START_COUNT = "1/0147350415.08427"
SPACECRAFT_CLOCK_STOP_COUNT = "1/0147350685.24065"
START_TIME = 2008-01-02T10:41:29.465Z
STOP_TIME = 2008-01-02T10:44:47.228Z
/* ORBITAL DATA ELEMENTS */
ASCENDING_NODE_LONGITUDE = 121.16
MAXIMUM_RESOLUTION = 0.0275
FOOTPRINT_POINT_LATITUDE = (22.5479,22.5441,22.5389,22.5312, 22.5311,22.5732,22.3025,22.0316,21.7604 ,21.4895,21.2186,20.9476,20.6765, 20.4048,19.9984,19.7276,19.4562,19.0495 ,18.778,18.3715,18.1004,17.6937,17.4225 ,17.0179,16.7555,16.4931,16.2309, 15.9685,15.575,15.1822,14.92,14.6583, 14.2657,14.0044,13.7508,13.4981,13.1186 ,12.8653,12.6134,12.3604,12.1087, 11.8558,11.6033,11.3507,11.0987,10.7209 ,10.3429,10.091,9.83964,9.58786,9.46198 ,9.43998,9.44275,9.45217,9.45231, 9.45276,9.83038,10.0823,10.4596,10.8377 ,11.0966,11.5948,11.9729,12.3521, 12.6052,12.858,13.1105,13.4898,13.7426, 13.9957,14.256,14.6492,14.9113,15.3046, 15.5665,15.8291,16.2225,16.4852,16.7475 ,17.0099,17.2781,17.5487,17.9563, 18.2275,18.4986,18.7695,19.0423,19.3124 ,19.5837,19.8549,20.1259,20.3977, 20.6689,21.0762,21.4829,21.754,22.1607, 22.4317,22.5671,22.5479)
FOOTPRINT_POINT_LONGITUDE = (125.821,125.512,125.083,124.457, 124.444,124.43,124.435,124.439,124.444, 124.449,124.453,124.457,124.461,124.466 ,124.471,124.475,124.479,124.484, 124.487,124.492,124.495,124.499,124.502 ,124.506,124.508,124.51,124.513,124.515 ,124.518,124.52,124.522,124.524,124.526 ,124.527,124.528,124.53,124.531,124.532 ,124.533,124.534,124.534,124.535, 124.536,124.536,124.537,124.537,124.537 ,124.537,124.537,124.537,124.537, 124.537,124.936,125.674,125.685,125.689 ,125.692,125.694,125.697,125.7,125.705, 125.707,125.71,125.714,125.716,125.719, 125.721,125.724,125.727,125.729,125.732 ,125.736,125.739,125.743,125.746, 125.749,125.754,125.757,125.76,125.763, 125.766,125.77,125.775,125.778,125.782, 125.785,125.789,125.792,125.796,125.8, 125.803,125.807,125.811,125.817,125.823 ,125.827,125.833,125.838,125.84, 125.821)
ORBIT_NUMBER = 5140
ORBITAL_ECCENTRICITY = 0.575
ORBITAL_INCLINATION = 86.72
ORBITAL_SEMIMAJOR_AXIS = 8730.53
PERIAPSIS_ALTITUDE = 318.86
PERIAPSIS_ARGUMENT_ANGLE = 174.09
PERIAPSIS_TIME = 2008-01-02T10:45:12.000Z
SPACECRAFT_ORIENTATION = (0.0,-1.0,0.0)
^MEX_ORIENTATION_DESC = "MEX_ORIENTATION_DESC.TXT"
SPACECRAFT_POINTING_MODE = ACROSSTRACK
^MEX_POINTING_DESC = "MEX_POINTING_DESC.TXT"
RIGHT_ASCENSION = -1e+32
DECLINATION = -1e+32
OFFSET_ANGLE = 0.2
SPACECRAFT_SOLAR_DISTANCE = 2.37218e+08
TARGET_NAME = MARS
/* CAMERA DATA ELEMENTS */
DETECTOR_TEMPERATURE = 18.3705
FOCAL_PLANE_TEMPERATURE = 7.7677
INST_CMPRS_NAME = "DISCRETE COSINE TRANSFORMATION (DCT)"
INST_CMPRS_RATIO = 10.0667
INST_CMPRS_QUALITY = 0
INST_CMPRS_QUANTZ_TBL_ID = 0
INSTRUMENT_TEMPERATURE = 11.0301
LENS_TEMPERATURE = 8.5833
MACROPIXEL_SIZE = 2
MISSING_FRAMES = 0
PIXEL_SUBSAMPLING_FLAG = N
SIGNAL_CHAIN_ID = 1
/* RADIOMETRIC DATA ELEMENTS */
BANDWIDTH = 178.0
CENTER_FILTER_WAVELENGTH = 679.0
RADIANCE_OFFSET = 2.71905
RADIANCE_SCALING_FACTOR = 0.0137095
REFLECTANCE_SCALING_FACTOR = 0.000408548
MEX:REFLECTANCE_OFFSET = 0.0810286
/* IMAGE OBJECT DEFINITIONS */
OBJECT = IMAGE
  INTERCHANGE_FORMAT = BINARY
  LINES = 31178
  LINE_SAMPLES = 3184
  SAMPLE_TYPE = UNSIGNED_INTEGER
  SAMPLE_BITS = 8
  BANDS = 1
  BAND_STORAGE_TYPE = BAND_SEQUENTIAL
  MAXIMUM = 255
  MEAN = 103.038
  MINIMUM = 1
  STANDARD_DEVIATION = 15.9957
END_OBJECT = IMAGE
/* MAP OBJECT DEFINITIONS */
OBJECT = IMAGE_MAP_PROJECTION
  ^DATA_SET_MAP_PROJECTION_CATALOG= "DSMAP.CAT"
  A_AXIS_RADIUS = 3396.0
  B_AXIS_RADIUS = 3396.0
  C_AXIS_RADIUS = 3396.0
  CENTER_LATITUDE = 0.0
  CENTER_LONGITUDE = 125.0
  COORDINATE_SYSTEM_NAME = PLANETOGRAPHIC
  COORDINATE_SYSTEM_TYPE = "BODY-FIXED ROTATING"
  EASTERNMOST_LONGITUDE = 125.84
  FIRST_STANDARD_PARALLEL = "N/A"
  LINE_FIRST_PIXEL = 1
  LINE_LAST_PIXEL = 31178
  LINE_PROJECTION_OFFSET = 53518.25
  MAP_PROJECTION_ROTATION = 0.0
  MAP_PROJECTION_TYPE = SINUSOIDAL
  MAP_RESOLUTION = 2370.85521546667
  MAP_SCALE = 0.025
  MAXIMUM_LATITUDE = 22.5732
  MINIMUM_LATITUDE = 9.43998
  POSITIVE_LONGITUDE_DIRECTION = EAST
  REFERENCE_LATITUDE = "N/A"
  REFERENCE_LONGITUDE = "N/A"
  SAMPLE_FIRST_PIXEL = 1
  SAMPLE_LAST_PIXEL = 3184
  SAMPLE_PROJECTION_OFFSET = 1303.75
  SECOND_STANDARD_PARALLEL = "N/A"
  WESTERNMOST_LONGITUDE = 124.43
END_OBJECT = IMAGE_MAP_PROJECTION
END
