PDS_VERSION_ID = PDS3
/* FILE DATA ELEMENTS */
RECORD_TYPE = UNDEFINED
/* POINTERS TO DATA OBJECTS */
^IMAGE = ("H5139_0000_S24.TIF")
/* IDENTIFICATION DATA ELEMENTS */
DATA_SET_ID = "MEX-M-HRSC-4-REFDR-MAPPROJECT-EXT2-V4.0"
DATA_SET_NAME = "MARS EXPRESS HRSC MAP PROJECTED REFDR EXTENSION2 V4.0"
DETECTOR_ID = MEX_HRSC_S2
EVENT_TYPE = "MARS-REGIONAL-MAPPING-Vo-Eo-La"
INSTRUMENT_HOST_ID = MEX
INSTRUMENT_HOST_NAME = "MARS EXPRESS"
INSTRUMENT_ID = HRSC
INSTRUMENT_NAME = "HIGH RESOLUTION STEREO CAMERA"
MISSION_NAME = "MARS EXPRESS"
MISSION_PHASE_NAME = ME_Phase_11
PROCESSING_LEVEL_ID = 4
PRODUCT_CREATION_TIME = 2023-02-01T12:09:47.000Z
PRODUCT_ID = "H5139_0000_S24.TIF"
RELEASE_ID = 0001
REVISION_ID = 0000
/* QUALITY DATA ELEMENTS */
DATA_QUALITY_ID = 1
DATA_QUALITY_DESC = "Data calculated based on original SPICE kernels"
/* TIME DATA ELEMENTS */
SPACECRAFT_CLOCK_START_COUNT = "1/0147325934.09085"
SPACECRAFT_CLOCK_STOP_COUNT = "1/0147326159.09396"
START_TIME = 2008-01-02T03:53:17.375Z
STOP_TIME = 2008-01-02T03:56:01.005Z
/* ORBITAL DATA ELEMENTS */
ASCENDING_NODE_LONGITUDE = 121.19
MAXIMUM_RESOLUTION = 0.0271
FOOTPRINT_POINT_LATITUDE = (12.9824,12.9866,12.9911,12.9971, 12.9972,13.0031,12.7884,12.5725,12.3564 ,12.14,11.8156,11.5994,11.3834,11.1673, 10.8435,10.6276,10.4116,10.0878,9.76456 ,9.54895,9.33351,9.11836,8.90291, 8.68792,8.47208,8.14941,7.82629,7.61074 ,7.39656,7.18159,6.96493,6.75148, 6.53745,6.32146,6.10714,5.8929,5.67917, 5.4662,5.25306,5.03976,4.72046,4.50807, 4.296,4.08444,3.8727,3.66074,3.44898, 3.23747,2.8164,2.39458,2.28951,2.27114, 2.26439,2.25749,2.24992,2.24978,2.25013 ,2.46139,2.88285,3.30531,3.6213,4.04442 ,4.36225,4.68119,4.89429,5.10769,5.4279 ,5.64209,5.85655,6.07091,6.28631, 6.50094,6.82261,7.14641,7.46741,7.68226 ,7.89803,8.11271,8.32776,8.54266, 8.75912,9.08207,9.29741,9.51303,9.72858 ,9.94426,10.1598,10.3755,10.5914, 10.8072,11.0233,11.2393,11.5633,11.7795 ,12.1041,12.4286,12.645,12.861,12.9682, 12.9824)
FOOTPRINT_POINT_LONGITUDE = (225.426,225.065,224.702,224.27,224.258 ,224.252,224.252,224.253,224.254, 224.255,224.256,224.257,224.257,224.258 ,224.259,224.259,224.26,224.26,224.26, 224.261,224.261,224.261,224.261,224.261 ,224.261,224.261,224.261,224.261,224.26 ,224.26,224.26,224.259,224.259,224.259, 224.258,224.258,224.257,224.256,224.255 ,224.254,224.253,224.251,224.25,224.248 ,224.247,224.245,224.244,224.242, 224.239,224.235,224.234,224.234,224.545 ,224.887,225.359,225.369,225.373, 225.374,225.374,225.375,225.375,225.376 ,225.376,225.377,225.378,225.379,225.38 ,225.381,225.382,225.383,225.384, 225.385,225.387,225.389,225.391,225.392 ,225.393,225.394,225.395,225.397, 225.398,225.4,225.401,225.403,225.404, 225.405,225.407,225.408,225.41,225.411, 225.413,225.414,225.416,225.418,225.42, 225.423,225.425,225.426,225.427, 225.426)
ORBIT_NUMBER = 5139
ORBITAL_ECCENTRICITY = 0.575
ORBITAL_INCLINATION = 86.72
ORBITAL_SEMIMAJOR_AXIS = 8735.63
PERIAPSIS_ALTITUDE = 318.68
PERIAPSIS_ARGUMENT_ANGLE = 174.25
PERIAPSIS_TIME = 2008-01-02T03:54:39.000Z
SPACECRAFT_ORIENTATION = (0.0,-1.0,0.0)
^MEX_ORIENTATION_DESC = "MEX_ORIENTATION_DESC.TXT"
SPACECRAFT_POINTING_MODE = ACROSSTRACK
^MEX_POINTING_DESC = "MEX_POINTING_DESC.TXT"
RIGHT_ASCENSION = -1e+32
DECLINATION = -1e+32
OFFSET_ANGLE = -0.15
SPACECRAFT_SOLAR_DISTANCE = 2.3717e+08
TARGET_NAME = MARS
/* CAMERA DATA ELEMENTS */
DETECTOR_TEMPERATURE = 18.5744
FOCAL_PLANE_TEMPERATURE = 8.1755
INST_CMPRS_NAME = "DISCRETE COSINE TRANSFORMATION (DCT)"
INST_CMPRS_RATIO = 7.10614
INST_CMPRS_QUALITY = 0
INST_CMPRS_QUANTZ_TBL_ID = 0
INSTRUMENT_TEMPERATURE = 11.0301
LENS_TEMPERATURE = 8.5833
MACROPIXEL_SIZE = 2
MISSING_FRAMES = 0
PIXEL_SUBSAMPLING_FLAG = N
SIGNAL_CHAIN_ID = 1
/* RADIOMETRIC DATA ELEMENTS */
BANDWIDTH = 178.0
CENTER_FILTER_WAVELENGTH = 679.0
RADIANCE_OFFSET = 3.06225
RADIANCE_SCALING_FACTOR = 0.0152654
REFLECTANCE_SCALING_FACTOR = 0.000454732
MEX:REFLECTANCE_OFFSET = 0.0912193
/* IMAGE OBJECT DEFINITIONS */
OBJECT = IMAGE
  INTERCHANGE_FORMAT = BINARY
  LINES = 25482
  LINE_SAMPLES = 2795
  SAMPLE_TYPE = UNSIGNED_INTEGER
  SAMPLE_BITS = 8
  BANDS = 1
  BAND_STORAGE_TYPE = BAND_SEQUENTIAL
  MAXIMUM = 255
  MEAN = 116.725
  MINIMUM = 1
  STANDARD_DEVIATION = 16.527
END_OBJECT = IMAGE
/* MAP OBJECT DEFINITIONS */
OBJECT = IMAGE_MAP_PROJECTION
  ^DATA_SET_MAP_PROJECTION_CATALOG= "DSMAP.CAT"
  A_AXIS_RADIUS = 3396.0
  B_AXIS_RADIUS = 3396.0
  C_AXIS_RADIUS = 3396.0
  CENTER_LATITUDE = 0.0
  CENTER_LONGITUDE = 225.0
  COORDINATE_SYSTEM_NAME = PLANETOGRAPHIC
  COORDINATE_SYSTEM_TYPE = "BODY-FIXED ROTATING"
  EASTERNMOST_LONGITUDE = 225.427
  FIRST_STANDARD_PARALLEL = "N/A"
  LINE_FIRST_PIXEL = 1
  LINE_LAST_PIXEL = 25482
  LINE_PROJECTION_OFFSET = 30833.25
  MAP_PROJECTION_ROTATION = 0.0
  MAP_PROJECTION_TYPE = SINUSOIDAL
  MAP_RESOLUTION = 2370.85521546667
  MAP_SCALE = 0.025
  MAXIMUM_LATITUDE = 13.0031
  MINIMUM_LATITUDE = 2.24978
  POSITIVE_LONGITUDE_DIRECTION = EAST
  REFERENCE_LATITUDE = "N/A"
  REFERENCE_LONGITUDE = "N/A"
  SAMPLE_FIRST_PIXEL = 1
  SAMPLE_LAST_PIXEL = 2795
  SAMPLE_PROJECTION_OFFSET = 1786.75
  SECOND_STANDARD_PARALLEL = "N/A"
  WESTERNMOST_LONGITUDE = 224.234
END_OBJECT = IMAGE_MAP_PROJECTION
END
