PDS_VERSION_ID = PDS3
/* FILE DATA ELEMENTS */
RECORD_TYPE = UNDEFINED
/* POINTERS TO DATA OBJECTS */
^IMAGE = ("H5134_0000_P24.TIF")
/* IDENTIFICATION DATA ELEMENTS */
DATA_SET_ID = "MEX-M-HRSC-4-REFDR-MAPPROJECT-EXT2-V4.0"
DATA_SET_NAME = "MARS EXPRESS HRSC MAP PROJECTED REFDR EXTENSION2 V4.0"
DETECTOR_ID = MEX_HRSC_P2
EVENT_TYPE = "MARS-REGIONAL-MAPPING-Im-La"
INSTRUMENT_HOST_ID = MEX
INSTRUMENT_HOST_NAME = "MARS EXPRESS"
INSTRUMENT_ID = HRSC
INSTRUMENT_NAME = "HIGH RESOLUTION STEREO CAMERA"
MISSION_NAME = "MARS EXPRESS"
MISSION_PHASE_NAME = ME_Phase_11
PROCESSING_LEVEL_ID = 4
PRODUCT_CREATION_TIME = 2023-02-01T12:09:47.000Z
PRODUCT_ID = "H5134_0000_P24.TIF"
RELEASE_ID = 0001
REVISION_ID = 0000
/* QUALITY DATA ELEMENTS */
DATA_QUALITY_ID = 1
DATA_QUALITY_DESC = "Data calculated based on original SPICE kernels"
/* TIME DATA ELEMENTS */
SPACECRAFT_CLOCK_START_COUNT = "1/0147202676.08235"
SPACECRAFT_CLOCK_STOP_COUNT = "1/0147202916.08660"
START_TIME = 2007-12-31T17:38:56.838Z
STOP_TIME = 2007-12-31T17:41:48.285Z
/* ORBITAL DATA ELEMENTS */
ASCENDING_NODE_LONGITUDE = 121.29
MAXIMUM_RESOLUTION = 0.053
FOOTPRINT_POINT_LATITUDE = (19.8605,19.8676,19.8745,19.8833, 19.8835,19.9018,19.6708,19.4394,19.0922 ,18.8605,18.6295,18.3978,18.166,17.9336 ,17.7017,17.3551,17.1217,16.8909, 16.5487,16.1973,15.9617,15.7297,15.5019 ,15.2712,15.0408,14.8144,14.5901, 14.2532,14.0283,13.8039,13.5794,13.2423 ,13.0174,12.7923,12.5678,12.3464, 12.1226,11.8969,11.6797,11.4629,11.1376 ,10.9205,10.7032,10.3772,10.1603, 9.94284,9.61949,9.40011,8.75053,8.64241 ,8.60173,8.58628,8.57768,8.5712,8.57093 ,8.57166,9.00564,9.22276,9.4419,9.87315 ,10.2004,10.6333,10.9593,11.2846, 11.5022,11.7193,11.9371,12.1612,12.4982 ,12.723,12.9475,13.1725,13.3975,13.735, 13.9596,14.1843,14.4091,14.6333,14.8574 ,15.2021,15.435,15.6674,15.8994,16.1289 ,16.3559,16.5872,16.823,17.059,17.2916, 17.6392,17.8669,18.0964,18.3283,18.6777 ,18.91,19.2552,19.487,19.7186,19.8345, 19.8605)
FOOTPRINT_POINT_LONGITUDE = (5.33657,4.94296,4.54463,4.01387, 4.00111,3.98104,3.98552,3.99022,3.99699 ,4.00145,4.00524,4.00941,4.01356, 4.01809,4.02208,4.02662,4.03156,4.03401 ,4.03399,4.04177,4.04805,4.05092, 4.05009,4.05158,4.05678,4.06083,4.06299 ,4.06633,4.06875,4.07063,4.07251, 4.07556,4.07758,4.07976,4.08128,4.07998 ,4.08083,4.08589,4.08734,4.08832, 4.08983,4.0909,4.0922,4.09404,4.09487, 4.0961,4.09543,4.09828,4.09917,4.09917, 4.0992,4.66251,4.97163,5.23499,5.24548, 5.24898,5.2514,5.25264,5.25397,5.25646, 5.25851,5.2612,5.26332,5.26546,5.26694, 5.26842,5.26994,5.27152,5.27393,5.27556 ,5.27721,5.27889,5.2806,5.2832,5.28494, 5.28671,5.2885,5.29028,5.29207,5.29519, 5.29718,5.29916,5.30114,5.303,5.30472, 5.30672,5.30901,5.31134,5.31349,5.31667 ,5.31856,5.32057,5.32276,5.32621,5.3285 ,5.33172,5.33403,5.33634,5.33752, 5.33657)
ORBIT_NUMBER = 5134
ORBITAL_ECCENTRICITY = 0.574
ORBITAL_INCLINATION = 86.71
ORBITAL_SEMIMAJOR_AXIS = 8728.48
PERIAPSIS_ALTITUDE = 318.79
PERIAPSIS_ARGUMENT_ANGLE = 175.12
PERIAPSIS_TIME = 2007-12-31T17:42:26.000Z
SPACECRAFT_ORIENTATION = (0.0,-1.0,0.0)
^MEX_ORIENTATION_DESC = "MEX_ORIENTATION_DESC.TXT"
SPACECRAFT_POINTING_MODE = ACROSSTRACK
^MEX_POINTING_DESC = "MEX_POINTING_DESC.TXT"
RIGHT_ASCENSION = -1e+32
DECLINATION = -1e+32
OFFSET_ANGLE = -0.52
SPACECRAFT_SOLAR_DISTANCE = 2.36929e+08
TARGET_NAME = MARS
/* CAMERA DATA ELEMENTS */
DETECTOR_TEMPERATURE = 18.7783
FOCAL_PLANE_TEMPERATURE = 7.7677
INST_CMPRS_NAME = "DISCRETE COSINE TRANSFORMATION (DCT)"
INST_CMPRS_RATIO = 6.71002
INST_CMPRS_QUALITY = 0
INST_CMPRS_QUANTZ_TBL_ID = 0
INSTRUMENT_TEMPERATURE = 11.0301
LENS_TEMPERATURE = 8.3794
MACROPIXEL_SIZE = 4
MISSING_FRAMES = 0
PIXEL_SUBSAMPLING_FLAG = N
SIGNAL_CHAIN_ID = 3
/* RADIOMETRIC DATA ELEMENTS */
BANDWIDTH = 177.0
CENTER_FILTER_WAVELENGTH = 676.5
RADIANCE_OFFSET = 2.66917
RADIANCE_SCALING_FACTOR = 0.0152556
REFLECTANCE_SCALING_FACTOR = 0.000454067
MEX:REFLECTANCE_OFFSET = 0.0794451
/* IMAGE OBJECT DEFINITIONS */
OBJECT = IMAGE
  INTERCHANGE_FORMAT = BINARY
  LINES = 13386
  LINE_SAMPLES = 1548
  SAMPLE_TYPE = UNSIGNED_INTEGER
  SAMPLE_BITS = 8
  BANDS = 1
  BAND_STORAGE_TYPE = BAND_SEQUENTIAL
  MAXIMUM = 255
  MEAN = 111.754
  MINIMUM = 1
  STANDARD_DEVIATION = 24.1561
END_OBJECT = IMAGE
/* MAP OBJECT DEFINITIONS */
OBJECT = IMAGE_MAP_PROJECTION
  ^DATA_SET_MAP_PROJECTION_CATALOG= "DSMAP.CAT"
  A_AXIS_RADIUS = 3396.0
  B_AXIS_RADIUS = 3396.0
  C_AXIS_RADIUS = 3396.0
  CENTER_LATITUDE = 0.0
  CENTER_LONGITUDE = 5.0
  COORDINATE_SYSTEM_NAME = PLANETOGRAPHIC
  COORDINATE_SYSTEM_TYPE = "BODY-FIXED ROTATING"
  EASTERNMOST_LONGITUDE = 5.33752
  FIRST_STANDARD_PARALLEL = "N/A"
  LINE_FIRST_PIXEL = 1
  LINE_LAST_PIXEL = 13386
  LINE_PROJECTION_OFFSET = 23574.375
  MAP_PROJECTION_ROTATION = 0.0
  MAP_PROJECTION_TYPE = SINUSOIDAL
  MAP_RESOLUTION = 1185.42760773333
  MAP_SCALE = 0.05
  MAXIMUM_LATITUDE = 19.9018
  MINIMUM_LATITUDE = 8.570930000000001
  POSITIVE_LONGITUDE_DIRECTION = EAST
  REFERENCE_LATITUDE = "N/A"
  REFERENCE_LONGITUDE = "N/A"
  SAMPLE_FIRST_PIXEL = 1
  SAMPLE_LAST_PIXEL = 1548
  SAMPLE_PROJECTION_OFFSET = 1152.125
  SECOND_STANDARD_PARALLEL = "N/A"
  WESTERNMOST_LONGITUDE = 3.98104
END_OBJECT = IMAGE_MAP_PROJECTION
END
