PDS_VERSION_ID = PDS3
/* FILE DATA ELEMENTS */
RECORD_TYPE = UNDEFINED
/* POINTERS TO DATA OBJECTS */
^IMAGE = ("H5134_0000_GR4.TIF")
/* IDENTIFICATION DATA ELEMENTS */
DATA_SET_ID = "MEX-M-HRSC-4-REFDR-MAPPROJECT-EXT2-V4.0"
DATA_SET_NAME = "MARS EXPRESS HRSC MAP PROJECTED REFDR EXTENSION2 V4.0"
DETECTOR_ID = MEX_HRSC_GREEN
EVENT_TYPE = "MARS-REGIONAL-MAPPING-Im-La"
INSTRUMENT_HOST_ID = MEX
INSTRUMENT_HOST_NAME = "MARS EXPRESS"
INSTRUMENT_ID = HRSC
INSTRUMENT_NAME = "HIGH RESOLUTION STEREO CAMERA"
MISSION_NAME = "MARS EXPRESS"
MISSION_PHASE_NAME = ME_Phase_11
PROCESSING_LEVEL_ID = 4
PRODUCT_CREATION_TIME = 2023-02-01T12:09:47.000Z
PRODUCT_ID = "H5134_0000_GR4.TIF"
RELEASE_ID = 0001
REVISION_ID = 0000
/* QUALITY DATA ELEMENTS */
DATA_QUALITY_ID = 1
DATA_QUALITY_DESC = "Data calculated based on original SPICE kernels"
/* TIME DATA ELEMENTS */
SPACECRAFT_CLOCK_START_COUNT = "1/0147202676.08235"
SPACECRAFT_CLOCK_STOP_COUNT = "1/0147202916.08660"
START_TIME = 2007-12-31T17:38:29.569Z
STOP_TIME = 2007-12-31T17:41:24.409Z
/* ORBITAL DATA ELEMENTS */
ASCENDING_NODE_LONGITUDE = 121.29
MAXIMUM_RESOLUTION = 0.1037
FOOTPRINT_POINT_LATITUDE = (19.8857,19.8836,19.8804,19.8748, 19.8746,19.8678,19.6033,19.3466,19.1247 ,18.9025,18.68,18.4574,18.2347,18.012, 17.6769,17.4533,17.2305,17.0071,16.7831 ,16.5575,16.3331,16.1102,15.8861, 15.6611,15.4354,15.2102,14.9861,14.761, 14.5356,14.1972,13.9715,13.7456,13.5196 ,13.3008,13.0819,12.863,12.6438,12.4238 ,12.0943,11.6563,11.4365,11.2166, 10.8867,10.6667,10.338,9.69881,9.2728, 8.73941,8.63265,8.58735,8.58858,8.58967 ,8.5903,8.59051,8.59052,8.59215,9.01911 ,9.44523,9.97857,10.4058,10.6259, 10.8461,11.0661,11.2863,11.5062,11.726, 11.9456,12.1652,12.3848,12.6042,12.8235 ,13.0428,13.2618,13.4808,13.7053, 13.9314,14.1574,14.3831,14.7217,15.0596 ,15.3962,15.6211,15.846,16.1839,16.4097 ,16.6337,16.8566,17.0802,17.3041, 17.5277,17.7516,18.0877,18.3108,18.5336 ,18.756,18.9788,19.3124,19.6931,19.8253 ,19.8857)
FOOTPRINT_POINT_LONGITUDE = (5.35536,4.9522,4.54426,4.01411,4.00107 ,3.97829,3.98389,3.98933,3.99407, 3.99869,4.00277,4.00686,4.01106,4.01579 ,4.02041,4.02358,4.02979,4.03437, 4.03749,4.03554,4.03823,4.04666,4.05097 ,4.05303,4.05288,4.05488,4.06139, 4.06453,4.06705,4.07065,4.07351,4.07565 ,4.07766,4.07989,4.08217,4.08448, 4.08629,4.08571,4.08667,4.09407,4.09532 ,4.09667,4.09859,4.10019,4.10224, 4.10439,4.10736,4.1089,4.10903,4.10909, 4.40229,4.72576,4.95,5.23499,5.2455, 5.25252,5.25537,5.2584,5.26216,5.26524, 5.26691,5.2686,5.27031,5.27201,5.27378, 5.27555,5.27736,5.27918,5.28102,5.28287 ,5.28475,5.28664,5.28857,5.29053, 5.29257,5.29461,5.29668,5.29878,5.30193 ,5.30522,5.30882,5.31106,5.31331, 5.31647,5.31842,5.32081,5.32352,5.326, 5.32838,5.3308,5.33309,5.33641,5.33886, 5.34139,5.34402,5.34646,5.35025,5.3547, 5.35631,5.35536)
ORBIT_NUMBER = 5134
ORBITAL_ECCENTRICITY = 0.574
ORBITAL_INCLINATION = 86.71
ORBITAL_SEMIMAJOR_AXIS = 8728.48
PERIAPSIS_ALTITUDE = 318.79
PERIAPSIS_ARGUMENT_ANGLE = 175.12
PERIAPSIS_TIME = 2007-12-31T17:42:26.000Z
SPACECRAFT_ORIENTATION = (0.0,-1.0,0.0)
^MEX_ORIENTATION_DESC = "MEX_ORIENTATION_DESC.TXT"
SPACECRAFT_POINTING_MODE = ACROSSTRACK
^MEX_POINTING_DESC = "MEX_POINTING_DESC.TXT"
RIGHT_ASCENSION = -1e+32
DECLINATION = -1e+32
OFFSET_ANGLE = -0.52
SPACECRAFT_SOLAR_DISTANCE = 2.36929e+08
TARGET_NAME = MARS
/* CAMERA DATA ELEMENTS */
DETECTOR_TEMPERATURE = 50.9945
FOCAL_PLANE_TEMPERATURE = 7.7677
INST_CMPRS_NAME = "DISCRETE COSINE TRANSFORMATION (DCT)"
INST_CMPRS_RATIO = 9.52361
INST_CMPRS_QUALITY = 0
INST_CMPRS_QUANTZ_TBL_ID = 0
INSTRUMENT_TEMPERATURE = 11.0301
LENS_TEMPERATURE = 8.3794
MACROPIXEL_SIZE = 8
MISSING_FRAMES = 0
PIXEL_SUBSAMPLING_FLAG = N
SIGNAL_CHAIN_ID = 2
/* RADIOMETRIC DATA ELEMENTS */
BANDWIDTH = 88.0
CENTER_FILTER_WAVELENGTH = 538.0
RADIANCE_OFFSET = 0.967674
RADIANCE_SCALING_FACTOR = 0.00412124
REFLECTANCE_SCALING_FACTOR = 0.000199182
MEX:REFLECTANCE_OFFSET = 0.0467682
/* IMAGE OBJECT DEFINITIONS */
OBJECT = IMAGE
  INTERCHANGE_FORMAT = BINARY
  LINES = 6693
  LINE_SAMPLES = 774
  SAMPLE_TYPE = UNSIGNED_INTEGER
  SAMPLE_BITS = 8
  BANDS = 1
  BAND_STORAGE_TYPE = BAND_SEQUENTIAL
  MAXIMUM = 255
  MEAN = 114.77
  MINIMUM = 1
  STANDARD_DEVIATION = 22.8281
END_OBJECT = IMAGE
/* MAP OBJECT DEFINITIONS */
OBJECT = IMAGE_MAP_PROJECTION
  ^DATA_SET_MAP_PROJECTION_CATALOG= "DSMAP.CAT"
  A_AXIS_RADIUS = 3396.0
  B_AXIS_RADIUS = 3396.0
  C_AXIS_RADIUS = 3396.0
  CENTER_LATITUDE = 0.0
  CENTER_LONGITUDE = 5.0
  COORDINATE_SYSTEM_NAME = PLANETOGRAPHIC
  COORDINATE_SYSTEM_TYPE = "BODY-FIXED ROTATING"
  EASTERNMOST_LONGITUDE = 5.35631
  FIRST_STANDARD_PARALLEL = "N/A"
  LINE_FIRST_PIXEL = 1
  LINE_LAST_PIXEL = 6693
  LINE_PROJECTION_OFFSET = 11786.9375
  MAP_PROJECTION_ROTATION = 0.0
  MAP_PROJECTION_TYPE = SINUSOIDAL
  MAP_RESOLUTION = 592.713803866667
  MAP_SCALE = 0.1
  MAXIMUM_LATITUDE = 19.8857
  MINIMUM_LATITUDE = 8.587350000000001
  POSITIVE_LONGITUDE_DIRECTION = EAST
  REFERENCE_LATITUDE = "N/A"
  REFERENCE_LONGITUDE = "N/A"
  SAMPLE_FIRST_PIXEL = 1
  SAMPLE_LAST_PIXEL = 774
  SAMPLE_PROJECTION_OFFSET = 575.8125
  SECOND_STANDARD_PARALLEL = "N/A"
  WESTERNMOST_LONGITUDE = 3.97829
END_OBJECT = IMAGE_MAP_PROJECTION
END
