PDS_VERSION_ID = PDS3
/* FILE DATA ELEMENTS */
RECORD_TYPE = UNDEFINED
/* POINTERS TO DATA OBJECTS */
^IMAGE = ("H5130_0000_S24.TIF")
/* IDENTIFICATION DATA ELEMENTS */
DATA_SET_ID = "MEX-M-HRSC-4-REFDR-MAPPROJECT-EXT2-V4.0"
DATA_SET_NAME = "MARS EXPRESS HRSC MAP PROJECTED REFDR EXTENSION2 V4.0"
DETECTOR_ID = MEX_HRSC_S2
EVENT_TYPE = "MARS-REGIONAL-MAPPING-Im-Fl-Lc"
INSTRUMENT_HOST_ID = MEX
INSTRUMENT_HOST_NAME = "MARS EXPRESS"
INSTRUMENT_ID = HRSC
INSTRUMENT_NAME = "HIGH RESOLUTION STEREO CAMERA"
MISSION_NAME = "MARS EXPRESS"
MISSION_PHASE_NAME = ME_Phase_11
PROCESSING_LEVEL_ID = 4
PRODUCT_CREATION_TIME = 2023-02-01T12:09:47.000Z
PRODUCT_ID = "H5130_0000_S24.TIF"
RELEASE_ID = 0001
REVISION_ID = 0000
/* QUALITY DATA ELEMENTS */
DATA_QUALITY_ID = 1
DATA_QUALITY_DESC = "Data calculated based on original SPICE kernels"
/* TIME DATA ELEMENTS */
SPACECRAFT_CLOCK_START_COUNT = "1/0147104389.07283"
SPACECRAFT_CLOCK_STOP_COUNT = "1/0147104651.64045"
START_TIME = 2007-12-30T14:20:49.478Z
STOP_TIME = 2007-12-30T14:24:13.845Z
/* ORBITAL DATA ELEMENTS */
ASCENDING_NODE_LONGITUDE = 121.36
MAXIMUM_RESOLUTION = 0.027
FOOTPRINT_POINT_LATITUDE = (4.93181,4.92645,4.92351,4.92346,4.9124 ,4.65106,4.38979,4.13353,3.87053, 3.61445,3.22668,2.96819,2.70662,2.3224, 2.06503,1.67514,1.16165,0.784109, 0.528381,0.144287,-0.111762,-0.50032, -0.759436,-1.01287,-1.2673,-1.52864, -1.79202,-2.05571,-2.31824,-2.57641, -2.83697,-3.22895,-3.62296,-3.88261, -4.14417,-4.41302,-4.68102,-4.94761, -5.21471,-5.61384,-5.88126,-6.14775, -6.41314,-6.6792,-6.94384,-7.20947, -7.60594,-7.99966,-8.1311,-8.13846, -8.13752,-8.13515,-8.13072,-8.13056, -8.13009,-7.73692,-7.47396,-7.20954, -6.94643,-6.68094,-6.4158,-6.15037, -5.8836,-5.61575,-5.21496,-4.94742, -4.6813,-4.41353,-4.14671,-3.88294, -3.62354,-3.23403,-2.97214,-2.7114, -2.45002,-2.05591,-1.79261,-1.53058, -1.26775,-1.01321,-0.759692,-0.504369, -0.122025,0.260696,0.515992,0.773427, 1.03121,1.41811,1.80242,2.19051,2.58047 ,2.96753,3.35596,3.61523,3.87478, 4.13398,4.52326,4.7829,4.913,4.93181)
FOOTPRINT_POINT_LONGITUDE = (46.1407,45.5405,45.0315,45.0206, 45.0193,45.0184,45.0175,45.0155,45.0148 ,45.0127,45.0103,45.0086,45.0075, 45.0043,45.0023,45.0001,44.9958,44.9911 ,44.9887,44.9852,44.9829,44.9803, 44.9785,44.9757,44.973,44.9699,44.9671, 44.9645,44.9615,44.9577,44.9544,44.9497 ,44.9454,44.9419,44.9385,44.935,44.9314 ,44.9275,44.9237,44.9178,44.9141, 44.9103,44.9063,44.9024,44.8982,44.8943 ,44.8881,44.8813,44.8791,44.879,45.3704 ,45.7405,46.1371,46.1495,46.154,46.1503 ,46.148,46.1463,46.1439,46.1425,46.1408 ,46.1391,46.1379,46.137,46.1353,46.1341 ,46.1323,46.1312,46.1295,46.1293, 46.1281,46.1263,46.1259,46.125,46.1243, 46.1239,46.1238,46.1232,46.1229,46.1226 ,46.122,46.122,46.1217,46.1214,46.1212, 46.1219,46.1226,46.1237,46.1238,46.1252 ,46.1274,46.1283,46.1297,46.1307, 46.1318,46.1328,46.1344,46.1354,46.1361 ,46.1407)
ORBIT_NUMBER = 5130
ORBITAL_ECCENTRICITY = 0.575
ORBITAL_INCLINATION = 86.72
ORBITAL_SEMIMAJOR_AXIS = 8733.42
PERIAPSIS_ALTITUDE = 317.74
PERIAPSIS_ARGUMENT_ANGLE = 175.86
PERIAPSIS_TIME = 2007-12-30T14:20:33.000Z
SPACECRAFT_ORIENTATION = (0.0,-1.0,0.0)
^MEX_ORIENTATION_DESC = "MEX_ORIENTATION_DESC.TXT"
SPACECRAFT_POINTING_MODE = ACROSSTRACK
^MEX_POINTING_DESC = "MEX_POINTING_DESC.TXT"
RIGHT_ASCENSION = -1e+32
DECLINATION = -1e+32
OFFSET_ANGLE = 0.17
SPACECRAFT_SOLAR_DISTANCE = 2.36735e+08
TARGET_NAME = MARS
/* CAMERA DATA ELEMENTS */
DETECTOR_TEMPERATURE = 18.5744
FOCAL_PLANE_TEMPERATURE = 8.1755
INST_CMPRS_NAME = "DISCRETE COSINE TRANSFORMATION (DCT)"
INST_CMPRS_RATIO = 9.49543
INST_CMPRS_QUALITY = 0
INST_CMPRS_QUANTZ_TBL_ID = 0
INSTRUMENT_TEMPERATURE = 11.234
LENS_TEMPERATURE = 8.5833
MACROPIXEL_SIZE = 2
MISSING_FRAMES = 0
PIXEL_SUBSAMPLING_FLAG = N
SIGNAL_CHAIN_ID = 1
/* RADIOMETRIC DATA ELEMENTS */
BANDWIDTH = 178.0
CENTER_FILTER_WAVELENGTH = 679.0
RADIANCE_OFFSET = 2.28861
RADIANCE_SCALING_FACTOR = 0.0164764
REFLECTANCE_SCALING_FACTOR = 0.000489009
MEX:REFLECTANCE_OFFSET = 0.0679246
/* IMAGE OBJECT DEFINITIONS */
OBJECT = IMAGE
  INTERCHANGE_FORMAT = BINARY
  LINES = 30967
  LINE_SAMPLES = 2885
  SAMPLE_TYPE = UNSIGNED_INTEGER
  SAMPLE_BITS = 8
  BANDS = 1
  BAND_STORAGE_TYPE = BAND_SEQUENTIAL
  MAXIMUM = 255
  MEAN = 121.781
  MINIMUM = 1
  STANDARD_DEVIATION = 23.687
END_OBJECT = IMAGE
/* MAP OBJECT DEFINITIONS */
OBJECT = IMAGE_MAP_PROJECTION
  ^DATA_SET_MAP_PROJECTION_CATALOG= "DSMAP.CAT"
  A_AXIS_RADIUS = 3396.0
  B_AXIS_RADIUS = 3396.0
  C_AXIS_RADIUS = 3396.0
  CENTER_LATITUDE = 0.0
  CENTER_LONGITUDE = 46.0
  COORDINATE_SYSTEM_NAME = PLANETOGRAPHIC
  COORDINATE_SYSTEM_TYPE = "BODY-FIXED ROTATING"
  EASTERNMOST_LONGITUDE = 46.154
  FIRST_STANDARD_PARALLEL = "N/A"
  LINE_FIRST_PIXEL = 1
  LINE_LAST_PIXEL = 30967
  LINE_PROJECTION_OFFSET = 11695.75
  MAP_PROJECTION_ROTATION = 0.0
  MAP_PROJECTION_TYPE = SINUSOIDAL
  MAP_RESOLUTION = 2370.85521546667
  MAP_SCALE = 0.025
  MAXIMUM_LATITUDE = 4.93181
  MINIMUM_LATITUDE = -8.13846
  POSITIVE_LONGITUDE_DIRECTION = EAST
  REFERENCE_LATITUDE = "N/A"
  REFERENCE_LONGITUDE = "N/A"
  SAMPLE_FIRST_PIXEL = 1
  SAMPLE_LAST_PIXEL = 2885
  SAMPLE_PROJECTION_OFFSET = 2572.25
  SECOND_STANDARD_PARALLEL = "N/A"
  WESTERNMOST_LONGITUDE = 44.879
END_OBJECT = IMAGE_MAP_PROJECTION
END
