PDS_VERSION_ID = PDS3
/* FILE DATA ELEMENTS */
RECORD_TYPE = UNDEFINED
/* POINTERS TO DATA OBJECTS */
^IMAGE = ("H5128_0000_S24.TIF")
/* IDENTIFICATION DATA ELEMENTS */
DATA_SET_ID = "MEX-M-HRSC-4-REFDR-MAPPROJECT-EXT2-V4.0"
DATA_SET_NAME = "MARS EXPRESS HRSC MAP PROJECTED REFDR EXTENSION2 V4.0"
DETECTOR_ID = MEX_HRSC_S2
EVENT_TYPE = "MARS-REGIONAL-MAPPING-Vo"
INSTRUMENT_HOST_ID = MEX
INSTRUMENT_HOST_NAME = "MARS EXPRESS"
INSTRUMENT_ID = HRSC
INSTRUMENT_NAME = "HIGH RESOLUTION STEREO CAMERA"
MISSION_NAME = "MARS EXPRESS"
MISSION_PHASE_NAME = ME_Phase_11
PROCESSING_LEVEL_ID = 4
PRODUCT_CREATION_TIME = 2023-02-01T12:09:47.000Z
PRODUCT_ID = "H5128_0000_S24.TIF"
RELEASE_ID = 0001
REVISION_ID = 0000
/* QUALITY DATA ELEMENTS */
DATA_QUALITY_ID = 1
DATA_QUALITY_DESC = "Data calculated based on original SPICE kernels"
/* TIME DATA ELEMENTS */
SPACECRAFT_CLOCK_START_COUNT = "1/0147054923.08401"
SPACECRAFT_CLOCK_STOP_COUNT = "1/0147055146.32550"
START_TIME = 2007-12-30T00:36:32.462Z
STOP_TIME = 2007-12-30T00:39:08.363Z
/* ORBITAL DATA ELEMENTS */
ASCENDING_NODE_LONGITUDE = 121.41
MAXIMUM_RESOLUTION = 0.0268
FOOTPRINT_POINT_LATITUDE = (17.704,17.7043,17.7047,17.7055,17.7055 ,17.6942,17.4777,17.2611,17.0443, 16.8278,16.6116,16.3948,16.0699,15.7449 ,15.4232,15.2135,15.004,14.7944,14.5849 ,14.3754,14.1658,13.9562,13.642,13.3275 ,13.0133,12.8039,12.5954,12.3932, 12.0898,11.8877,11.5843,11.3822,11.1801 ,10.978,10.6749,10.4728,10.2709,10.069, 9.86725,9.56464,9.26207,9.06052,8.75838 ,8.55711,8.25516,7.85301,7.45118, 7.35075,7.34178,7.3396,7.33815,7.33686, 7.33652,7.33651,7.33691,7.73859,7.94006 ,8.14153,8.54391,8.74548,9.04776, 9.24959,9.45096,9.65276,9.8546,10.0565, 10.3595,10.5618,10.7635,10.9655,11.1676 ,11.4708,11.6731,11.9764,12.28,12.4824, 12.792,13.0014,13.211,13.4204,13.63, 13.8395,14.0491,14.2587,14.4684,14.7829 ,15.0974,15.3071,15.5168,15.7334, 15.9501,16.2753,16.492,16.7087,16.9255, 17.1421,17.3588,17.5753,17.6836,17.704)
FOOTPRINT_POINT_LONGITUDE = (246.194,245.711,245.364,244.93,244.918 ,244.917,244.92,244.923,244.925,244.928 ,244.93,244.932,244.936,244.939,244.942 ,244.944,244.946,244.947,244.949, 244.951,244.952,244.954,244.956,244.958 ,244.96,244.961,244.962,244.963,244.965 ,244.966,244.967,244.968,244.969, 244.969,244.97,244.971,244.971,244.972, 244.972,244.973,244.973,244.974,244.974 ,244.974,244.974,244.974,244.974, 244.974,244.974,245.307,245.555,245.867 ,246.072,246.083,246.087,246.089, 246.091,246.092,246.095,246.097,246.099 ,246.101,246.103,246.104,246.106, 246.108,246.11,246.112,246.114,246.116, 246.118,246.12,246.122,246.125,246.128, 246.13,246.134,246.136,246.138,246.14, 246.142,246.145,246.147,246.149,246.151 ,246.155,246.159,246.161,246.164, 246.166,246.169,246.173,246.175,246.178 ,246.181,246.183,246.186,246.189,246.19 ,246.194)
ORBIT_NUMBER = 5128
ORBITAL_ECCENTRICITY = 0.575
ORBITAL_INCLINATION = 86.72
ORBITAL_SEMIMAJOR_AXIS = 8743.35
PERIAPSIS_ALTITUDE = 317.5
PERIAPSIS_ARGUMENT_ANGLE = 176.18
PERIAPSIS_TIME = 2007-12-30T00:39:34.000Z
SPACECRAFT_ORIENTATION = (0.0,-1.0,0.0)
^MEX_ORIENTATION_DESC = "MEX_ORIENTATION_DESC.TXT"
SPACECRAFT_POINTING_MODE = NADIR
^MEX_POINTING_DESC = "MEX_POINTING_DESC.TXT"
RIGHT_ASCENSION = -1e+32
DECLINATION = -1e+32
OFFSET_ANGLE = -1e+32
SPACECRAFT_SOLAR_DISTANCE = 2.36637e+08
TARGET_NAME = MARS
/* CAMERA DATA ELEMENTS */
DETECTOR_TEMPERATURE = 18.3705
FOCAL_PLANE_TEMPERATURE = 7.7677
INST_CMPRS_NAME = "DISCRETE COSINE TRANSFORMATION (DCT)"
INST_CMPRS_RATIO = 10.5085
INST_CMPRS_QUALITY = 0
INST_CMPRS_QUANTZ_TBL_ID = 0
INSTRUMENT_TEMPERATURE = 11.234
LENS_TEMPERATURE = 8.3794
MACROPIXEL_SIZE = 2
MISSING_FRAMES = 0
PIXEL_SUBSAMPLING_FLAG = N
SIGNAL_CHAIN_ID = 1
/* RADIOMETRIC DATA ELEMENTS */
BANDWIDTH = 178.0
CENTER_FILTER_WAVELENGTH = 679.0
RADIANCE_OFFSET = 2.67049
RADIANCE_SCALING_FACTOR = 0.0186601
REFLECTANCE_SCALING_FACTOR = 0.000553362
MEX:REFLECTANCE_OFFSET = 0.0791928
/* IMAGE OBJECT DEFINITIONS */
OBJECT = IMAGE
  INTERCHANGE_FORMAT = BINARY
  LINES = 24527
  LINE_SAMPLES = 2947
  SAMPLE_TYPE = UNSIGNED_INTEGER
  SAMPLE_BITS = 8
  BANDS = 1
  BAND_STORAGE_TYPE = BAND_SEQUENTIAL
  MAXIMUM = 255
  MEAN = 123.532
  MINIMUM = 1
  STANDARD_DEVIATION = 14.8738
END_OBJECT = IMAGE
/* MAP OBJECT DEFINITIONS */
OBJECT = IMAGE_MAP_PROJECTION
  ^DATA_SET_MAP_PROJECTION_CATALOG= "DSMAP.CAT"
  A_AXIS_RADIUS = 3396.0
  B_AXIS_RADIUS = 3396.0
  C_AXIS_RADIUS = 3396.0
  CENTER_LATITUDE = 0.0
  CENTER_LONGITUDE = 246.0
  COORDINATE_SYSTEM_NAME = PLANETOGRAPHIC
  COORDINATE_SYSTEM_TYPE = "BODY-FIXED ROTATING"
  EASTERNMOST_LONGITUDE = 246.194
  FIRST_STANDARD_PARALLEL = "N/A"
  LINE_FIRST_PIXEL = 1
  LINE_LAST_PIXEL = 24527
  LINE_PROJECTION_OFFSET = 42001.75
  MAP_PROJECTION_ROTATION = 0.0
  MAP_PROJECTION_TYPE = SINUSOIDAL
  MAP_RESOLUTION = 2370.85521546667
  MAP_SCALE = 0.025
  MAXIMUM_LATITUDE = 17.7055
  MINIMUM_LATITUDE = 7.33651
  POSITIVE_LONGITUDE_DIRECTION = EAST
  REFERENCE_LATITUDE = "N/A"
  REFERENCE_LONGITUDE = "N/A"
  SAMPLE_FIRST_PIXEL = 1
  SAMPLE_LAST_PIXEL = 2947
  SAMPLE_PROJECTION_OFFSET = 2484.25
  SECOND_STANDARD_PARALLEL = "N/A"
  WESTERNMOST_LONGITUDE = 244.917
END_OBJECT = IMAGE_MAP_PROJECTION
END
