PDS_VERSION_ID = PDS3
/* FILE DATA ELEMENTS */
RECORD_TYPE = UNDEFINED
/* POINTERS TO DATA OBJECTS */
^IMAGE = ("H5128_0000_S14.TIF")
/* IDENTIFICATION DATA ELEMENTS */
DATA_SET_ID = "MEX-M-HRSC-4-REFDR-MAPPROJECT-EXT2-V4.0"
DATA_SET_NAME = "MARS EXPRESS HRSC MAP PROJECTED REFDR EXTENSION2 V4.0"
DETECTOR_ID = MEX_HRSC_S1
EVENT_TYPE = "MARS-REGIONAL-MAPPING-Vo"
INSTRUMENT_HOST_ID = MEX
INSTRUMENT_HOST_NAME = "MARS EXPRESS"
INSTRUMENT_ID = HRSC
INSTRUMENT_NAME = "HIGH RESOLUTION STEREO CAMERA"
MISSION_NAME = "MARS EXPRESS"
MISSION_PHASE_NAME = ME_Phase_11
PROCESSING_LEVEL_ID = 4
PRODUCT_CREATION_TIME = 2023-02-01T12:09:47.000Z
PRODUCT_ID = "H5128_0000_S14.TIF"
RELEASE_ID = 0001
REVISION_ID = 0000
/* QUALITY DATA ELEMENTS */
DATA_QUALITY_ID = 1
DATA_QUALITY_DESC = "Data calculated based on original SPICE kernels"
/* TIME DATA ELEMENTS */
SPACECRAFT_CLOCK_START_COUNT = "1/0147054923.08401"
SPACECRAFT_CLOCK_STOP_COUNT = "1/0147055146.32550"
START_TIME = 2007-12-30T00:35:26.975Z
STOP_TIME = 2007-12-30T00:38:11.342Z
/* ORBITAL DATA ELEMENTS */
ASCENDING_NODE_LONGITUDE = 121.41
MAXIMUM_RESOLUTION = 0.0272
FOOTPRINT_POINT_LATITUDE = (17.7274,17.7293,17.7289,17.7268, 17.7267,17.7368,17.4949,17.2529,17.0223 ,16.7167,16.5127,16.3087,16.1044, 15.8998,15.6951,15.49,15.2848,15.0791, 14.8733,14.6671,14.4608,14.2543,14.0476 ,13.737,13.5299,13.2184,13.0106,12.8025 ,12.5942,12.3855,12.1767,11.9676, 11.7583,11.5514,11.1455,10.9422,10.739, 10.4335,10.2297,10.0255,9.82139,9.5146, 9.31005,9.10518,8.79903,8.4018,8.00395, 7.5058,7.40602,7.38765,7.38754,7.38705, 7.38574,7.38403,7.38395,7.38432,7.88316 ,8.38007,8.77732,8.98025,9.28759,9.4926 ,9.6972,9.90158,10.1056,10.4116,10.7173 ,10.9208,11.1242,11.3274,11.5303, 11.8416,12.0507,12.2598,12.4685,12.677, 12.8852,13.1973,13.4051,13.6127,13.8201 ,14.0273,14.2341,14.4408,14.6471, 14.8533,15.0593,15.2651,15.4705,15.6758 ,15.8807,16.0853,16.392,16.5961,16.8, 17.0036,17.3523,17.5947,17.7157, 17.7274)
FOOTPRINT_POINT_LONGITUDE = (246.24,245.763,245.274,244.89,244.877, 244.876,244.88,244.884,244.887,244.892, 244.895,244.898,244.901,244.904,244.906 ,244.909,244.912,244.914,244.917, 244.919,244.922,244.924,244.926,244.929 ,244.932,244.935,244.937,244.938,244.94 ,244.942,244.944,244.945,244.947, 244.948,244.951,244.953,244.954,244.956 ,244.957,244.958,244.959,244.96,244.961 ,244.962,244.963,244.965,244.966, 244.967,244.967,244.967,245.306,245.645 ,245.874,246.082,246.093,246.097, 246.102,246.107,246.111,246.113,246.117 ,246.119,246.121,246.124,246.126,246.13 ,246.133,246.136,246.138,246.141, 246.143,246.147,246.15,246.153,246.156, 246.158,246.161,246.166,246.168,246.171 ,246.174,246.177,246.18,246.183,246.187 ,246.19,246.193,246.196,246.199,246.202 ,246.206,246.209,246.214,246.217, 246.221,246.224,246.23,246.234,246.236, 246.24)
ORBIT_NUMBER = 5128
ORBITAL_ECCENTRICITY = 0.575
ORBITAL_INCLINATION = 86.72
ORBITAL_SEMIMAJOR_AXIS = 8743.35
PERIAPSIS_ALTITUDE = 317.5
PERIAPSIS_ARGUMENT_ANGLE = 176.18
PERIAPSIS_TIME = 2007-12-30T00:39:34.000Z
SPACECRAFT_ORIENTATION = (0.0,-1.0,0.0)
^MEX_ORIENTATION_DESC = "MEX_ORIENTATION_DESC.TXT"
SPACECRAFT_POINTING_MODE = NADIR
^MEX_POINTING_DESC = "MEX_POINTING_DESC.TXT"
RIGHT_ASCENSION = -1e+32
DECLINATION = -1e+32
OFFSET_ANGLE = -1e+32
SPACECRAFT_SOLAR_DISTANCE = 2.36637e+08
TARGET_NAME = MARS
/* CAMERA DATA ELEMENTS */
DETECTOR_TEMPERATURE = 17.5549
FOCAL_PLANE_TEMPERATURE = 7.7677
INST_CMPRS_NAME = "DISCRETE COSINE TRANSFORMATION (DCT)"
INST_CMPRS_RATIO = 8.63113
INST_CMPRS_QUALITY = 0
INST_CMPRS_QUANTZ_TBL_ID = 0
INSTRUMENT_TEMPERATURE = 11.234
LENS_TEMPERATURE = 8.3794
MACROPIXEL_SIZE = 2
MISSING_FRAMES = 0
PIXEL_SUBSAMPLING_FLAG = N
SIGNAL_CHAIN_ID = 1
/* RADIOMETRIC DATA ELEMENTS */
BANDWIDTH = 180.0
CENTER_FILTER_WAVELENGTH = 677.0
RADIANCE_OFFSET = 2.92167
RADIANCE_SCALING_FACTOR = 0.0194039
REFLECTANCE_SCALING_FACTOR = 0.000566885
MEX:REFLECTANCE_OFFSET = 0.0853566
/* IMAGE OBJECT DEFINITIONS */
OBJECT = IMAGE
  INTERCHANGE_FORMAT = BINARY
  LINES = 24527
  LINE_SAMPLES = 2947
  SAMPLE_TYPE = UNSIGNED_INTEGER
  SAMPLE_BITS = 8
  BANDS = 1
  BAND_STORAGE_TYPE = BAND_SEQUENTIAL
  MAXIMUM = 255
  MEAN = 119.843
  MINIMUM = 1
  STANDARD_DEVIATION = 14.4531
END_OBJECT = IMAGE
/* MAP OBJECT DEFINITIONS */
OBJECT = IMAGE_MAP_PROJECTION
  ^DATA_SET_MAP_PROJECTION_CATALOG= "DSMAP.CAT"
  A_AXIS_RADIUS = 3396.0
  B_AXIS_RADIUS = 3396.0
  C_AXIS_RADIUS = 3396.0
  CENTER_LATITUDE = 0.0
  CENTER_LONGITUDE = 246.0
  COORDINATE_SYSTEM_NAME = PLANETOGRAPHIC
  COORDINATE_SYSTEM_TYPE = "BODY-FIXED ROTATING"
  EASTERNMOST_LONGITUDE = 246.24
  FIRST_STANDARD_PARALLEL = "N/A"
  LINE_FIRST_PIXEL = 1
  LINE_LAST_PIXEL = 24527
  LINE_PROJECTION_OFFSET = 42001.75
  MAP_PROJECTION_ROTATION = 0.0
  MAP_PROJECTION_TYPE = SINUSOIDAL
  MAP_RESOLUTION = 2370.85521546667
  MAP_SCALE = 0.025
  MAXIMUM_LATITUDE = 17.7368
  MINIMUM_LATITUDE = 7.38395
  POSITIVE_LONGITUDE_DIRECTION = EAST
  REFERENCE_LATITUDE = "N/A"
  REFERENCE_LONGITUDE = "N/A"
  SAMPLE_FIRST_PIXEL = 1
  SAMPLE_LAST_PIXEL = 2947
  SAMPLE_PROJECTION_OFFSET = 2484.25
  SECOND_STANDARD_PARALLEL = "N/A"
  WESTERNMOST_LONGITUDE = 244.876
END_OBJECT = IMAGE_MAP_PROJECTION
END
