PDS_VERSION_ID = PDS3
/* FILE DATA ELEMENTS */
RECORD_TYPE = UNDEFINED
/* POINTERS TO DATA OBJECTS */
^IMAGE = ("H5118_0000_S24.TIF")
/* IDENTIFICATION DATA ELEMENTS */
DATA_SET_ID = "MEX-M-HRSC-4-REFDR-MAPPROJECT-EXT2-V4.0"
DATA_SET_NAME = "MARS EXPRESS HRSC MAP PROJECTED REFDR EXTENSION2 V4.0"
DETECTOR_ID = MEX_HRSC_S2
EVENT_TYPE = "MARS-REGIONAL-MAPPING-Vo-Te-Mw"
INSTRUMENT_HOST_ID = MEX
INSTRUMENT_HOST_NAME = "MARS EXPRESS"
INSTRUMENT_ID = HRSC
INSTRUMENT_NAME = "HIGH RESOLUTION STEREO CAMERA"
MISSION_NAME = "MARS EXPRESS"
MISSION_PHASE_NAME = ME_Phase_11
PROCESSING_LEVEL_ID = 4
PRODUCT_CREATION_TIME = 2023-02-01T12:09:47.000Z
PRODUCT_ID = "H5118_0000_S24.TIF"
RELEASE_ID = 0001
REVISION_ID = 0000
/* QUALITY DATA ELEMENTS */
DATA_QUALITY_ID = 1
DATA_QUALITY_DESC = "Data calculated based on original SPICE kernels"
/* TIME DATA ELEMENTS */
SPACECRAFT_CLOCK_START_COUNT = "1/0146808658.09068"
SPACECRAFT_CLOCK_STOP_COUNT = "1/0146808930.56752"
START_TIME = 2007-12-27T04:12:06.609Z
STOP_TIME = 2007-12-27T04:15:32.736Z
/* ORBITAL DATA ELEMENTS */
ASCENDING_NODE_LONGITUDE = 121.6
MAXIMUM_RESOLUTION = 0.0274
FOOTPRINT_POINT_LATITUDE = (15.1821,15.1829,15.1838,15.1853, 15.1853,15.2134,14.9214,14.4842,14.1942 ,13.7599,13.478,13.0557,12.633,12.3515, 12.0697,11.788,11.506,11.2247,10.945, 10.6718,10.2646,9.99234,9.72113,9.44933 ,9.04213,8.77081,8.36392,7.95711,7.686, 7.27951,7.00888,6.73832,6.46786,6.1976, 5.92753,5.65754,5.38765,5.11924,4.85898 ,4.59896,4.33913,4.07936,3.81973, 3.56033,3.04206,2.52445,2.26038,1.99281 ,1.72544,1.59183,1.5878,1.58387,1.58226 ,1.58225,1.58265,1.84991,2.11737, 2.51538,3.033,3.55136,3.81083,4.07045, 4.33025,4.59016,4.85017,5.11045,5.37876 ,5.64856,5.91859,6.18878,6.59439, 6.86486,7.13569,7.40654,7.67752,7.94871 ,8.21988,8.49117,8.76261,9.03415, 9.30577,9.71285,9.98482,10.3927,10.6642 ,10.9366,11.2173,11.499,11.9214,12.2031 ,12.4851,12.9078,13.1897,13.4714, 13.7538,14.1871,14.4786,15.0614,15.2073 ,15.1821)
FOOTPRINT_POINT_LONGITUDE = (166.679,166.206,165.868,165.444, 165.432,165.419,165.422,165.426,165.428 ,165.432,165.434,165.436,165.439, 165.441,165.442,165.444,165.445,165.447 ,165.447,165.449,165.45,165.451,165.452 ,165.452,165.453,165.453,165.454, 165.454,165.454,165.454,165.454,165.454 ,165.454,165.453,165.453,165.452, 165.452,165.451,165.45,165.45,165.449, 165.448,165.447,165.446,165.443,165.441 ,165.439,165.438,165.436,165.435, 165.435,166.006,166.556,166.567,166.57, 166.571,166.572,166.574,166.576,166.579 ,166.58,166.582,166.583,166.584,166.586 ,166.588,166.589,166.591,166.593, 166.595,166.598,166.6,166.602,166.604, 166.606,166.609,166.611,166.613,166.616 ,166.618,166.621,166.624,166.627, 166.631,166.634,166.637,166.64,166.643, 166.647,166.651,166.654,166.659,166.662 ,166.666,166.669,166.675,166.678, 166.686,166.688,166.679)
ORBIT_NUMBER = 5118
ORBITAL_ECCENTRICITY = 0.574
ORBITAL_INCLINATION = 86.73
ORBITAL_SEMIMAJOR_AXIS = 8724.52
PERIAPSIS_ALTITUDE = 317.39
PERIAPSIS_ARGUMENT_ANGLE = 177.95
PERIAPSIS_TIME = 2007-12-27T04:14:57.000Z
SPACECRAFT_ORIENTATION = (0.0,-1.0,0.0)
^MEX_ORIENTATION_DESC = "MEX_ORIENTATION_DESC.TXT"
SPACECRAFT_POINTING_MODE = NADIR
^MEX_POINTING_DESC = "MEX_POINTING_DESC.TXT"
RIGHT_ASCENSION = -1e+32
DECLINATION = -1e+32
OFFSET_ANGLE = -1e+32
SPACECRAFT_SOLAR_DISTANCE = 2.36147e+08
TARGET_NAME = MARS
/* CAMERA DATA ELEMENTS */
DETECTOR_TEMPERATURE = 18.3705
FOCAL_PLANE_TEMPERATURE = 7.7677
INST_CMPRS_NAME = "DISCRETE COSINE TRANSFORMATION (DCT)"
INST_CMPRS_RATIO = 10.5505
INST_CMPRS_QUALITY = 0
INST_CMPRS_QUANTZ_TBL_ID = 0
INSTRUMENT_TEMPERATURE = 11.0301
LENS_TEMPERATURE = 8.1755
MACROPIXEL_SIZE = 2
MISSING_FRAMES = 0
PIXEL_SUBSAMPLING_FLAG = N
SIGNAL_CHAIN_ID = 1
/* RADIOMETRIC DATA ELEMENTS */
BANDWIDTH = 178.0
CENTER_FILTER_WAVELENGTH = 679.0
RADIANCE_OFFSET = 2.86471
RADIANCE_SCALING_FACTOR = 0.0118054
REFLECTANCE_SCALING_FACTOR = 0.000348635
MEX:REFLECTANCE_OFFSET = 0.0846001
/* IMAGE OBJECT DEFINITIONS */
OBJECT = IMAGE
  INTERCHANGE_FORMAT = BINARY
  LINES = 32337
  LINE_SAMPLES = 2968
  SAMPLE_TYPE = UNSIGNED_INTEGER
  SAMPLE_BITS = 8
  BANDS = 1
  BAND_STORAGE_TYPE = BAND_SEQUENTIAL
  MAXIMUM = 255
  MEAN = 116.927
  MINIMUM = 1
  STANDARD_DEVIATION = 18.8569
END_OBJECT = IMAGE
/* MAP OBJECT DEFINITIONS */
OBJECT = IMAGE_MAP_PROJECTION
  ^DATA_SET_MAP_PROJECTION_CATALOG= "DSMAP.CAT"
  A_AXIS_RADIUS = 3396.0
  B_AXIS_RADIUS = 3396.0
  C_AXIS_RADIUS = 3396.0
  CENTER_LATITUDE = 0.0
  CENTER_LONGITUDE = 166.0
  COORDINATE_SYSTEM_NAME = PLANETOGRAPHIC
  COORDINATE_SYSTEM_TYPE = "BODY-FIXED ROTATING"
  EASTERNMOST_LONGITUDE = 166.688
  FIRST_STANDARD_PARALLEL = "N/A"
  LINE_FIRST_PIXEL = 1
  LINE_LAST_PIXEL = 32337
  LINE_PROJECTION_OFFSET = 36043.75
  MAP_PROJECTION_ROTATION = 0.0
  MAP_PROJECTION_TYPE = SINUSOIDAL
  MAP_RESOLUTION = 2370.85521546667
  MAP_SCALE = 0.025
  MAXIMUM_LATITUDE = 15.2134
  MINIMUM_LATITUDE = 1.58225
  POSITIVE_LONGITUDE_DIRECTION = EAST
  REFERENCE_LATITUDE = "N/A"
  REFERENCE_LONGITUDE = "N/A"
  SAMPLE_FIRST_PIXEL = 1
  SAMPLE_LAST_PIXEL = 2968
  SAMPLE_PROJECTION_OFFSET = 1360.25
  SECOND_STANDARD_PARALLEL = "N/A"
  WESTERNMOST_LONGITUDE = 165.419
END_OBJECT = IMAGE_MAP_PROJECTION
END
