PDS_VERSION_ID = PDS3
/* FILE DATA ELEMENTS */
RECORD_TYPE = UNDEFINED
/* POINTERS TO DATA OBJECTS */
^IMAGE = ("H5114_0000_IR4.TIF")
/* IDENTIFICATION DATA ELEMENTS */
DATA_SET_ID = "MEX-M-HRSC-4-REFDR-MAPPROJECT-EXT2-V4.0"
DATA_SET_NAME = "MARS EXPRESS HRSC MAP PROJECTED REFDR EXTENSION2 V4.0"
DETECTOR_ID = MEX_HRSC_IR
EVENT_TYPE = "MARS-REGIONAL-MAPPING-Vo-Fl-Eo"
INSTRUMENT_HOST_ID = MEX
INSTRUMENT_HOST_NAME = "MARS EXPRESS"
INSTRUMENT_ID = HRSC
INSTRUMENT_NAME = "HIGH RESOLUTION STEREO CAMERA"
MISSION_NAME = "MARS EXPRESS"
MISSION_PHASE_NAME = ME_Phase_11
PROCESSING_LEVEL_ID = 4
PRODUCT_CREATION_TIME = 2023-02-01T12:09:47.000Z
PRODUCT_ID = "H5114_0000_IR4.TIF"
RELEASE_ID = 0001
REVISION_ID = 0000
/* QUALITY DATA ELEMENTS */
DATA_QUALITY_ID = 1
DATA_QUALITY_DESC = "Data calculated based on original SPICE kernels"
/* TIME DATA ELEMENTS */
SPACECRAFT_CLOCK_START_COUNT = "1/0146710120.08263"
SPACECRAFT_CLOCK_STOP_COUNT = "1/0146710507.48091"
START_TIME = 2007-12-26T00:48:49.855Z
STOP_TIME = 2007-12-26T00:54:16.230Z
/* ORBITAL DATA ELEMENTS */
ASCENDING_NODE_LONGITUDE = 121.69
MAXIMUM_RESOLUTION = 0.1069
FOOTPRINT_POINT_LATITUDE = (15.5991,15.6021,15.6009,15.6008, 15.5702,15.0882,14.6655,14.2418,13.8172 ,13.3915,12.9648,12.537,12.1084,11.6789 ,11.2484,10.817,10.3847,9.73664,9.31631 ,8.89517,8.47323,8.05075,7.62754, 6.99329,6.58244,6.17097,5.7588,5.34619, 4.93299,4.51933,4.10515,3.69058,3.27513 ,2.85959,2.44283,1.82643,1.01964, 0.614133,0.00613917,-0.599897,-1.2068, -1.61169,-2.01767,-2.42475,-2.84508, -3.26609,-3.89359,-4.31511,-4.73656, -5.15675,-5.36784,-5.45133,-5.45223, -5.45424,-5.45431,-5.45293,-4.82007, -4.18906,-3.76863,-3.1346,-2.71711, -2.09824,-1.69481,-1.28917,-0.884949, -0.277412,0.129973,0.936001,1.94262, 2.56631,2.98304,3.39811,4.02087,4.43552 ,4.84934,5.26276,5.67562,6.08796,6.4996 ,6.91062,7.54226,7.96592,8.38878, 8.81089,9.23232,9.65297,10.2987,10.7315 ,11.1633,11.5941,12.024,12.453,12.8809, 13.3082,13.7343,14.1594,14.5834,15.2218 ,15.4734,15.5991)
FOOTPRINT_POINT_LONGITUDE = (206.978,206.227,205.664,205.651, 205.634,205.641,205.647,205.652,205.657 ,205.662,205.666,205.671,205.675, 205.679,205.682,205.685,205.688,205.693 ,205.695,205.697,205.699,205.701, 205.702,205.704,205.705,205.706,205.707 ,205.707,205.708,205.708,205.708, 205.707,205.707,205.706,205.705,205.705 ,205.702,205.7,205.697,205.695,205.692, 205.69,205.687,205.684,205.681,205.678, 205.675,205.671,205.668,205.665,205.663 ,205.662,206.202,206.775,206.786, 206.793,206.793,206.794,206.795,206.795 ,206.797,206.799,206.801,206.802, 206.804,206.807,206.808,206.813,206.82, 206.824,206.827,206.83,206.835,206.839, 206.843,206.846,206.85,206.854,206.859, 206.863,206.87,206.875,206.88,206.885, 206.891,206.896,206.905,206.911,206.917 ,206.923,206.929,206.936,206.943,206.95 ,206.956,206.964,206.971,206.982, 206.987,206.978)
ORBIT_NUMBER = 5114
ORBITAL_ECCENTRICITY = 0.575
ORBITAL_INCLINATION = 86.72
ORBITAL_SEMIMAJOR_AXIS = 8728.61
PERIAPSIS_ALTITUDE = 316.71
PERIAPSIS_ARGUMENT_ANGLE = 178.64
PERIAPSIS_TIME = 2007-12-26T00:52:56.000Z
SPACECRAFT_ORIENTATION = (0.0,-1.0,0.0)
^MEX_ORIENTATION_DESC = "MEX_ORIENTATION_DESC.TXT"
SPACECRAFT_POINTING_MODE = NADIR
^MEX_POINTING_DESC = "MEX_POINTING_DESC.TXT"
RIGHT_ASCENSION = -1e+32
DECLINATION = -1e+32
OFFSET_ANGLE = -1e+32
SPACECRAFT_SOLAR_DISTANCE = 2.35949e+08
TARGET_NAME = MARS
/* CAMERA DATA ELEMENTS */
DETECTOR_TEMPERATURE = 17.5549
FOCAL_PLANE_TEMPERATURE = 7.5638
INST_CMPRS_NAME = "DISCRETE COSINE TRANSFORMATION (DCT)"
INST_CMPRS_RATIO = 10.6192
INST_CMPRS_QUALITY = 0
INST_CMPRS_QUANTZ_TBL_ID = 0
INSTRUMENT_TEMPERATURE = 11.0301
LENS_TEMPERATURE = 8.3794
MACROPIXEL_SIZE = 8
MISSING_FRAMES = 0
PIXEL_SUBSAMPLING_FLAG = N
SIGNAL_CHAIN_ID = 2
/* RADIOMETRIC DATA ELEMENTS */
BANDWIDTH = 81.0
CENTER_FILTER_WAVELENGTH = 955.5
RADIANCE_OFFSET = 0.673965
RADIANCE_SCALING_FACTOR = 0.0033733
REFLECTANCE_SCALING_FACTOR = 0.000405152
MEX:REFLECTANCE_OFFSET = 0.0809468
/* IMAGE OBJECT DEFINITIONS */
OBJECT = IMAGE
  INTERCHANGE_FORMAT = BINARY
  LINES = 12464
  LINE_SAMPLES = 761
  SAMPLE_TYPE = UNSIGNED_INTEGER
  SAMPLE_BITS = 8
  BANDS = 1
  BAND_STORAGE_TYPE = BAND_SEQUENTIAL
  MAXIMUM = 255
  MEAN = 121.735
  MINIMUM = 1
  STANDARD_DEVIATION = 30.434
END_OBJECT = IMAGE
/* MAP OBJECT DEFINITIONS */
OBJECT = IMAGE_MAP_PROJECTION
  ^DATA_SET_MAP_PROJECTION_CATALOG= "DSMAP.CAT"
  A_AXIS_RADIUS = 3396.0
  B_AXIS_RADIUS = 3396.0
  C_AXIS_RADIUS = 3396.0
  CENTER_LATITUDE = 0.0
  CENTER_LONGITUDE = 206.0
  COORDINATE_SYSTEM_NAME = PLANETOGRAPHIC
  COORDINATE_SYSTEM_TYPE = "BODY-FIXED ROTATING"
  EASTERNMOST_LONGITUDE = 206.987
  FIRST_STANDARD_PARALLEL = "N/A"
  LINE_FIRST_PIXEL = 1
  LINE_LAST_PIXEL = 12464
  LINE_PROJECTION_OFFSET = 9244.6875
  MAP_PROJECTION_ROTATION = 0.0
  MAP_PROJECTION_TYPE = SINUSOIDAL
  MAP_RESOLUTION = 592.713803866667
  MAP_SCALE = 0.1
  MAXIMUM_LATITUDE = 15.6021
  MINIMUM_LATITUDE = -5.45431
  POSITIVE_LONGITUDE_DIRECTION = EAST
  REFERENCE_LATITUDE = "N/A"
  REFERENCE_LONGITUDE = "N/A"
  SAMPLE_FIRST_PIXEL = 1
  SAMPLE_LAST_PIXEL = 761
  SAMPLE_PROJECTION_OFFSET = 208.3125
  SECOND_STANDARD_PARALLEL = "N/A"
  WESTERNMOST_LONGITUDE = 205.634
END_OBJECT = IMAGE_MAP_PROJECTION
END
