PDS_VERSION_ID = PDS3
/* FILE DATA ELEMENTS */
RECORD_TYPE = UNDEFINED
/* POINTERS TO DATA OBJECTS */
^IMAGE = ("H5112_0000_S14.TIF")
/* IDENTIFICATION DATA ELEMENTS */
DATA_SET_ID = "MEX-M-HRSC-4-REFDR-MAPPROJECT-EXT2-V4.0"
DATA_SET_NAME = "MARS EXPRESS HRSC MAP PROJECTED REFDR EXTENSION2 V4.0"
DETECTOR_ID = MEX_HRSC_S1
EVENT_TYPE = "MARS-REGIONAL-MAPPING-Im-Fl"
INSTRUMENT_HOST_ID = MEX
INSTRUMENT_HOST_NAME = "MARS EXPRESS"
INSTRUMENT_ID = HRSC
INSTRUMENT_NAME = "HIGH RESOLUTION STEREO CAMERA"
MISSION_NAME = "MARS EXPRESS"
MISSION_PHASE_NAME = ME_Phase_11
PROCESSING_LEVEL_ID = 4
PRODUCT_CREATION_TIME = 2023-02-01T12:09:47.000Z
PRODUCT_ID = "H5112_0000_S14.TIF"
RELEASE_ID = 0001
REVISION_ID = 0000
/* QUALITY DATA ELEMENTS */
DATA_QUALITY_ID = 1
DATA_QUALITY_DESC = "Data calculated based on original SPICE kernels"
/* TIME DATA ELEMENTS */
SPACECRAFT_CLOCK_START_COUNT = "1/0146661027.08382"
SPACECRAFT_CLOCK_STOP_COUNT = "1/0146661278.14908"
START_TIME = 2007-12-25T11:10:30.972Z
STOP_TIME = 2007-12-25T11:13:40.740Z
/* ORBITAL DATA ELEMENTS */
ASCENDING_NODE_LONGITUDE = 121.73
MAXIMUM_RESOLUTION = 0.0267
FOOTPRINT_POINT_LATITUDE = (5.05998,5.06928,5.07569,5.08086, 5.08102,5.09131,4.84341,4.59485,4.34588 ,4.09701,3.84789,3.59905,3.3496,3.09928 ,2.72499,2.47497,2.10079,1.85077, 1.48028,0.874582,0.509378,0.264745, -0.221499,-0.465952,-0.709538,-0.954765 ,-1.19945,-1.56616,-1.8113,-2.05558, -2.29922,-2.54404,-2.78978,-3.03588, -3.40356,-3.65439,-3.90791,-4.28939, -4.54444,-4.80027,-5.05588,-5.31068, -5.56704,-5.81865,-6.0738,-6.33143, -6.58505,-6.96444,-7.22183,-7.34883, -7.35951,-7.36356,-7.37144,-7.37645, -7.37666,-7.37633,-6.99552,-6.73941, -6.36214,-6.10736,-5.84821,-5.46194, -5.20949,-4.95577,-4.70127,-4.44696, -4.19042,-3.93596,-3.68234,-3.31021, -3.06452,-2.6994,-2.33292,-2.08607, -1.7193,-1.47461,-1.23011,-0.98598, -0.741253,-0.255949,-0.0109187,0.232268 ,0.593175,0.836136,1.07941,1.56899, 1.94184,2.19275,2.44317,2.81763,3.19264 ,3.44291,3.69252,3.94163,4.1907,4.44037 ,4.68952,4.93783,5.06208,5.05998)
FOOTPRINT_POINT_LONGITUDE = (47.1405,46.6968,46.3441,46.0149, 46.0039,46.0025,46.0028,46.0028,46.0028 ,46.0027,46.0026,46.0026,46.0024,46.002 ,46.0016,46.0012,46.0008,46.0004, 45.9994,45.9978,45.9964,45.9953,45.9935 ,45.9923,45.9912,45.9898,45.9885, 45.9866,45.9851,45.9838,45.9826,45.9812 ,45.9795,45.9777,45.9753,45.9734, 45.9718,45.969,45.967,45.9648,45.9626, 45.9605,45.9581,45.9566,45.9544,45.9517 ,45.9497,45.9469,45.944,45.943,45.9429, 46.338,46.6582,47.0679,47.0791,47.0831, 47.0832,47.0824,47.0842,47.0841,47.0822 ,47.0805,47.0815,47.0819,47.0821, 47.0824,47.0818,47.0821,47.0828,47.0837 ,47.0841,47.086,47.0874,47.0873,47.0887 ,47.0895,47.0904,47.0915,47.0923, 47.0956,47.0963,47.0977,47.1014,47.1029 ,47.1043,47.1057,47.1088,47.1106, 47.1125,47.1158,47.1189,47.1208,47.1229 ,47.1252,47.1275,47.1295,47.1316, 47.1341,47.1353,47.1405)
ORBIT_NUMBER = 5112
ORBITAL_ECCENTRICITY = 0.575
ORBITAL_INCLINATION = 86.72
ORBITAL_SEMIMAJOR_AXIS = 8734.02
PERIAPSIS_ALTITUDE = 316.05
PERIAPSIS_ARGUMENT_ANGLE = 179.03
PERIAPSIS_TIME = 2007-12-25T11:12:02.000Z
SPACECRAFT_ORIENTATION = (0.0,-1.0,0.0)
^MEX_ORIENTATION_DESC = "MEX_ORIENTATION_DESC.TXT"
SPACECRAFT_POINTING_MODE = ACROSSTRACK
^MEX_POINTING_DESC = "MEX_POINTING_DESC.TXT"
RIGHT_ASCENSION = -1e+32
DECLINATION = -1e+32
OFFSET_ANGLE = 0.2
SPACECRAFT_SOLAR_DISTANCE = 2.35849e+08
TARGET_NAME = MARS
/* CAMERA DATA ELEMENTS */
DETECTOR_TEMPERATURE = 17.351
FOCAL_PLANE_TEMPERATURE = 7.7677
INST_CMPRS_NAME = "DISCRETE COSINE TRANSFORMATION (DCT)"
INST_CMPRS_RATIO = 8.7701
INST_CMPRS_QUALITY = 0
INST_CMPRS_QUANTZ_TBL_ID = 0
INSTRUMENT_TEMPERATURE = 11.0301
LENS_TEMPERATURE = 6.7482
MACROPIXEL_SIZE = 2
MISSING_FRAMES = 1
PIXEL_SUBSAMPLING_FLAG = N
SIGNAL_CHAIN_ID = 1
/* RADIOMETRIC DATA ELEMENTS */
BANDWIDTH = 180.0
CENTER_FILTER_WAVELENGTH = 677.0
RADIANCE_OFFSET = 2.44522
RADIANCE_SCALING_FACTOR = 0.0133414
REFLECTANCE_SCALING_FACTOR = 0.000387177
MEX:REFLECTANCE_OFFSET = 0.0709624
/* IMAGE OBJECT DEFINITIONS */
OBJECT = IMAGE
  INTERCHANGE_FORMAT = BINARY
  LINES = 29534
  LINE_SAMPLES = 2804
  SAMPLE_TYPE = UNSIGNED_INTEGER
  SAMPLE_BITS = 8
  BANDS = 1
  BAND_STORAGE_TYPE = BAND_SEQUENTIAL
  MAXIMUM = 255
  MEAN = 121.022
  MINIMUM = 1
  STANDARD_DEVIATION = 23.4343
END_OBJECT = IMAGE
/* MAP OBJECT DEFINITIONS */
OBJECT = IMAGE_MAP_PROJECTION
  ^DATA_SET_MAP_PROJECTION_CATALOG= "DSMAP.CAT"
  A_AXIS_RADIUS = 3396.0
  B_AXIS_RADIUS = 3396.0
  C_AXIS_RADIUS = 3396.0
  CENTER_LATITUDE = 0.0
  CENTER_LONGITUDE = 47.0
  COORDINATE_SYSTEM_NAME = PLANETOGRAPHIC
  COORDINATE_SYSTEM_TYPE = "BODY-FIXED ROTATING"
  EASTERNMOST_LONGITUDE = 47.1405
  FIRST_STANDARD_PARALLEL = "N/A"
  LINE_FIRST_PIXEL = 1
  LINE_LAST_PIXEL = 29534
  LINE_PROJECTION_OFFSET = 12034.25
  MAP_PROJECTION_ROTATION = 0.0
  MAP_PROJECTION_TYPE = SINUSOIDAL
  MAP_RESOLUTION = 2370.85521546667
  MAP_SCALE = 0.025
  MAXIMUM_LATITUDE = 5.09131
  MINIMUM_LATITUDE = -7.37666
  POSITIVE_LONGITUDE_DIRECTION = EAST
  REFERENCE_LATITUDE = "N/A"
  REFERENCE_LONGITUDE = "N/A"
  SAMPLE_FIRST_PIXEL = 1
  SAMPLE_LAST_PIXEL = 2804
  SAMPLE_PROJECTION_OFFSET = 2512.75
  SECOND_STANDARD_PARALLEL = "N/A"
  WESTERNMOST_LONGITUDE = 45.9429
END_OBJECT = IMAGE_MAP_PROJECTION
END
