PDS_VERSION_ID = PDS3
/* FILE DATA ELEMENTS */
RECORD_TYPE = UNDEFINED
/* POINTERS TO DATA OBJECTS */
^IMAGE = ("H5112_0000_BL4.TIF")
/* IDENTIFICATION DATA ELEMENTS */
DATA_SET_ID = "MEX-M-HRSC-4-REFDR-MAPPROJECT-EXT2-V4.0"
DATA_SET_NAME = "MARS EXPRESS HRSC MAP PROJECTED REFDR EXTENSION2 V4.0"
DETECTOR_ID = MEX_HRSC_BLUE
EVENT_TYPE = "MARS-REGIONAL-MAPPING-Im-Fl"
INSTRUMENT_HOST_ID = MEX
INSTRUMENT_HOST_NAME = "MARS EXPRESS"
INSTRUMENT_ID = HRSC
INSTRUMENT_NAME = "HIGH RESOLUTION STEREO CAMERA"
MISSION_NAME = "MARS EXPRESS"
MISSION_PHASE_NAME = ME_Phase_11
PROCESSING_LEVEL_ID = 4
PRODUCT_CREATION_TIME = 2023-02-01T12:09:47.000Z
PRODUCT_ID = "H5112_0000_BL4.TIF"
RELEASE_ID = 0001
REVISION_ID = 0000
/* QUALITY DATA ELEMENTS */
DATA_QUALITY_ID = 1
DATA_QUALITY_DESC = "Data calculated based on original SPICE kernels"
/* TIME DATA ELEMENTS */
SPACECRAFT_CLOCK_START_COUNT = "1/0146661027.08382"
SPACECRAFT_CLOCK_STOP_COUNT = "1/0146661278.14908"
START_TIME = 2007-12-25T11:11:04.769Z
STOP_TIME = 2007-12-25T11:14:14.879Z
/* ORBITAL DATA ELEMENTS */
ASCENDING_NODE_LONGITUDE = 121.73
MAXIMUM_RESOLUTION = 0.1005
FOOTPRINT_POINT_LATITUDE = (5.05263,5.05401,5.05499,5.055,5.05138, 4.80094,4.5506,4.17499,3.92454,3.55707, 3.31525,3.07357,2.83153,2.58982,2.34778 ,1.98488,1.74296,1.38047,1.01787, 0.776007,0.534471,0.293288,0.0513676, -0.190049,-0.552056,-0.793499,-1.27585, -1.51826,-1.76791,-2.01773,-2.3923, -2.64177,-3.01574,-3.26506,-3.51393, -3.76323,-4.01217,-4.38541,-4.75835, -5.0067,-5.25519,-5.50331,-5.75221, -6.00043,-6.24788,-6.63076,-6.88665, -7.14306,-7.27095,-7.39409,-7.39538, -7.39482,-7.39557,-7.39557,-7.39391, -7.13893,-6.88184,-6.62627,-6.24272, -5.99488,-5.74793,-5.5,-5.25134, -4.87842,-4.62986,-4.38104,-4.13263, -3.75912,-3.51008,-3.26071,-3.01159, -2.63734,-2.26304,-1.88855,-1.63885, -1.39237,-1.15115,-0.789348,-0.547689, -0.185642,0.0559366,0.418418,0.660579, 0.902202,1.26393,1.62651,1.8684,2.11019 ,2.35191,2.5938,2.95662,3.19839,3.44013 ,3.68191,3.92862,4.17906,4.55456, 4.80487,4.93008,5.05263)
FOOTPRINT_POINT_LONGITUDE = (47.1287,46.5443,46.0375,46.0272,46.024 ,46.0238,46.0234,46.0227,46.0222, 46.0215,46.0209,46.0201,46.0196,46.0187 ,46.0181,46.017,46.0162,46.0146,46.013, 46.0121,46.0108,46.0091,46.0082,46.0068 ,46.0045,46.0031,45.9997,45.9981, 45.9963,45.9946,45.9921,45.9901,45.9871 ,45.9852,45.9828,45.9809,45.9787, 45.9753,45.9718,45.9693,45.9669,45.9643 ,45.9626,45.9602,45.9571,45.9535, 45.9504,45.9481,45.9466,45.9455,46.3295 ,46.6747,47.0746,47.0854,47.0927, 47.0898,47.0914,47.0894,47.0911,47.0903 ,47.0873,47.0862,47.0866,47.0866, 47.0862,47.0863,47.0852,47.0854,47.0853 ,47.0858,47.0857,47.0865,47.0871, 47.0878,47.0883,47.0888,47.0894,47.09, 47.0914,47.0924,47.0935,47.0952,47.0975 ,47.0986,47.0986,47.1004,47.102,47.1034 ,47.1047,47.1064,47.1089,47.1104, 47.1119,47.1135,47.1154,47.1172,47.1198 ,47.1216,47.1227,47.1287)
ORBIT_NUMBER = 5112
ORBITAL_ECCENTRICITY = 0.575
ORBITAL_INCLINATION = 86.72
ORBITAL_SEMIMAJOR_AXIS = 8734.02
PERIAPSIS_ALTITUDE = 316.05
PERIAPSIS_ARGUMENT_ANGLE = 179.03
PERIAPSIS_TIME = 2007-12-25T11:12:02.000Z
SPACECRAFT_ORIENTATION = (0.0,-1.0,0.0)
^MEX_ORIENTATION_DESC = "MEX_ORIENTATION_DESC.TXT"
SPACECRAFT_POINTING_MODE = ACROSSTRACK
^MEX_POINTING_DESC = "MEX_POINTING_DESC.TXT"
RIGHT_ASCENSION = -1e+32
DECLINATION = -1e+32
OFFSET_ANGLE = 0.2
SPACECRAFT_SOLAR_DISTANCE = 2.35849e+08
TARGET_NAME = MARS
/* CAMERA DATA ELEMENTS */
DETECTOR_TEMPERATURE = 18.1666
FOCAL_PLANE_TEMPERATURE = 7.7677
INST_CMPRS_NAME = "DISCRETE COSINE TRANSFORMATION (DCT)"
INST_CMPRS_RATIO = 12.304
INST_CMPRS_QUALITY = 0
INST_CMPRS_QUANTZ_TBL_ID = 0
INSTRUMENT_TEMPERATURE = 11.0301
LENS_TEMPERATURE = 6.7482
MACROPIXEL_SIZE = 8
MISSING_FRAMES = 0
PIXEL_SUBSAMPLING_FLAG = N
SIGNAL_CHAIN_ID = 2
/* RADIOMETRIC DATA ELEMENTS */
BANDWIDTH = 76.0
CENTER_FILTER_WAVELENGTH = 444.0
RADIANCE_OFFSET = 0.34054
RADIANCE_SCALING_FACTOR = 0.00124006
REFLECTANCE_SCALING_FACTOR = 7.08709e-05
MEX:REFLECTANCE_OFFSET = 0.0194622
/* IMAGE OBJECT DEFINITIONS */
OBJECT = IMAGE
  INTERCHANGE_FORMAT = BINARY
  LINES = 7384
  LINE_SAMPLES = 701
  SAMPLE_TYPE = UNSIGNED_INTEGER
  SAMPLE_BITS = 8
  BANDS = 1
  BAND_STORAGE_TYPE = BAND_SEQUENTIAL
  MAXIMUM = 255
  MEAN = 137.633
  MINIMUM = 2
  STANDARD_DEVIATION = 26.1802
END_OBJECT = IMAGE
/* MAP OBJECT DEFINITIONS */
OBJECT = IMAGE_MAP_PROJECTION
  ^DATA_SET_MAP_PROJECTION_CATALOG= "DSMAP.CAT"
  A_AXIS_RADIUS = 3396.0
  B_AXIS_RADIUS = 3396.0
  C_AXIS_RADIUS = 3396.0
  CENTER_LATITUDE = 0.0
  CENTER_LONGITUDE = 47.0
  COORDINATE_SYSTEM_NAME = PLANETOGRAPHIC
  COORDINATE_SYSTEM_TYPE = "BODY-FIXED ROTATING"
  EASTERNMOST_LONGITUDE = 47.1287
  FIRST_STANDARD_PARALLEL = "N/A"
  LINE_FIRST_PIXEL = 1
  LINE_LAST_PIXEL = 7384
  LINE_PROJECTION_OFFSET = 3008.1875
  MAP_PROJECTION_ROTATION = 0.0
  MAP_PROJECTION_TYPE = SINUSOIDAL
  MAP_RESOLUTION = 592.713803866667
  MAP_SCALE = 0.1
  MAXIMUM_LATITUDE = 5.055
  MINIMUM_LATITUDE = -7.39557
  POSITIVE_LONGITUDE_DIRECTION = EAST
  REFERENCE_LATITUDE = "N/A"
  REFERENCE_LONGITUDE = "N/A"
  SAMPLE_FIRST_PIXEL = 1
  SAMPLE_LAST_PIXEL = 701
  SAMPLE_PROJECTION_OFFSET = 627.8125
  SECOND_STANDARD_PARALLEL = "N/A"
  WESTERNMOST_LONGITUDE = 45.9455
END_OBJECT = IMAGE_MAP_PROJECTION
END
